{"text_format":"3","workbook":"xlsx","n_sheets":9,"sheets":["Módulos","Jan-Jun 2024","Jul-Dez 2024","Jan-Jun 2025","Jul-Dez 2025","Jan-Jun 2026","Jul-Dez 2026","Jan-Jun 2027","Jul-Dez 2027"],"not_rendered":{"images":2,"macros":1,"defined_names":10},"read":"whole","date_system":"1900"}

{"sheet":"Módulos","index":0,"n_rows":39,"n_cols":34,"rows_kept":39,"hidden":true,"merged":[[0,0,4,10],[0,26,1,33],[4,26,4,33],[6,0,7,10],[6,11,7,23],[6,26,7,29],[6,30,7,33],[9,0,9,10],[9,11,9,15],[9,17,9,20],[9,26,9,29],[9,30,9,33],[11,0,11,10],[11,29,11,31],[11,32,11,33],[13,0,13,3],[13,4,13,9],[13,12,13,14],[13,18,13,20],[13,21,13,26],[13,29,13,31],[14,0,14,3],[14,4,14,9],[14,12,14,14],[14,18,14,20],[14,21,14,26],[14,29,14,31],[15,0,15,3],[15,4,15,9],[15,12,15,14],[15,18,15,20],[15,21,15,26],[15,29,15,31],[16,0,21,0],[16,4,16,9],[16,12,16,14],[16,18,35,18],[16,21,16,26],[16,29,16,31],[17,4,17,9],[17,12,17,14],[17,21,17,26],[17,29,17,31],[18,4,18,9],[18,12,18,14],[18,21,18,26],[18,29,18,31],[19,4,19,9],[19,12,19,14],[19,21,19,26],[19,29,19,31],[20,4,20,9],[20,12,20,14],[20,21,20,26],[20,29,20,31],[21,4,21,9],[21,12,21,14],[21,21,21,26],[21,29,21,31],[22,21,22,26],[22,29,22,31],[23,21,23,26],[23,29,23,31],[24,21,24,26],[24,29,24,31],[25,21,25,26],[25,29,25,31],[26,21,26,26],[26,29,26,31],[27,21,27,26],[27,29,27,31],[28,21,28,26],[28,29,28,31],[29,21,29,26],[29,29,29,31],[30,21,30,26],[30,29,30,31],[31,21,31,26],[31,29,31,31],[32,21,32,26],[32,29,32,31],[33,21,33,26],[33,29,33,31],[34,21,34,26],[34,29,34,31],[35,21,35,26],[35,29,35,31],[36,21,36,26],[36,29,36,31],[37,18,38,18],[37,21,37,26],[37,29,37,31],[38,21,38,26],[38,29,38,31],[40,18,40,19],[42,2,42,3],[43,0,43,3],[43,4,43,9],[43,12,43,14],[43,18,43,20],[43,21,43,26],[43,29,43,31],[44,0,44,3],[44,4,44,9],[44,12,44,14],[44,18,44,20],[44,21,44,26],[44,29,44,31],[45,0,45,3],[45,4,45,9],[45,12,45,14],[45,18,45,20],[45,21,45,26],[45,29,45,31],[46,0,46,3],[46,4,46,9],[46,12,46,14],[46,18,46,20],[46,21,46,26],[46,29,46,31],[47,0,47,3],[47,4,47,9],[47,12,47,14],[47,18,47,20],[47,21,47,26],[47,29,47,31],[48,0,48,3],[48,4,48,9],[48,12,48,14],[48,18,48,20],[48,21,48,26],[48,29,48,31],[49,0,49,3],[49,4,49,9],[49,12,49,14],[49,18,49,20],[49,21,49,26],[49,29,49,31],[50,0,50,3],[50,4,50,9],[50,12,50,14],[50,18,50,20],[50,21,50,26],[50,29,50,31],[51,0,51,3],[51,4,51,9],[51,12,51,14],[51,18,51,20],[51,21,51,26],[51,29,51,31],[52,0,52,3],[52,4,52,9],[52,12,52,14],[52,18,52,20],[52,21,52,26],[52,29,52,31],[53,0,53,3],[53,4,53,9],[53,12,53,14],[53,18,53,20],[53,21,53,26],[53,29,53,31],[54,0,54,3],[54,4,54,9],[54,12,54,14],[54,18,54,20],[54,21,54,26],[54,29,54,31],[55,0,55,3],[55,4,55,9],[55,12,55,14],[55,18,55,20],[55,21,55,26],[55,29,55,31],[56,0,56,3],[56,4,56,9],[56,12,56,14],[56,18,56,20],[56,21,56,26],[56,29,56,31],[57,0,57,3],[57,4,57,9],[57,12,57,14],[57,18,57,20],[57,21,57,26],[57,29,57,31],[58,0,58,3],[58,4,58,9],[58,12,58,14],[58,18,58,20],[58,21,58,26],[58,29,58,31],[59,0,59,3],[59,4,59,9],[59,12,59,14],[59,18,59,20],[59,21,59,26],[59,29,59,31],[60,0,60,3],[60,4,60,9],[60,12,60,14],[60,18,60,20],[60,21,60,26],[60,29,60,31],[61,0,61,3],[61,4,61,9],[61,12,61,14],[61,18,61,20],[61,21,61,26],[61,29,61,31],[62,0,62,3],[62,4,62,9],[62,12,62,14],[62,18,62,20],[62,21,62,26],[62,29,62,31],[63,0,63,3],[63,4,63,9],[63,12,63,14],[63,18,63,20],[63,21,63,26],[63,29,63,31],[64,0,64,3],[64,4,64,9],[64,12,64,14],[64,18,64,20],[64,21,64,26],[64,29,64,31],[65,0,65,3],[65,4,65,9],[65,12,65,14],[65,18,65,20],[65,21,65,26],[65,29,65,31],[66,0,66,3],[66,4,66,9],[66,12,66,14],[66,18,66,20],[66,21,66,26],[66,29,66,31],[105,2,105,3],[106,2,106,3],[107,2,107,3],[108,2,108,3],[109,2,109,3],[110,2,110,3],[111,2,111,3],[112,2,112,3],[113,2,113,3],[114,2,114,3],[115,2,115,3],[116,2,116,3],[117,2,117,3],[118,2,118,3],[119,2,119,3],[120,2,120,3]]}
[{"$nulls":26},"O(A) Director(a)"]
[]
[]
[]
[{"$nulls":26},"(Cristina Botas)"]
[]
["MODALIDADE: EFA - Manutenção Industrial (Mecatrónica)",{"$nulls":10},"SAÍDA PROFISSIONAL: Técnico/a de Manutenção Industrial de Metalurgia e Metalomecânica",{"$nulls":14},"COD. ACÇÃO: 66610",{"$nulls":3},"       U.O.: Torres Vedras"]
[]
[{"$nulls":4},"        ",{"$nulls":4},"        "]
["PLANEAMENTO: Vítor Caetano",{"$nulls":10},"ANO DE FORMAÇÃO: 2015/2018",{"$nulls":5},"DURAÇÃO (H): 2045",{"$nulls":8},"INÍCIO: 15-12-2015",{"$nulls":3},"FIM: 30-09-2018 (previsto)"]
[{"$nulls":4},"        ",{"$nulls":4},"        "]
["COORDENADOR: Vítor Caetano",{"$nulls":28},"Versão horário: ",null,null,"2015-12-15"]
[]
[]
[]
["Componente",{"$nulls":3},"Módulo",{"$nulls":6},"H","Formador",null,null,"Ini.","Fim",null,"Componente",null,null,"Módulo",{"$nulls":6},"H","Formador",null,null,"Ini.","Fim"]
["Formação Geral e Científica\n",5146,null,"IGO","Introdução à Gestão das Organizações",{"$nulls":5},"B153",25,"Susana Santos",{"$nulls":5},"Formação Tecnologica",6407,"PFL","Processos de Fondição / Ligação",{"$nulls":5},"D333",25,"N. Navalho 9h/P. Inácio 16h"]
[null,5152,null,"GMQ","Gestão e Motivação para a Qualidade",{"$nulls":5},"B155",25,"Nuno Navalho",{"$nulls":6},6408,"PCC","Processos de Conformação / Corte",{"$nulls":5},"D334",25,"N. Navalho 6h/P. Inácio 19h"]
[null,5149,null,"SGQ","Sistama de Gestão da Qualidade ISO 9001",{"$nulls":5},"F369",25,"Nuno Navalho",{"$nulls":6},6409,"PAA","Processos por Arranque de Apara",{"$nulls":5},"C588",25,"Nuno Navalho"]
[null,349,null,"ASHST","Ambiente, Segurança, Higiene e Saúde no Trabalho",{"$nulls":5},"F423",25,"Mónica Batista",{"$nulls":6},6410,"IME","Instalação de máquinas Elétricas",{"$nulls":5},"K252",50,"João Matos"]
[null,5653,null,"DT","Direito do Trabalho",{"$nulls":5},"B154",25,"Marta Saldanha",{"$nulls":6},6411,"ELE","Eletrónica",{"$nulls":5},"K253",50,"Marco Martinho"]
[null,5768,null,"ICS","Inglês em Contexto Socioprofissional",{"$nulls":5},"L046",25,"Helena Abelho",{"$nulls":6},6412,"CP","Circuitos Pneumáticos",{"$nulls":5},"E329",25,"Vítor Caetano"]
[{"$nulls":19},6413,"CH","Circuitos Óleo-Hidráulicos",{"$nulls":5},"E330",25,"Vítor Caetano"]
[{"$nulls":19},6414,"CLP","Controladores Lógicos Programáveis",{"$nulls":5},"C589",50,"João Matos"]
[{"$nulls":19},6415,"DCM","Desenho de Construções Mecânicas",{"$nulls":5},"A438",50,"João Catarino"]
[{"$nulls":19},6416,"CM","Ciência dos Materiais",{"$nulls":5},"C590",50,"Vítor Caetano"]
[{"$nulls":19},6417,"SD","Sistemas Digitais",{"$nulls":5},"I159",50,"Marco Martinho"]
[{"$nulls":19},6418,"OEM","Órgãos e Elementos de Máquinas",{"$nulls":5},"C591",50,"João Catarino"]
[{"$nulls":19},6419,"IP","Introdução à Programação",{"$nulls":5},"I160",50,"Susana Martins"]
[{"$nulls":19},6420,"ELP","Eletrónica de Potência - Fundamentos",{"$nulls":5},"K254",50,"Marco Martinho"]
[{"$nulls":19},6421,"MM","Microprocessadores / Microcontroladores",{"$nulls":5},"I161",50,"Susana Martins"]
[{"$nulls":19},5134,"ROB","Robótica - Fundamentos",{"$nulls":5},"E331",50,"Susana Martins"]
[{"$nulls":19},6422,"METC","Metrologia por Coordenadas",{"$nulls":5},"C592",50,"Vítor Caetano"]
[{"$nulls":19},6423,"CNC","CNC - Comando Numérico por Computador",{"$nulls":5},"C593",50,"André Domingues"]
[{"$nulls":19},6424,"CAM","CAM - Fabricação Assistida por Computador",{"$nulls":5},"C594",50,"André Domingues"]
[{"$nulls":19},6425,"PAC","Projecto Assistido por Computador",{"$nulls":5},"A434",50,"João Catarino"]
[{"$nulls":18},"Estágio",null,"PCT","Prática em Contexto Trabalho",{"$nulls":5},"K259",210,"Tutores"]
[{"$nulls":18},"Projecto Final",null,"APF","Acompanhamento ao Projeto Final",{"$nulls":6},16,"Orientadores"]
[{"$nulls":20},"PFI","Projecto Final Integrado - Apresentação e Discussão",{"$nulls":7},"Júri"]

{"sheet":"Jan-Jun 2024","index":1,"n_rows":76,"n_cols":113,"rows_kept":76,"merged":[[0,25,0,32],[0,34,2,39],[0,40,6,40],[0,41,6,41],[0,42,6,42],[0,43,6,43],[0,44,6,44],[0,45,6,45],[0,46,6,46],[0,47,6,47],[0,48,6,48],[0,50,2,55],[0,56,6,56],[0,57,6,57],[0,58,6,58],[0,59,6,59],[0,60,6,60],[0,61,6,61],[0,62,6,62],[0,63,6,63],[0,64,6,64],[0,66,2,71],[0,72,6,72],[0,73,6,73],[0,74,6,74],[0,75,6,75],[0,76,6,76],[0,77,6,77],[0,78,6,78],[0,79,6,79],[0,80,6,80],[0,111,6,111],[0,112,6,112],[1,25,1,32],[2,25,2,32],[3,25,3,32],[3,34,6,34],[3,35,6,35],[3,36,6,36],[3,37,6,37],[3,38,6,38],[3,39,6,39],[3,50,6,50],[3,51,6,51],[3,52,6,52],[3,53,6,53],[3,54,6,54],[3,55,6,55],[3,66,6,66],[3,67,6,67],[3,68,6,68],[3,69,6,69],[3,70,6,70],[3,71,6,71],[4,0,4,2],[4,3,4,9],[4,10,4,13],[4,14,4,21],[4,22,4,26],[4,27,4,29],[4,30,4,32],[5,0,5,2],[5,3,5,9],[5,10,5,13],[5,14,5,21],[5,22,5,26],[5,27,5,29],[5,30,5,32],[6,0,6,2],[6,3,6,9],[6,10,6,13],[6,14,6,21],[6,22,6,26],[6,27,6,29],[6,30,6,32],[7,0,8,1],[9,0,9,1],[10,0,10,1],[11,0,11,1],[12,0,12,1],[14,0,15,1],[16,0,16,1],[17,0,17,1],[18,0,18,1],[19,0,19,1],[21,0,22,1],[23,0,23,1],[24,0,24,1],[25,0,25,1],[26,0,26,1],[28,0,29,1],[30,0,30,1],[31,0,31,1],[32,0,32,1],[33,0,33,1],[35,0,36,1],[37,0,37,1],[38,0,38,1],[39,0,39,1],[40,0,40,1],[42,0,43,1],[44,0,44,1],[45,0,45,1],[46,0,46,1],[47,0,47,1],[48,2,48,8],[48,11,48,13],[48,17,48,19],[48,20,48,25],[48,28,48,30],[49,0,54,0],[49,3,49,8],[49,11,49,13],[49,17,68,17],[49,20,49,25],[49,28,49,30],[50,3,50,8],[50,11,50,13],[50,20,50,25],[50,28,50,30],[51,3,51,8],[51,11,51,13],[51,20,51,25],[51,28,51,30],[52,3,52,8],[52,11,52,13],[52,20,52,25],[52,28,52,30],[53,3,53,8],[53,11,53,13],[53,20,53,25],[53,28,53,30],[54,3,54,8],[54,11,54,13],[54,20,54,25],[54,28,54,30],[55,20,55,25],[55,28,55,30],[56,3,56,9],[56,20,56,25],[56,28,56,30],[57,4,57,9],[57,20,57,25],[57,28,57,30],[58,4,58,9],[58,20,58,25],[58,28,58,30],[59,4,59,9],[59,20,59,25],[59,28,59,30],[60,20,60,25],[60,28,60,30],[61,3,61,8],[61,20,61,25],[61,28,61,30],[62,20,62,25],[62,28,62,30],[63,3,63,8],[63,20,63,25],[63,28,63,30],[64,20,64,25],[64,28,64,30],[65,20,65,25],[65,28,65,30],[66,20,66,25],[66,28,66,30],[67,2,68,3],[67,20,67,25],[67,28,67,30],[68,20,68,25],[68,28,68,30],[69,20,69,25],[69,28,69,30],[70,4,70,5],[70,6,70,7],[70,8,70,9],[70,17,71,17],[70,20,70,25],[70,28,70,30],[71,20,71,25],[71,28,71,30],[75,34,75,35]]}
[{"$nulls":40},{"$f":"TEXT($A$8,\"mmm\")","v":"jan"},{"$f":"TEXT($A$15,\"mmm\")","v":"fev"},{"$f":"TEXT($A$22,\"mmm\")","v":"mar"},{"$f":"TEXT($A$29,\"mmm\")","v":"abr"},{"$f":"TEXT($A$36,\"mmm\")","v":"mai"},{"$f":"TEXT($A$43,\"mmm\")","v":"jun"},"Total  Folha","Total Global","Total  Acum.",{"$nulls":7},{"$f":"TEXT($A$8,\"mmm\")","v":"jan"},{"$f":"TEXT($A$15,\"mmm\")","v":"fev"},{"$f":"TEXT($A$22,\"mmm\")","v":"mar"},{"$f":"TEXT($A$29,\"mmm\")","v":"abr"},{"$f":"TEXT($A$36,\"mmm\")","v":"mai"},{"$f":"TEXT($A$43,\"mmm\")","v":"jun"},"Total  Folha","Total Global","Total  Acum.",{"$nulls":7},{"$f":"TEXT($A$8,\"mmm\")","v":"jan"},{"$f":"TEXT($A$15,\"mmm\")","v":"fev"},{"$f":"TEXT($A$22,\"mmm\")","v":"mar"},{"$f":"TEXT($A$29,\"mmm\")","v":"abr"},{"$f":"TEXT($A$36,\"mmm\")","v":"mai"},{"$f":"TEXT($A$43,\"mmm\")","v":"jun"},"Total  Folha","Total Global","Total  Acum.",{"$nulls":30},"tipo_soma","tipo_contador"]
[{"$nulls":25},"Director(a):"]
[{"$nulls":25},"(Cristina Botas)"]
[{"$nulls":34},"Tipo","Módulo","ST","Origem","Cálculo","Objetivo",{"$nulls":10},"Tipo","Módulo",{"$f":"AK4","v":"ST"},"Origem","Cálculo","Objetivo",{"$nulls":10},"Tipo","Módulo",{"$f":"AK4","v":"ST"},"Origem","Cálculo","Objetivo"]
["MODALIDADE:",null,null,"CET - Tecnologia Mecatrónica",{"$nulls":6},"CODÍGO DA AÇÃO:",{"$nulls":3},66406,{"$nulls":12},"       U.O.:",null,null,"Torres Vedras"]
["PLANEAMENTO:",null,null,"Vítor Caetano",{"$nulls":6},"SAÍDA PROFISSIONAL: Técnico/a Especialista em Mecatrónica",{"$nulls":3},"Técnico/a Especialista em Mecatrónica",{"$nulls":12},"DATA INÍCIO:",null,null,"2022-11-15"]
["COORDENADOR:",{"$nulls":9},"DURAÇÃO:",{"$nulls":3},"1560 H",{"$nulls":12},"DATA FIM  (previsto):"]
["2024-01-01",null,{"$f":"IF(C9<>\"\",CHOOSE(WEEKDAY(C9,1),\"Dom.\",\"Seg.\",\"Ter.\",\"Qua.\",\"Qui.\",\"Sex.\",\"Sáb.\"),\"\")","v":"Seg."},{"$f":"IF(D9<>\"\",CHOOSE(WEEKDAY(D9,1),\"Dom.\",\"Seg.\",\"Ter.\",\"Qua.\",\"Qui.\",\"Sex.\",\"Sáb.\"),\"\")","v":"Ter."},"Qua.","Qui.","Sex.","Sáb.","Dom.","Seg.","Ter.","Qua.","Qui.","Sex.","Sáb.","Dom.","Seg.","Ter.","Qua.","Qui.","Sex.","Sáb.","Dom.","Seg.","Ter.","Qua.","Qui.","Sex.","Sáb.","Dom.","Seg.","Ter.","Qua.",null,"T","PFL",{"$f":"IF(AI8=$DI$8,AM8,IF(AI8=$DI$9,AM8,IF(AI8=$DI$10,AL8,)))","v":0},{"$f":"IF($AK$4=$DH$8,AU8,IF($AK$4=$DH$9,AV8,IF($AK$4=$DH$10,AW8,IF($AK$4=$DH$11,AO8,IF($AK$4=$DH$12,AP8,IF($AK$4=$DH$13,AQ8,IF($AK$4=$DH$14,AR8,IF($AK$4=$DH$15,AS8,IF($AK$4=$DH$16,AT8,\"\")))))))))","v":0},{"$f":"IF(AI8=$DI$8,AL8,IF(AI8=$DI$9,AM9+AL8,IF(AI8=$DI$10,IF(AI9=$DI$10,AM9+AL8,AL8),)))","v":0},25,{"$f":"COUNTIF($C$10:$AG$13,$AJ8)","v":0},{"$f":"COUNTIF($C$17:$AG$20,$AJ8)","v":0},{"$f":"COUNTIF($C$24:$AG$27,$AJ8)","v":0},{"$f":"COUNTIF($C$31:$AG$34,$AJ8)","v":0},{"$f":"COUNTIF($C$38:$AG$41,$AJ8)","v":0},{"$f":"COUNTIF($C$45:$AG$48,$AJ8)","v":0},{"$f":"SUM(AO8:AT8)","v":0},{"$f":"'Jan-Jun 2024'!AU8+'Jul-Dez 2024'!AU8+'Jan-Jun 2025'!AU8+'Jul-Dez 2025'!AU8+'Jan-Jun 2026'!AU8+'Jul-Dez 2026'!AU8+'Jan-Jun 2027'!AU8+'Jul-Dez 2027'!AU8","v":0},{"$f":"'Jan-Jun 2024'!AU8","v":0},null,"M","IGO",{"$f":"IF(AY8=$DI$8,BC8,IF(AY8=$DI$9,BC8,IF(AY8=$DI$10,BB8,)))","v":0},{"$f":"IF($AK$4=$DH$8,BK8,IF($AK$4=$DH$9,BL8,IF($AK$4=$DH$10,BM8,IF($AK$4=$DH$11,BE8,IF($AK$4=$DH$12,BF8,IF($AK$4=$DH$13,BG8,IF($AK$4=$DH$14,BH8,IF($AK$4=$DH$15,BI8,IF($AK$4=$DH$16,BJ8,\"\")))))))))","v":0},{"$f":"IF(AY8=$DI$8,BB8,IF(AY8=$DI$9,BC9+BB8,IF(AY8=$DI$10,IF(AY9=$DI$10,BC9+BB8,BB8),)))","v":0},25,{"$f":"COUNTIF($C$10:$AG$13,$AZ8)","v":0},{"$f":"COUNTIF($C$17:$AG$20,$AZ8)","v":0},{"$f":"COUNTIF($C$24:$AG$27,$AZ8)","v":0},{"$f":"COUNTIF($C$31:$AG$34,$AZ8)","v":0},{"$f":"COUNTIF($C$38:$AG$41,$AZ8)","v":0},{"$f":"COUNTIF($C$45:$AG$48,$AZ8)","v":0},{"$f":"SUM(BE8:BJ8)","v":0},{"$f":"'Jan-Jun 2024'!BK8+'Jul-Dez 2024'!BK8+'Jan-Jun 2025'!BK8+'Jul-Dez 2025'!BK8+'Jan-Jun 2026'!BK8+'Jul-Dez 2026'!BK8+'Jan-Jun 2027'!BK8+'Jul-Dez 2027'!BK8","v":0},{"$f":"'Jan-Jun 2024'!BK8","v":0},{"$nulls":3},{"$f":"IF(BO8=$DI$8,BS8,IF(BO8=$DI$9,BS8,IF(BO8=$DI$10,BR8,)))","v":0},{"$f":"IF($AK$4=$DH$8,CA8,IF($AK$4=$DH$9,CB8,IF($AK$4=$DH$10,CC8,IF($AK$4=$DH$11,BU8,IF($AK$4=$DH$12,BV8,IF($AK$4=$DH$13,BW8,IF($AK$4=$DH$14,BX8,IF($AK$4=$DH$15,BY8,IF($AK$4=$DH$16,BZ8,\"\")))))))))","v":0},{"$f":"IF(BO8=$DI$8,BR8,IF(BO8=$DI$9,BS9+BR8,IF(BO8=$DI$10,IF(BO9=$DI$10,BS9+BR8,BR8),)))","v":0},null,{"$f":"COUNTIF($C$10:$AG$13,$BP8)","v":0},{"$f":"COUNTIF($C$17:$AG$20,$BP8)","v":0},{"$f":"COUNTIF($C$24:$AG$27,$BP8)","v":0},{"$f":"COUNTIF($C$31:$AG$34,$BP8)","v":0},{"$f":"COUNTIF($C$38:$AG$41,$BP8)","v":0},{"$f":"COUNTIF($C$45:$AG$48,$BP8)","v":0},{"$f":"SUM(BU8:BZ8)","v":0},{"$f":"'Jan-Jun 2024'!CA8+'Jul-Dez 2024'!CA8+'Jan-Jun 2025'!CA8+'Jul-Dez 2025'!CA8+'Jan-Jun 2026'!CA8+'Jul-Dez 2026'!CA8+'Jan-Jun 2027'!CA8+'Jul-Dez 2027'!CA8","v":0},{"$f":"'Jan-Jun 2024'!CA8","v":0},{"$nulls":30},"SF","M"]
[null,null,{"$f":"A8","v":"2024-01-01"},{"$f":"IF(C9=\"\",\"\",IF(DAY(C9)<DAY(EOMONTH(C9,0)),C9+1,\"\"))","v":"2024-01-02"},{"$f":"IF(D9=\"\",\"\",IF(DAY(D9)<DAY(EOMONTH(D9,0)),D9+1,\"\"))","v":"2024-01-03"},"2024-01-04","2024-01-05","2024-01-06","2024-01-07","2024-01-08",{"$f":"IF(J9=\"\",\"\",IF(DAY(J9)<DAY(EOMONTH(J9,0)),J9+1,\"\"))","v":"2024-01-09"},{"$f":"IF(K9=\"\",\"\",IF(DAY(K9)<DAY(EOMONTH(K9,0)),K9+1,\"\"))","v":"2024-01-10"},"2024-01-11","2024-01-12","2024-01-13","2024-01-14","2024-01-15",{"$f":"IF(Q9=\"\",\"\",IF(DAY(Q9)<DAY(EOMONTH(Q9,0)),Q9+1,\"\"))","v":"2024-01-16"},{"$f":"IF(R9=\"\",\"\",IF(DAY(R9)<DAY(EOMONTH(R9,0)),R9+1,\"\"))","v":"2024-01-17"},"2024-01-18","2024-01-19","2024-01-20","2024-01-21","2024-01-22",{"$f":"IF(X9=\"\",\"\",IF(DAY(X9)<DAY(EOMONTH(X9,0)),X9+1,\"\"))","v":"2024-01-23"},{"$f":"IF(Y9=\"\",\"\",IF(DAY(Y9)<DAY(EOMONTH(Y9,0)),Y9+1,\"\"))","v":"2024-01-24"},"2024-01-25","2024-01-26","2024-01-27","2024-01-28","2024-01-29",{"$f":"IF(AE9=\"\",\"\",IF(DAY(AE9)<DAY(EOMONTH(AE9,0)),AE9+1,\"\"))","v":"2024-01-30"},{"$f":"IF(AF9=\"\",\"\",IF(DAY(AF9)<DAY(EOMONTH(AF9,0)),AF9+1,\"\"))","v":"2024-01-31"},null,"P","PFL1",{"$f":"IF(AI9=$DI$8,AM9,IF(AI9=$DI$9,AM9,IF(AI9=$DI$10,AL9,)))","v":0},0,{"$f":"IF(AI9=$DI$8,AL9,IF(AI9=$DI$9,AM10+AL9,IF(AI9=$DI$10,IF(AI10=$DI$10,AM10+AL9,AL9),)))","v":0},7,{"$f":"COUNTIF($C$10:$AG$13,$AJ9)","v":0},{"$f":"COUNTIF($C$17:$AG$20,$AJ9)","v":0},{"$f":"COUNTIF($C$24:$AG$27,$AJ9)","v":0},{"$f":"COUNTIF($C$31:$AG$34,$AJ9)","v":0},{"$f":"COUNTIF($C$38:$AG$41,$AJ9)","v":0},{"$f":"COUNTIF($C$45:$AG$48,$AJ9)","v":0},{"$f":"SUM(AO9:AT9)","v":0},{"$f":"'Jan-Jun 2024'!AU9+'Jul-Dez 2024'!AU9+'Jan-Jun 2025'!AU9+'Jul-Dez 2025'!AU9+'Jan-Jun 2026'!AU9+'Jul-Dez 2026'!AU9+'Jan-Jun 2027'!AU9+'Jul-Dez 2027'!AU9","v":0},{"$f":"'Jan-Jun 2024'!AU9","v":0},{"$nulls":3},{"$f":"IF(AY9=$DI$8,BC9,IF(AY9=$DI$9,BC9,IF(AY9=$DI$10,BB9,)))","v":0},0,{"$f":"IF(AY9=$DI$8,BB9,IF(AY9=$DI$9,BC10+BB9,IF(AY9=$DI$10,IF(AY10=$DI$10,BC10+BB9,BB9),)))","v":0},null,{"$f":"COUNTIF($C$10:$AG$13,$AZ9)","v":0},{"$f":"COUNTIF($C$17:$AG$20,$AZ9)","v":0},{"$f":"COUNTIF($C$24:$AG$27,$AZ9)","v":0},{"$f":"COUNTIF($C$31:$AG$34,$AZ9)","v":0},{"$f":"COUNTIF($C$38:$AG$41,$AZ9)","v":0},{"$f":"COUNTIF($C$45:$AG$48,$AZ9)","v":0},{"$f":"SUM(BE9:BJ9)","v":0},{"$f":"'Jan-Jun 2024'!BK9+'Jul-Dez 2024'!BK9+'Jan-Jun 2025'!BK9+'Jul-Dez 2025'!BK9+'Jan-Jun 2026'!BK9+'Jul-Dez 2026'!BK9+'Jan-Jun 2027'!BK9+'Jul-Dez 2027'!BK9","v":0},{"$f":"'Jan-Jun 2024'!BK9","v":0},{"$nulls":3},{"$f":"IF(BO9=$DI$8,BS9,IF(BO9=$DI$9,BS9,IF(BO9=$DI$10,BR9,)))","v":0},0,{"$f":"IF(BO9=$DI$8,BR9,IF(BO9=$DI$9,BS10+BR9,IF(BO9=$DI$10,IF(BO10=$DI$10,BS10+BR9,BR9),)))","v":0},null,{"$f":"COUNTIF($C$10:$AG$13,$BP9)","v":0},{"$f":"COUNTIF($C$17:$AG$20,$BP9)","v":0},{"$f":"COUNTIF($C$24:$AG$27,$BP9)","v":0},{"$f":"COUNTIF($C$31:$AG$34,$BP9)","v":0},{"$f":"COUNTIF($C$38:$AG$41,$BP9)","v":0},{"$f":"COUNTIF($C$45:$AG$48,$BP9)","v":0},{"$f":"SUM(BU9:BZ9)","v":0},{"$f":"'Jan-Jun 2024'!CA9+'Jul-Dez 2024'!CA9+'Jan-Jun 2025'!CA9+'Jul-Dez 2025'!CA9+'Jan-Jun 2026'!CA9+'Jul-Dez 2026'!CA9+'Jan-Jun 2027'!CA9+'Jul-Dez 2027'!CA9","v":0},{"$f":"'Jan-Jun 2024'!CA9","v":0},{"$nulls":30},"ST","T"]
["19h20 - 20h10",{"$nulls":33},"P","PFL2",0,0,0,18,0,0,0,0,0,0,0,{"$f":"'Jan-Jun 2024'!AU10+'Jul-Dez 2024'!AU10+'Jan-Jun 2025'!AU10+'Jul-Dez 2025'!AU10+'Jan-Jun 2026'!AU10+'Jul-Dez 2026'!AU10+'Jan-Jun 2027'!AU10+'Jul-Dez 2027'!AU10","v":0},{"$f":"'Jan-Jun 2024'!AU10","v":0},{"$nulls":3},0,0,0,null,0,0,0,0,0,0,0,{"$f":"'Jan-Jun 2024'!BK10+'Jul-Dez 2024'!BK10+'Jan-Jun 2025'!BK10+'Jul-Dez 2025'!BK10+'Jan-Jun 2026'!BK10+'Jul-Dez 2026'!BK10+'Jan-Jun 2027'!BK10+'Jul-Dez 2027'!BK10","v":0},{"$f":"'Jan-Jun 2024'!BK10","v":0},{"$nulls":3},0,0,0,null,0,0,0,0,0,0,0,{"$f":"'Jan-Jun 2024'!CA10+'Jul-Dez 2024'!CA10+'Jan-Jun 2025'!CA10+'Jul-Dez 2025'!CA10+'Jan-Jun 2026'!CA10+'Jul-Dez 2026'!CA10+'Jan-Jun 2027'!CA10+'Jul-Dez 2027'!CA10","v":0},{"$f":"'Jan-Jun 2024'!CA10","v":0},{"$nulls":30},"SA","P"]
["20h10 - 21h00",null,"Ano",{"$nulls":33},0,0,0,null,0,0,0,0,0,0,0,{"$f":"'Jan-Jun 2024'!AU11+'Jul-Dez 2024'!AU11+'Jan-Jun 2025'!AU11+'Jul-Dez 2025'!AU11+'Jan-Jun 2026'!AU11+'Jul-Dez 2026'!AU11+'Jan-Jun 2027'!AU11+'Jul-Dez 2027'!AU11","v":0},{"$f":"'Jan-Jun 2024'!AU11","v":0},null,"M","GMQ",0,0,0,25,0,0,0,0,0,0,0,{"$f":"'Jan-Jun 2024'!BK11+'Jul-Dez 2024'!BK11+'Jan-Jun 2025'!BK11+'Jul-Dez 2025'!BK11+'Jan-Jun 2026'!BK11+'Jul-Dez 2026'!BK11+'Jan-Jun 2027'!BK11+'Jul-Dez 2027'!BK11","v":0},{"$f":"'Jan-Jun 2024'!BK11","v":0},{"$nulls":3},0,0,0,null,0,0,0,0,0,0,0,{"$f":"'Jan-Jun 2024'!CA11+'Jul-Dez 2024'!CA11+'Jan-Jun 2025'!CA11+'Jul-Dez 2025'!CA11+'Jan-Jun 2026'!CA11+'Jul-Dez 2026'!CA11+'Jan-Jun 2027'!CA11+'Jul-Dez 2027'!CA11","v":0},{"$f":"'Jan-Jun 2024'!CA11","v":0},{"$nulls":30},{"$f":"TEXT(A8,\"mmm\")","v":"jan"}]
["21h20 - 22h10",null,"Novo",{"$nulls":31},"T","PCC",0,0,0,25,0,0,0,0,0,0,0,{"$f":"'Jan-Jun 2024'!AU12+'Jul-Dez 2024'!AU12+'Jan-Jun 2025'!AU12+'Jul-Dez 2025'!AU12+'Jan-Jun 2026'!AU12+'Jul-Dez 2026'!AU12+'Jan-Jun 2027'!AU12+'Jul-Dez 2027'!AU12","v":0},{"$f":"'Jan-Jun 2024'!AU12","v":0},{"$nulls":3},0,0,0,null,0,0,0,0,0,0,0,{"$f":"'Jan-Jun 2024'!BK12+'Jul-Dez 2024'!BK12+'Jan-Jun 2025'!BK12+'Jul-Dez 2025'!BK12+'Jan-Jun 2026'!BK12+'Jul-Dez 2026'!BK12+'Jan-Jun 2027'!BK12+'Jul-Dez 2027'!BK12","v":0},{"$f":"'Jan-Jun 2024'!BK12","v":0},{"$nulls":3},0,0,0,null,0,0,0,0,0,0,0,{"$f":"'Jan-Jun 2024'!CA12+'Jul-Dez 2024'!CA12+'Jan-Jun 2025'!CA12+'Jul-Dez 2025'!CA12+'Jan-Jun 2026'!CA12+'Jul-Dez 2026'!CA12+'Jan-Jun 2027'!CA12+'Jul-Dez 2027'!CA12","v":0},{"$f":"'Jan-Jun 2024'!CA12","v":0},{"$nulls":30},{"$f":"TEXT(A15,\"mmm\")","v":"fev"}]
["22h10 - 23h00",{"$nulls":33},"P","PCC1",0,0,0,7,0,0,0,0,0,0,0,{"$f":"'Jan-Jun 2024'!AU13+'Jul-Dez 2024'!AU13+'Jan-Jun 2025'!AU13+'Jul-Dez 2025'!AU13+'Jan-Jun 2026'!AU13+'Jul-Dez 2026'!AU13+'Jan-Jun 2027'!AU13+'Jul-Dez 2027'!AU13","v":0},{"$f":"'Jan-Jun 2024'!AU13","v":0},{"$nulls":3},0,0,0,null,0,0,0,0,0,0,0,{"$f":"'Jan-Jun 2024'!BK13+'Jul-Dez 2024'!BK13+'Jan-Jun 2025'!BK13+'Jul-Dez 2025'!BK13+'Jan-Jun 2026'!BK13+'Jul-Dez 2026'!BK13+'Jan-Jun 2027'!BK13+'Jul-Dez 2027'!BK13","v":0},{"$f":"'Jan-Jun 2024'!BK13","v":0},{"$nulls":3},0,0,0,null,0,0,0,0,0,0,0,{"$f":"'Jan-Jun 2024'!CA13+'Jul-Dez 2024'!CA13+'Jan-Jun 2025'!CA13+'Jul-Dez 2025'!CA13+'Jan-Jun 2026'!CA13+'Jul-Dez 2026'!CA13+'Jan-Jun 2027'!CA13+'Jul-Dez 2027'!CA13","v":0},{"$f":"'Jan-Jun 2024'!CA13","v":0},{"$nulls":30},{"$f":"TEXT(A22,\"mmm\")","v":"mar"}]
[{"$nulls":34},"P","PCC2",0,0,0,18,0,0,0,0,0,0,0,{"$f":"'Jan-Jun 2024'!AU14+'Jul-Dez 2024'!AU14+'Jan-Jun 2025'!AU14+'Jul-Dez 2025'!AU14+'Jan-Jun 2026'!AU14+'Jul-Dez 2026'!AU14+'Jan-Jun 2027'!AU14+'Jul-Dez 2027'!AU14","v":0},{"$f":"'Jan-Jun 2024'!AU14","v":0},null,"M","SGQ",0,0,0,25,0,0,0,0,0,0,0,{"$f":"'Jan-Jun 2024'!BK14+'Jul-Dez 2024'!BK14+'Jan-Jun 2025'!BK14+'Jul-Dez 2025'!BK14+'Jan-Jun 2026'!BK14+'Jul-Dez 2026'!BK14+'Jan-Jun 2027'!BK14+'Jul-Dez 2027'!BK14","v":0},{"$f":"'Jan-Jun 2024'!BK14","v":0},{"$nulls":3},0,0,0,null,0,0,0,0,0,0,0,{"$f":"'Jan-Jun 2024'!CA14+'Jul-Dez 2024'!CA14+'Jan-Jun 2025'!CA14+'Jul-Dez 2025'!CA14+'Jan-Jun 2026'!CA14+'Jul-Dez 2026'!CA14+'Jan-Jun 2027'!CA14+'Jul-Dez 2027'!CA14","v":0},{"$f":"'Jan-Jun 2024'!CA14","v":0},{"$nulls":30},{"$f":"TEXT(A29,\"mmm\")","v":"abr"}]
[{"$f":"A8+DAY(EOMONTH(A8,0))","v":"2024-02-01"},null,{"$f":"IF(C16<>\"\",CHOOSE(WEEKDAY(C16,1),\"Dom.\",\"Seg.\",\"Ter.\",\"Qua.\",\"Qui.\",\"Sex.\",\"Sáb.\"),\"\")","v":"Qui."},{"$f":"IF(D16<>\"\",CHOOSE(WEEKDAY(D16,1),\"Dom.\",\"Seg.\",\"Ter.\",\"Qua.\",\"Qui.\",\"Sex.\",\"Sáb.\"),\"\")","v":"Sex."},"Sáb.","Dom.","Seg.","Ter.","Qua.","Qui.","Sex.","Sáb.","Dom.","Seg.","Ter.","Qua.","Qui.","Sex.","Sáb.","Dom.","Seg.","Ter.","Qua.","Qui.","Sex.","Sáb.","Dom.","Seg.","Ter.","Qua.","Qui.","","",{"$nulls":3},0,0,0,null,0,0,0,0,0,0,0,{"$f":"'Jan-Jun 2024'!AU15+'Jul-Dez 2024'!AU15+'Jan-Jun 2025'!AU15+'Jul-Dez 2025'!AU15+'Jan-Jun 2026'!AU15+'Jul-Dez 2026'!AU15+'Jan-Jun 2027'!AU15+'Jul-Dez 2027'!AU15","v":0},{"$f":"'Jan-Jun 2024'!AU15","v":0},{"$nulls":3},0,0,0,null,0,0,0,0,0,0,0,{"$f":"'Jan-Jun 2024'!BK15+'Jul-Dez 2024'!BK15+'Jan-Jun 2025'!BK15+'Jul-Dez 2025'!BK15+'Jan-Jun 2026'!BK15+'Jul-Dez 2026'!BK15+'Jan-Jun 2027'!BK15+'Jul-Dez 2027'!BK15","v":0},{"$f":"'Jan-Jun 2024'!BK15","v":0},{"$nulls":3},0,0,0,null,0,0,0,0,0,0,0,{"$f":"'Jan-Jun 2024'!CA15+'Jul-Dez 2024'!CA15+'Jan-Jun 2025'!CA15+'Jul-Dez 2025'!CA15+'Jan-Jun 2026'!CA15+'Jul-Dez 2026'!CA15+'Jan-Jun 2027'!CA15+'Jul-Dez 2027'!CA15","v":0},{"$f":"'Jan-Jun 2024'!CA15","v":0},{"$nulls":30},{"$f":"TEXT(A36,\"mmm\")","v":"mai"}]
[null,null,{"$f":"A15","v":"2024-02-01"},{"$f":"IF(C16=\"\",\"\",IF(DAY(C16)<DAY(EOMONTH(C16,0)),C16+1,\"\"))","v":"2024-02-02"},"2024-02-03","2024-02-04","2024-02-05","2024-02-06","2024-02-07","2024-02-08","2024-02-09","2024-02-10","2024-02-11","2024-02-12","2024-02-13","2024-02-14","2024-02-15","2024-02-16","2024-02-17","2024-02-18","2024-02-19","2024-02-20","2024-02-21","2024-02-22","2024-02-23","2024-02-24","2024-02-25","2024-02-26","2024-02-27","2024-02-28","2024-02-29","","",null,"M","PAA",0,0,0,25,0,0,0,0,0,0,0,{"$f":"'Jan-Jun 2024'!AU16+'Jul-Dez 2024'!AU16+'Jan-Jun 2025'!AU16+'Jul-Dez 2025'!AU16+'Jan-Jun 2026'!AU16+'Jul-Dez 2026'!AU16+'Jan-Jun 2027'!AU16+'Jul-Dez 2027'!AU16","v":0},{"$f":"'Jan-Jun 2024'!AU16","v":0},{"$nulls":3},0,0,0,null,0,0,0,0,0,0,0,{"$f":"'Jan-Jun 2024'!BK16+'Jul-Dez 2024'!BK16+'Jan-Jun 2025'!BK16+'Jul-Dez 2025'!BK16+'Jan-Jun 2026'!BK16+'Jul-Dez 2026'!BK16+'Jan-Jun 2027'!BK16+'Jul-Dez 2027'!BK16","v":0},{"$f":"'Jan-Jun 2024'!BK16","v":0},{"$nulls":3},0,0,0,null,0,0,0,0,0,0,0,{"$f":"'Jan-Jun 2024'!CA16+'Jul-Dez 2024'!CA16+'Jan-Jun 2025'!CA16+'Jul-Dez 2025'!CA16+'Jan-Jun 2026'!CA16+'Jul-Dez 2026'!CA16+'Jan-Jun 2027'!CA16+'Jul-Dez 2027'!CA16","v":0},{"$f":"'Jan-Jun 2024'!CA16","v":0},{"$nulls":30},{"$f":"TEXT(A43,\"mmm\")","v":"jun"}]
["19h20 - 20h10",{"$nulls":33},"M","IME",0,0,0,50,0,0,0,0,0,0,0,{"$f":"'Jan-Jun 2024'!AU17+'Jul-Dez 2024'!AU17+'Jan-Jun 2025'!AU17+'Jul-Dez 2025'!AU17+'Jan-Jun 2026'!AU17+'Jul-Dez 2026'!AU17+'Jan-Jun 2027'!AU17+'Jul-Dez 2027'!AU17","v":0},{"$f":"'Jan-Jun 2024'!AU17","v":0},null,"M","ASHST",0,0,0,25,0,0,0,0,0,0,0,{"$f":"'Jan-Jun 2024'!BK17+'Jul-Dez 2024'!BK17+'Jan-Jun 2025'!BK17+'Jul-Dez 2025'!BK17+'Jan-Jun 2026'!BK17+'Jul-Dez 2026'!BK17+'Jan-Jun 2027'!BK17+'Jul-Dez 2027'!BK17","v":0},{"$f":"'Jan-Jun 2024'!BK17","v":0},{"$nulls":3},0,0,0,null,0,0,0,0,0,0,0,{"$f":"'Jan-Jun 2024'!CA17+'Jul-Dez 2024'!CA17+'Jan-Jun 2025'!CA17+'Jul-Dez 2025'!CA17+'Jan-Jun 2026'!CA17+'Jul-Dez 2026'!CA17+'Jan-Jun 2027'!CA17+'Jul-Dez 2027'!CA17","v":0},{"$f":"'Jan-Jun 2024'!CA17","v":0}]
["20h10 - 21h00",{"$nulls":13},"Entrudo",{"$nulls":19},"M","ELE",0,0,0,50,0,0,0,0,0,0,0,{"$f":"'Jan-Jun 2024'!AU18+'Jul-Dez 2024'!AU18+'Jan-Jun 2025'!AU18+'Jul-Dez 2025'!AU18+'Jan-Jun 2026'!AU18+'Jul-Dez 2026'!AU18+'Jan-Jun 2027'!AU18+'Jul-Dez 2027'!AU18","v":0},{"$f":"'Jan-Jun 2024'!AU18","v":0},null,"T","DT",0,0,0,25,0,0,0,0,0,0,0,{"$f":"'Jan-Jun 2024'!BK18+'Jul-Dez 2024'!BK18+'Jan-Jun 2025'!BK18+'Jul-Dez 2025'!BK18+'Jan-Jun 2026'!BK18+'Jul-Dez 2026'!BK18+'Jan-Jun 2027'!BK18+'Jul-Dez 2027'!BK18","v":0},{"$f":"'Jan-Jun 2024'!BK18","v":0},{"$nulls":3},0,0,0,null,0,0,0,0,0,0,0,{"$f":"'Jan-Jun 2024'!CA18+'Jul-Dez 2024'!CA18+'Jan-Jun 2025'!CA18+'Jul-Dez 2025'!CA18+'Jan-Jun 2026'!CA18+'Jul-Dez 2026'!CA18+'Jan-Jun 2027'!CA18+'Jul-Dez 2027'!CA18","v":0},{"$f":"'Jan-Jun 2024'!CA18","v":0}]
["21h20 - 22h10",{"$nulls":33},"M","CP",0,0,0,25,0,0,0,0,0,0,0,{"$f":"'Jan-Jun 2024'!AU19+'Jul-Dez 2024'!AU19+'Jan-Jun 2025'!AU19+'Jul-Dez 2025'!AU19+'Jan-Jun 2026'!AU19+'Jul-Dez 2026'!AU19+'Jan-Jun 2027'!AU19+'Jul-Dez 2027'!AU19","v":0},{"$f":"'Jan-Jun 2024'!AU19","v":0},{"$nulls":3},0,0,0,null,0,0,0,0,0,0,0,{"$f":"'Jan-Jun 2024'!BK19+'Jul-Dez 2024'!BK19+'Jan-Jun 2025'!BK19+'Jul-Dez 2025'!BK19+'Jan-Jun 2026'!BK19+'Jul-Dez 2026'!BK19+'Jan-Jun 2027'!BK19+'Jul-Dez 2027'!BK19","v":0},{"$f":"'Jan-Jun 2024'!BK19","v":0},{"$nulls":3},0,0,0,null,0,0,0,0,0,0,0,{"$f":"'Jan-Jun 2024'!CA19+'Jul-Dez 2024'!CA19+'Jan-Jun 2025'!CA19+'Jul-Dez 2025'!CA19+'Jan-Jun 2026'!CA19+'Jul-Dez 2026'!CA19+'Jan-Jun 2027'!CA19+'Jul-Dez 2027'!CA19","v":0},{"$f":"'Jan-Jun 2024'!CA19","v":0}]
["22h10 - 23h00",{"$nulls":35},0,0,0,null,0,0,0,0,0,0,0,{"$f":"'Jan-Jun 2024'!AU20+'Jul-Dez 2024'!AU20+'Jan-Jun 2025'!AU20+'Jul-Dez 2025'!AU20+'Jan-Jun 2026'!AU20+'Jul-Dez 2026'!AU20+'Jan-Jun 2027'!AU20+'Jul-Dez 2027'!AU20","v":0},{"$f":"'Jan-Jun 2024'!AU20","v":0},{"$nulls":3},0,0,0,null,0,0,0,0,0,0,0,{"$f":"'Jan-Jun 2024'!BK20+'Jul-Dez 2024'!BK20+'Jan-Jun 2025'!BK20+'Jul-Dez 2025'!BK20+'Jan-Jun 2026'!BK20+'Jul-Dez 2026'!BK20+'Jan-Jun 2027'!BK20+'Jul-Dez 2027'!BK20","v":0},{"$f":"'Jan-Jun 2024'!BK20","v":0},{"$nulls":3},0,0,0,null,0,0,0,0,0,0,0,{"$f":"'Jan-Jun 2024'!CA20+'Jul-Dez 2024'!CA20+'Jan-Jun 2025'!CA20+'Jul-Dez 2025'!CA20+'Jan-Jun 2026'!CA20+'Jul-Dez 2026'!CA20+'Jan-Jun 2027'!CA20+'Jul-Dez 2027'!CA20","v":0},{"$f":"'Jan-Jun 2024'!CA20","v":0}]
[{"$nulls":36},0,0,0,null,0,0,0,0,0,0,0,{"$f":"'Jan-Jun 2024'!AU21+'Jul-Dez 2024'!AU21+'Jan-Jun 2025'!AU21+'Jul-Dez 2025'!AU21+'Jan-Jun 2026'!AU21+'Jul-Dez 2026'!AU21+'Jan-Jun 2027'!AU21+'Jul-Dez 2027'!AU21","v":0},{"$f":"'Jan-Jun 2024'!AU21","v":0},{"$nulls":3},0,0,0,null,0,0,0,0,0,0,0,{"$f":"'Jan-Jun 2024'!BK21+'Jul-Dez 2024'!BK21+'Jan-Jun 2025'!BK21+'Jul-Dez 2025'!BK21+'Jan-Jun 2026'!BK21+'Jul-Dez 2026'!BK21+'Jan-Jun 2027'!BK21+'Jul-Dez 2027'!BK21","v":0},{"$f":"'Jan-Jun 2024'!BK21","v":0},{"$nulls":3},0,0,0,null,0,0,0,0,0,0,0,{"$f":"'Jan-Jun 2024'!CA21+'Jul-Dez 2024'!CA21+'Jan-Jun 2025'!CA21+'Jul-Dez 2025'!CA21+'Jan-Jun 2026'!CA21+'Jul-Dez 2026'!CA21+'Jan-Jun 2027'!CA21+'Jul-Dez 2027'!CA21","v":0},{"$f":"'Jan-Jun 2024'!CA21","v":0}]
[{"$f":"A15+DAY(EOMONTH(A15,0))","v":"2024-03-01"},null,{"$f":"IF(C23<>\"\",CHOOSE(WEEKDAY(C23,1),\"Dom.\",\"Seg.\",\"Ter.\",\"Qua.\",\"Qui.\",\"Sex.\",\"Sáb.\"),\"\")","v":"Sex."},{"$f":"IF(D23<>\"\",CHOOSE(WEEKDAY(D23,1),\"Dom.\",\"Seg.\",\"Ter.\",\"Qua.\",\"Qui.\",\"Sex.\",\"Sáb.\"),\"\")","v":"Sáb."},"Dom.","Seg.","Ter.","Qua.","Qui.","Sex.","Sáb.","Dom.","Seg.","Ter.","Qua.","Qui.","Sex.","Sáb.","Dom.","Seg.","Ter.","Qua.","Qui.","Sex.","Sáb.","Dom.","Seg.","Ter.","Qua.","Qui.","Sex.","Sáb.","Dom.",{"$nulls":3},0,0,0,null,0,0,0,0,0,0,0,{"$f":"'Jan-Jun 2024'!AU22+'Jul-Dez 2024'!AU22+'Jan-Jun 2025'!AU22+'Jul-Dez 2025'!AU22+'Jan-Jun 2026'!AU22+'Jul-Dez 2026'!AU22+'Jan-Jun 2027'!AU22+'Jul-Dez 2027'!AU22","v":0},{"$f":"'Jan-Jun 2024'!AU22","v":0},null,"M","ICS",0,0,0,25,0,0,0,0,0,0,0,{"$f":"'Jan-Jun 2024'!BK22+'Jul-Dez 2024'!BK22+'Jan-Jun 2025'!BK22+'Jul-Dez 2025'!BK22+'Jan-Jun 2026'!BK22+'Jul-Dez 2026'!BK22+'Jan-Jun 2027'!BK22+'Jul-Dez 2027'!BK22","v":0},{"$f":"'Jan-Jun 2024'!BK22","v":0},{"$nulls":3},0,0,0,null,0,0,0,0,0,0,0,{"$f":"'Jan-Jun 2024'!CA22+'Jul-Dez 2024'!CA22+'Jan-Jun 2025'!CA22+'Jul-Dez 2025'!CA22+'Jan-Jun 2026'!CA22+'Jul-Dez 2026'!CA22+'Jan-Jun 2027'!CA22+'Jul-Dez 2027'!CA22","v":0},{"$f":"'Jan-Jun 2024'!CA22","v":0}]
[null,null,{"$f":"A22","v":"2024-03-01"},{"$f":"IF(C23=\"\",\"\",IF(DAY(C23)<DAY(EOMONTH(C23,0)),C23+1,\"\"))","v":"2024-03-02"},"2024-03-03","2024-03-04","2024-03-05","2024-03-06","2024-03-07","2024-03-08","2024-03-09","2024-03-10","2024-03-11","2024-03-12","2024-03-13","2024-03-14","2024-03-15","2024-03-16","2024-03-17","2024-03-18","2024-03-19","2024-03-20","2024-03-21","2024-03-22","2024-03-23","2024-03-24","2024-03-25","2024-03-26","2024-03-27","2024-03-28","2024-03-29","2024-03-30","2024-03-31",null,"M","CH",0,0,0,25,0,0,0,0,0,0,0,{"$f":"'Jan-Jun 2024'!AU23+'Jul-Dez 2024'!AU23+'Jan-Jun 2025'!AU23+'Jul-Dez 2025'!AU23+'Jan-Jun 2026'!AU23+'Jul-Dez 2026'!AU23+'Jan-Jun 2027'!AU23+'Jul-Dez 2027'!AU23","v":0},{"$f":"'Jan-Jun 2024'!AU23","v":0},{"$nulls":3},0,0,0,null,0,0,0,0,0,0,0,{"$f":"'Jan-Jun 2024'!BK23+'Jul-Dez 2024'!BK23+'Jan-Jun 2025'!BK23+'Jul-Dez 2025'!BK23+'Jan-Jun 2026'!BK23+'Jul-Dez 2026'!BK23+'Jan-Jun 2027'!BK23+'Jul-Dez 2027'!BK23","v":0},{"$f":"'Jan-Jun 2024'!BK23","v":0},{"$nulls":3},0,0,0,null,0,0,0,0,0,0,0,{"$f":"'Jan-Jun 2024'!CA23+'Jul-Dez 2024'!CA23+'Jan-Jun 2025'!CA23+'Jul-Dez 2025'!CA23+'Jan-Jun 2026'!CA23+'Jul-Dez 2026'!CA23+'Jan-Jun 2027'!CA23+'Jul-Dez 2027'!CA23","v":0},{"$f":"'Jan-Jun 2024'!CA23","v":0}]
["19h20 - 20h10",{"$nulls":29},"Sexta",{"$nulls":3},"M","CLP",0,0,0,50,0,0,0,0,0,0,0,{"$f":"'Jan-Jun 2024'!AU24+'Jul-Dez 2024'!AU24+'Jan-Jun 2025'!AU24+'Jul-Dez 2025'!AU24+'Jan-Jun 2026'!AU24+'Jul-Dez 2026'!AU24+'Jan-Jun 2027'!AU24+'Jul-Dez 2027'!AU24","v":0},{"$f":"'Jan-Jun 2024'!AU24","v":0},{"$nulls":3},0,0,0,null,0,0,0,0,0,0,0,{"$f":"'Jan-Jun 2024'!BK24+'Jul-Dez 2024'!BK24+'Jan-Jun 2025'!BK24+'Jul-Dez 2025'!BK24+'Jan-Jun 2026'!BK24+'Jul-Dez 2026'!BK24+'Jan-Jun 2027'!BK24+'Jul-Dez 2027'!BK24","v":0},{"$f":"'Jan-Jun 2024'!BK24","v":0},{"$nulls":3},0,0,0,null,0,0,0,0,0,0,0,{"$f":"'Jan-Jun 2024'!CA24+'Jul-Dez 2024'!CA24+'Jan-Jun 2025'!CA24+'Jul-Dez 2025'!CA24+'Jan-Jun 2026'!CA24+'Jul-Dez 2026'!CA24+'Jan-Jun 2027'!CA24+'Jul-Dez 2027'!CA24","v":0},{"$f":"'Jan-Jun 2024'!CA24","v":0}]
["20h10 - 21h00",{"$nulls":29},"Feira",null,"Pascoa",{"$nulls":3},0,0,0,null,0,0,0,0,0,0,0,{"$f":"'Jan-Jun 2024'!AU25+'Jul-Dez 2024'!AU25+'Jan-Jun 2025'!AU25+'Jul-Dez 2025'!AU25+'Jan-Jun 2026'!AU25+'Jul-Dez 2026'!AU25+'Jan-Jun 2027'!AU25+'Jul-Dez 2027'!AU25","v":0},{"$f":"'Jan-Jun 2024'!AU25","v":0},{"$nulls":3},0,0,0,null,0,0,0,0,0,0,0,{"$f":"'Jan-Jun 2024'!BK25+'Jul-Dez 2024'!BK25+'Jan-Jun 2025'!BK25+'Jul-Dez 2025'!BK25+'Jan-Jun 2026'!BK25+'Jul-Dez 2026'!BK25+'Jan-Jun 2027'!BK25+'Jul-Dez 2027'!BK25","v":0},{"$f":"'Jan-Jun 2024'!BK25","v":0},{"$nulls":3},0,0,0,null,0,0,0,0,0,0,0,{"$f":"'Jan-Jun 2024'!CA25+'Jul-Dez 2024'!CA25+'Jan-Jun 2025'!CA25+'Jul-Dez 2025'!CA25+'Jan-Jun 2026'!CA25+'Jul-Dez 2026'!CA25+'Jan-Jun 2027'!CA25+'Jul-Dez 2027'!CA25","v":0},{"$f":"'Jan-Jun 2024'!CA25","v":0}]
["21h20 - 22h10",{"$nulls":29},"Santa",{"$nulls":5},0,0,0,null,0,0,0,0,0,0,0,{"$f":"'Jan-Jun 2024'!AU26+'Jul-Dez 2024'!AU26+'Jan-Jun 2025'!AU26+'Jul-Dez 2025'!AU26+'Jan-Jun 2026'!AU26+'Jul-Dez 2026'!AU26+'Jan-Jun 2027'!AU26+'Jul-Dez 2027'!AU26","v":0},{"$f":"'Jan-Jun 2024'!AU26","v":0},{"$nulls":3},0,0,0,null,0,0,0,0,0,0,0,{"$f":"'Jan-Jun 2024'!BK26+'Jul-Dez 2024'!BK26+'Jan-Jun 2025'!BK26+'Jul-Dez 2025'!BK26+'Jan-Jun 2026'!BK26+'Jul-Dez 2026'!BK26+'Jan-Jun 2027'!BK26+'Jul-Dez 2027'!BK26","v":0},{"$f":"'Jan-Jun 2024'!BK26","v":0},{"$nulls":3},0,0,0,null,0,0,0,0,0,0,0,{"$f":"'Jan-Jun 2024'!CA26+'Jul-Dez 2024'!CA26+'Jan-Jun 2025'!CA26+'Jul-Dez 2025'!CA26+'Jan-Jun 2026'!CA26+'Jul-Dez 2026'!CA26+'Jan-Jun 2027'!CA26+'Jul-Dez 2027'!CA26","v":0},{"$f":"'Jan-Jun 2024'!CA26","v":0}]
["22h10 - 23h00",{"$nulls":35},0,0,0,null,0,0,0,0,0,0,0,{"$f":"'Jan-Jun 2024'!AU27+'Jul-Dez 2024'!AU27+'Jan-Jun 2025'!AU27+'Jul-Dez 2025'!AU27+'Jan-Jun 2026'!AU27+'Jul-Dez 2026'!AU27+'Jan-Jun 2027'!AU27+'Jul-Dez 2027'!AU27","v":0},{"$f":"'Jan-Jun 2024'!AU27","v":0},{"$nulls":3},0,0,0,null,0,0,0,0,0,0,0,{"$f":"'Jan-Jun 2024'!BK27+'Jul-Dez 2024'!BK27+'Jan-Jun 2025'!BK27+'Jul-Dez 2025'!BK27+'Jan-Jun 2026'!BK27+'Jul-Dez 2026'!BK27+'Jan-Jun 2027'!BK27+'Jul-Dez 2027'!BK27","v":0},{"$f":"'Jan-Jun 2024'!BK27","v":0},{"$nulls":3},0,0,0,null,0,0,0,0,0,0,0,{"$f":"'Jan-Jun 2024'!CA27+'Jul-Dez 2024'!CA27+'Jan-Jun 2025'!CA27+'Jul-Dez 2025'!CA27+'Jan-Jun 2026'!CA27+'Jul-Dez 2026'!CA27+'Jan-Jun 2027'!CA27+'Jul-Dez 2027'!CA27","v":0},{"$f":"'Jan-Jun 2024'!CA27","v":0}]
[{"$nulls":34},"M","DCM",0,0,0,50,0,0,0,0,0,0,0,{"$f":"'Jan-Jun 2024'!AU28+'Jul-Dez 2024'!AU28+'Jan-Jun 2025'!AU28+'Jul-Dez 2025'!AU28+'Jan-Jun 2026'!AU28+'Jul-Dez 2026'!AU28+'Jan-Jun 2027'!AU28+'Jul-Dez 2027'!AU28","v":0},{"$f":"'Jan-Jun 2024'!AU28","v":0},{"$nulls":3},0,0,0,null,0,0,0,0,0,0,0,{"$f":"'Jan-Jun 2024'!BK28+'Jul-Dez 2024'!BK28+'Jan-Jun 2025'!BK28+'Jul-Dez 2025'!BK28+'Jan-Jun 2026'!BK28+'Jul-Dez 2026'!BK28+'Jan-Jun 2027'!BK28+'Jul-Dez 2027'!BK28","v":0},{"$f":"'Jan-Jun 2024'!BK28","v":0},{"$nulls":3},0,0,0,null,0,0,0,0,0,0,0,{"$f":"'Jan-Jun 2024'!CA28+'Jul-Dez 2024'!CA28+'Jan-Jun 2025'!CA28+'Jul-Dez 2025'!CA28+'Jan-Jun 2026'!CA28+'Jul-Dez 2026'!CA28+'Jan-Jun 2027'!CA28+'Jul-Dez 2027'!CA28","v":0},{"$f":"'Jan-Jun 2024'!CA28","v":0}]
[{"$f":"A22+DAY(EOMONTH(A22,0))","v":"2024-04-01"},null,{"$f":"IF(C30<>\"\",CHOOSE(WEEKDAY(C30,1),\"Dom.\",\"Seg.\",\"Ter.\",\"Qua.\",\"Qui.\",\"Sex.\",\"Sáb.\"),\"\")","v":"Seg."},{"$f":"IF(D30<>\"\",CHOOSE(WEEKDAY(D30,1),\"Dom.\",\"Seg.\",\"Ter.\",\"Qua.\",\"Qui.\",\"Sex.\",\"Sáb.\"),\"\")","v":"Ter."},"Qua.","Qui.","Sex.","Sáb.","Dom.","Seg.","Ter.","Qua.","Qui.","Sex.","Sáb.","Dom.","Seg.","Ter.","Qua.","Qui.","Sex.","Sáb.","Dom.","Seg.","Ter.","Qua.","Qui.","Sex.","Sáb.","Dom.","Seg.","Ter.","",null,"M","CM",0,0,0,50,0,0,0,0,0,0,0,{"$f":"'Jan-Jun 2024'!AU29+'Jul-Dez 2024'!AU29+'Jan-Jun 2025'!AU29+'Jul-Dez 2025'!AU29+'Jan-Jun 2026'!AU29+'Jul-Dez 2026'!AU29+'Jan-Jun 2027'!AU29+'Jul-Dez 2027'!AU29","v":0},{"$f":"'Jan-Jun 2024'!AU29","v":0},{"$nulls":3},0,0,0,null,0,0,0,0,0,0,0,{"$f":"'Jan-Jun 2024'!BK29+'Jul-Dez 2024'!BK29+'Jan-Jun 2025'!BK29+'Jul-Dez 2025'!BK29+'Jan-Jun 2026'!BK29+'Jul-Dez 2026'!BK29+'Jan-Jun 2027'!BK29+'Jul-Dez 2027'!BK29","v":0},{"$f":"'Jan-Jun 2024'!BK29","v":0},{"$nulls":3},0,0,0,null,0,0,0,0,0,0,0,{"$f":"'Jan-Jun 2024'!CA29+'Jul-Dez 2024'!CA29+'Jan-Jun 2025'!CA29+'Jul-Dez 2025'!CA29+'Jan-Jun 2026'!CA29+'Jul-Dez 2026'!CA29+'Jan-Jun 2027'!CA29+'Jul-Dez 2027'!CA29","v":0},{"$f":"'Jan-Jun 2024'!CA29","v":0}]
[null,null,{"$f":"A29","v":"2024-04-01"},{"$f":"IF(C30=\"\",\"\",IF(DAY(C30)<DAY(EOMONTH(C30,0)),C30+1,\"\"))","v":"2024-04-02"},"2024-04-03","2024-04-04","2024-04-05","2024-04-06","2024-04-07","2024-04-08","2024-04-09","2024-04-10","2024-04-11","2024-04-12","2024-04-13","2024-04-14","2024-04-15","2024-04-16","2024-04-17","2024-04-18","2024-04-19","2024-04-20","2024-04-21","2024-04-22","2024-04-23","2024-04-24","2024-04-25","2024-04-26","2024-04-27","2024-04-28","2024-04-29","2024-04-30","",null,"M","SD",0,0,0,50,0,0,0,0,0,0,0,{"$f":"'Jan-Jun 2024'!AU30+'Jul-Dez 2024'!AU30+'Jan-Jun 2025'!AU30+'Jul-Dez 2025'!AU30+'Jan-Jun 2026'!AU30+'Jul-Dez 2026'!AU30+'Jan-Jun 2027'!AU30+'Jul-Dez 2027'!AU30","v":0},{"$f":"'Jan-Jun 2024'!AU30","v":0},{"$nulls":3},0,0,0,null,0,0,0,0,0,0,0,{"$f":"'Jan-Jun 2024'!BK30+'Jul-Dez 2024'!BK30+'Jan-Jun 2025'!BK30+'Jul-Dez 2025'!BK30+'Jan-Jun 2026'!BK30+'Jul-Dez 2026'!BK30+'Jan-Jun 2027'!BK30+'Jul-Dez 2027'!BK30","v":0},{"$f":"'Jan-Jun 2024'!BK30","v":0},{"$nulls":3},0,0,0,null,0,0,0,0,0,0,0,{"$f":"'Jan-Jun 2024'!CA30+'Jul-Dez 2024'!CA30+'Jan-Jun 2025'!CA30+'Jul-Dez 2025'!CA30+'Jan-Jun 2026'!CA30+'Jul-Dez 2026'!CA30+'Jan-Jun 2027'!CA30+'Jul-Dez 2027'!CA30","v":0},{"$f":"'Jan-Jun 2024'!CA30","v":0}]
["19h20 - 20h10",{"$nulls":33},"M","OEM",0,0,0,50,0,0,0,0,0,0,0,{"$f":"'Jan-Jun 2024'!AU31+'Jul-Dez 2024'!AU31+'Jan-Jun 2025'!AU31+'Jul-Dez 2025'!AU31+'Jan-Jun 2026'!AU31+'Jul-Dez 2026'!AU31+'Jan-Jun 2027'!AU31+'Jul-Dez 2027'!AU31","v":0},{"$f":"'Jan-Jun 2024'!AU31","v":0},{"$nulls":3},0,0,0,null,0,0,0,0,0,0,0,{"$f":"'Jan-Jun 2024'!BK31+'Jul-Dez 2024'!BK31+'Jan-Jun 2025'!BK31+'Jul-Dez 2025'!BK31+'Jan-Jun 2026'!BK31+'Jul-Dez 2026'!BK31+'Jan-Jun 2027'!BK31+'Jul-Dez 2027'!BK31","v":0},{"$f":"'Jan-Jun 2024'!BK31","v":0},{"$nulls":3},0,0,0,null,0,0,0,0,0,0,0,{"$f":"'Jan-Jun 2024'!CA31+'Jul-Dez 2024'!CA31+'Jan-Jun 2025'!CA31+'Jul-Dez 2025'!CA31+'Jan-Jun 2026'!CA31+'Jul-Dez 2026'!CA31+'Jan-Jun 2027'!CA31+'Jul-Dez 2027'!CA31","v":0},{"$f":"'Jan-Jun 2024'!CA31","v":0}]
["20h10 - 21h00",{"$nulls":25},"Liberd.",{"$nulls":7},"M","IP",0,0,0,50,0,0,0,0,0,0,0,{"$f":"'Jan-Jun 2024'!AU32+'Jul-Dez 2024'!AU32+'Jan-Jun 2025'!AU32+'Jul-Dez 2025'!AU32+'Jan-Jun 2026'!AU32+'Jul-Dez 2026'!AU32+'Jan-Jun 2027'!AU32+'Jul-Dez 2027'!AU32","v":0},{"$f":"'Jan-Jun 2024'!AU32","v":0},null,"M","EG",0,0,0,50,0,0,0,0,0,0,0,{"$f":"'Jan-Jun 2024'!BK32+'Jul-Dez 2024'!BK32+'Jan-Jun 2025'!BK32+'Jul-Dez 2025'!BK32+'Jan-Jun 2026'!BK32+'Jul-Dez 2026'!BK32+'Jan-Jun 2027'!BK32+'Jul-Dez 2027'!BK32","v":0},{"$f":"'Jan-Jun 2024'!BK32","v":0},{"$nulls":3},0,0,0,null,0,0,0,0,0,0,0,{"$f":"'Jan-Jun 2024'!CA32+'Jul-Dez 2024'!CA32+'Jan-Jun 2025'!CA32+'Jul-Dez 2025'!CA32+'Jan-Jun 2026'!CA32+'Jul-Dez 2026'!CA32+'Jan-Jun 2027'!CA32+'Jul-Dez 2027'!CA32","v":0},{"$f":"'Jan-Jun 2024'!CA32","v":0}]
["21h20 - 22h10",{"$nulls":35},0,0,0,null,0,0,0,0,0,0,0,{"$f":"'Jan-Jun 2024'!AU33+'Jul-Dez 2024'!AU33+'Jan-Jun 2025'!AU33+'Jul-Dez 2025'!AU33+'Jan-Jun 2026'!AU33+'Jul-Dez 2026'!AU33+'Jan-Jun 2027'!AU33+'Jul-Dez 2027'!AU33","v":0},{"$f":"'Jan-Jun 2024'!AU33","v":0},{"$nulls":3},0,0,0,null,0,0,0,0,0,0,0,{"$f":"'Jan-Jun 2024'!BK33+'Jul-Dez 2024'!BK33+'Jan-Jun 2025'!BK33+'Jul-Dez 2025'!BK33+'Jan-Jun 2026'!BK33+'Jul-Dez 2026'!BK33+'Jan-Jun 2027'!BK33+'Jul-Dez 2027'!BK33","v":0},{"$f":"'Jan-Jun 2024'!BK33","v":0},{"$nulls":3},0,0,0,null,0,0,0,0,0,0,0,{"$f":"'Jan-Jun 2024'!CA33+'Jul-Dez 2024'!CA33+'Jan-Jun 2025'!CA33+'Jul-Dez 2025'!CA33+'Jan-Jun 2026'!CA33+'Jul-Dez 2026'!CA33+'Jan-Jun 2027'!CA33+'Jul-Dez 2027'!CA33","v":0},{"$f":"'Jan-Jun 2024'!CA33","v":0}]
["22h10 - 23h00",{"$nulls":33},"M","ELP",0,0,0,50,0,0,0,0,0,0,0,{"$f":"'Jan-Jun 2024'!AU34+'Jul-Dez 2024'!AU34+'Jan-Jun 2025'!AU34+'Jul-Dez 2025'!AU34+'Jan-Jun 2026'!AU34+'Jul-Dez 2026'!AU34+'Jan-Jun 2027'!AU34+'Jul-Dez 2027'!AU34","v":0},{"$f":"'Jan-Jun 2024'!AU34","v":0},null,"M","IGE",0,0,0,60,0,0,0,0,0,0,0,{"$f":"'Jan-Jun 2024'!BK34+'Jul-Dez 2024'!BK34+'Jan-Jun 2025'!BK34+'Jul-Dez 2025'!BK34+'Jan-Jun 2026'!BK34+'Jul-Dez 2026'!BK34+'Jan-Jun 2027'!BK34+'Jul-Dez 2027'!BK34","v":0},{"$f":"'Jan-Jun 2024'!BK34","v":0},{"$nulls":3},0,0,0,null,0,0,0,0,0,0,0,{"$f":"'Jan-Jun 2024'!CA34+'Jul-Dez 2024'!CA34+'Jan-Jun 2025'!CA34+'Jul-Dez 2025'!CA34+'Jan-Jun 2026'!CA34+'Jul-Dez 2026'!CA34+'Jan-Jun 2027'!CA34+'Jul-Dez 2027'!CA34","v":0},{"$f":"'Jan-Jun 2024'!CA34","v":0}]
[{"$nulls":36},0,0,0,null,0,0,0,0,0,0,0,{"$f":"'Jan-Jun 2024'!AU35+'Jul-Dez 2024'!AU35+'Jan-Jun 2025'!AU35+'Jul-Dez 2025'!AU35+'Jan-Jun 2026'!AU35+'Jul-Dez 2026'!AU35+'Jan-Jun 2027'!AU35+'Jul-Dez 2027'!AU35","v":0},{"$f":"'Jan-Jun 2024'!AU35","v":0},{"$nulls":3},0,0,0,null,0,0,0,0,0,0,0,{"$f":"'Jan-Jun 2024'!BK35+'Jul-Dez 2024'!BK35+'Jan-Jun 2025'!BK35+'Jul-Dez 2025'!BK35+'Jan-Jun 2026'!BK35+'Jul-Dez 2026'!BK35+'Jan-Jun 2027'!BK35+'Jul-Dez 2027'!BK35","v":0},{"$f":"'Jan-Jun 2024'!BK35","v":0},{"$nulls":3},0,0,0,null,0,0,0,0,0,0,0,{"$f":"'Jan-Jun 2024'!CA35+'Jul-Dez 2024'!CA35+'Jan-Jun 2025'!CA35+'Jul-Dez 2025'!CA35+'Jan-Jun 2026'!CA35+'Jul-Dez 2026'!CA35+'Jan-Jun 2027'!CA35+'Jul-Dez 2027'!CA35","v":0},{"$f":"'Jan-Jun 2024'!CA35","v":0}]
[{"$f":"A29+DAY(EOMONTH(A29,0))","v":"2024-05-01"},null,{"$f":"IF(C37<>\"\",CHOOSE(WEEKDAY(C37,1),\"Dom.\",\"Seg.\",\"Ter.\",\"Qua.\",\"Qui.\",\"Sex.\",\"Sáb.\"),\"\")","v":"Qua."},{"$f":"IF(D37<>\"\",CHOOSE(WEEKDAY(D37,1),\"Dom.\",\"Seg.\",\"Ter.\",\"Qua.\",\"Qui.\",\"Sex.\",\"Sáb.\"),\"\")","v":"Qui."},"Sex.","Sáb.","Dom.","Seg.","Ter.","Qua.","Qui.","Sex.","Sáb.","Dom.","Seg.","Ter.","Qua.","Qui.","Sex.","Sáb.","Dom.","Seg.","Ter.","Qua.","Qui.","Sex.","Sáb.","Dom.","Seg.","Ter.","Qua.","Qui.","Sex.",{"$nulls":3},0,0,0,null,0,0,0,0,0,0,0,{"$f":"'Jan-Jun 2024'!AU36+'Jul-Dez 2024'!AU36+'Jan-Jun 2025'!AU36+'Jul-Dez 2025'!AU36+'Jan-Jun 2026'!AU36+'Jul-Dez 2026'!AU36+'Jan-Jun 2027'!AU36+'Jul-Dez 2027'!AU36","v":0},{"$f":"'Jan-Jun 2024'!AU36","v":0},{"$nulls":3},0,0,0,null,0,0,0,0,0,0,0,{"$f":"'Jan-Jun 2024'!BK36+'Jul-Dez 2024'!BK36+'Jan-Jun 2025'!BK36+'Jul-Dez 2025'!BK36+'Jan-Jun 2026'!BK36+'Jul-Dez 2026'!BK36+'Jan-Jun 2027'!BK36+'Jul-Dez 2027'!BK36","v":0},{"$f":"'Jan-Jun 2024'!BK36","v":0},{"$nulls":3},0,0,0,null,0,0,0,0,0,0,0,{"$f":"'Jan-Jun 2024'!CA36+'Jul-Dez 2024'!CA36+'Jan-Jun 2025'!CA36+'Jul-Dez 2025'!CA36+'Jan-Jun 2026'!CA36+'Jul-Dez 2026'!CA36+'Jan-Jun 2027'!CA36+'Jul-Dez 2027'!CA36","v":0},{"$f":"'Jan-Jun 2024'!CA36","v":0}]
[null,null,{"$f":"A36","v":"2024-05-01"},{"$f":"IF(C37=\"\",\"\",IF(DAY(C37)<DAY(EOMONTH(C37,0)),C37+1,\"\"))","v":"2024-05-02"},"2024-05-03","2024-05-04","2024-05-05","2024-05-06","2024-05-07","2024-05-08","2024-05-09","2024-05-10","2024-05-11","2024-05-12","2024-05-13","2024-05-14","2024-05-15","2024-05-16","2024-05-17","2024-05-18","2024-05-19","2024-05-20","2024-05-21","2024-05-22","2024-05-23","2024-05-24","2024-05-25","2024-05-26","2024-05-27","2024-05-28","2024-05-29","2024-05-30","2024-05-31",{"$nulls":3},0,0,0,null,0,0,0,0,0,0,0,{"$f":"'Jan-Jun 2024'!AU37+'Jul-Dez 2024'!AU37+'Jan-Jun 2025'!AU37+'Jul-Dez 2025'!AU37+'Jan-Jun 2026'!AU37+'Jul-Dez 2026'!AU37+'Jan-Jun 2027'!AU37+'Jul-Dez 2027'!AU37","v":0},{"$f":"'Jan-Jun 2024'!AU37","v":0},{"$nulls":3},0,0,0,null,0,0,0,0,0,0,0,{"$f":"'Jan-Jun 2024'!BK37+'Jul-Dez 2024'!BK37+'Jan-Jun 2025'!BK37+'Jul-Dez 2025'!BK37+'Jan-Jun 2026'!BK37+'Jul-Dez 2026'!BK37+'Jan-Jun 2027'!BK37+'Jul-Dez 2027'!BK37","v":0},{"$f":"'Jan-Jun 2024'!BK37","v":0},{"$nulls":3},0,0,0,null,0,0,0,0,0,0,0,{"$f":"'Jan-Jun 2024'!CA37+'Jul-Dez 2024'!CA37+'Jan-Jun 2025'!CA37+'Jul-Dez 2025'!CA37+'Jan-Jun 2026'!CA37+'Jul-Dez 2026'!CA37+'Jan-Jun 2027'!CA37+'Jul-Dez 2027'!CA37","v":0},{"$f":"'Jan-Jun 2024'!CA37","v":0}]
["19h20 - 20h10",{"$nulls":30},"Corpo",null,null,"M","MM",0,0,0,50,0,0,0,0,0,0,0,{"$f":"'Jan-Jun 2024'!AU38+'Jul-Dez 2024'!AU38+'Jan-Jun 2025'!AU38+'Jul-Dez 2025'!AU38+'Jan-Jun 2026'!AU38+'Jul-Dez 2026'!AU38+'Jan-Jun 2027'!AU38+'Jul-Dez 2027'!AU38","v":0},{"$f":"'Jan-Jun 2024'!AU38","v":0},{"$nulls":3},0,0,0,null,0,0,0,0,0,0,0,{"$f":"'Jan-Jun 2024'!BK38+'Jul-Dez 2024'!BK38+'Jan-Jun 2025'!BK38+'Jul-Dez 2025'!BK38+'Jan-Jun 2026'!BK38+'Jul-Dez 2026'!BK38+'Jan-Jun 2027'!BK38+'Jul-Dez 2027'!BK38","v":0},{"$f":"'Jan-Jun 2024'!BK38","v":0},{"$nulls":3},0,0,0,null,0,0,0,0,0,0,0,{"$f":"'Jan-Jun 2024'!CA38+'Jul-Dez 2024'!CA38+'Jan-Jun 2025'!CA38+'Jul-Dez 2025'!CA38+'Jan-Jun 2026'!CA38+'Jul-Dez 2026'!CA38+'Jan-Jun 2027'!CA38+'Jul-Dez 2027'!CA38","v":0},{"$f":"'Jan-Jun 2024'!CA38","v":0}]
["20h10 - 21h00",null,"Trab.",{"$nulls":28},"de",null,null,"M","ROB",0,0,0,50,0,0,0,0,0,0,0,{"$f":"'Jan-Jun 2024'!AU39+'Jul-Dez 2024'!AU39+'Jan-Jun 2025'!AU39+'Jul-Dez 2025'!AU39+'Jan-Jun 2026'!AU39+'Jul-Dez 2026'!AU39+'Jan-Jun 2027'!AU39+'Jul-Dez 2027'!AU39","v":0},{"$f":"'Jan-Jun 2024'!AU39","v":0},{"$nulls":3},0,0,0,null,0,0,0,0,0,0,0,{"$f":"'Jan-Jun 2024'!BK39+'Jul-Dez 2024'!BK39+'Jan-Jun 2025'!BK39+'Jul-Dez 2025'!BK39+'Jan-Jun 2026'!BK39+'Jul-Dez 2026'!BK39+'Jan-Jun 2027'!BK39+'Jul-Dez 2027'!BK39","v":0},{"$f":"'Jan-Jun 2024'!BK39","v":0},{"$nulls":3},0,0,0,null,0,0,0,0,0,0,0,{"$f":"'Jan-Jun 2024'!CA39+'Jul-Dez 2024'!CA39+'Jan-Jun 2025'!CA39+'Jul-Dez 2025'!CA39+'Jan-Jun 2026'!CA39+'Jul-Dez 2026'!CA39+'Jan-Jun 2027'!CA39+'Jul-Dez 2027'!CA39","v":0},{"$f":"'Jan-Jun 2024'!CA39","v":0}]
["21h20 - 22h10",{"$nulls":30},"Deus",{"$nulls":4},0,{"$f":"IF($AK$4=$DH$8,AU40,IF($AK$4=$DH$9,AV40,IF($AK$4=$DH$10,AW40,IF($AK$4=$DH$11,AO40,IF($AK$4=$DH$12,AP40,IF($AK$4=$DH$13,AQ40,IF($AK$4=$DH$14,AR40,IF($AK$4=$DH$15,AS40,IF($AK$4=$DH$16,AT40,\"\")))))))))","v":0},0,null,0,0,0,0,0,0,0,{"$f":"'Jan-Jun 2024'!AU40+'Jul-Dez 2024'!AU40+'Jan-Jun 2025'!AU40+'Jul-Dez 2025'!AU40+'Jan-Jun 2026'!AU40+'Jul-Dez 2026'!AU40+'Jan-Jun 2027'!AU40+'Jul-Dez 2027'!AU40","v":0},{"$f":"'Jan-Jun 2024'!AU40","v":0},{"$nulls":3},0,{"$f":"IF($AK$4=$DH$8,BK40,IF($AK$4=$DH$9,BL40,IF($AK$4=$DH$10,BM40,IF($AK$4=$DH$11,BE40,IF($AK$4=$DH$12,BF40,IF($AK$4=$DH$13,BG40,IF($AK$4=$DH$14,BH40,IF($AK$4=$DH$15,BI40,IF($AK$4=$DH$16,BJ40,\"\")))))))))","v":0},0,null,0,0,0,0,0,0,0,{"$f":"'Jan-Jun 2024'!BK40+'Jul-Dez 2024'!BK40+'Jan-Jun 2025'!BK40+'Jul-Dez 2025'!BK40+'Jan-Jun 2026'!BK40+'Jul-Dez 2026'!BK40+'Jan-Jun 2027'!BK40+'Jul-Dez 2027'!BK40","v":0},{"$f":"'Jan-Jun 2024'!BK40","v":0},{"$nulls":3},0,{"$f":"IF($AK$4=$DH$8,CA40,IF($AK$4=$DH$9,CB40,IF($AK$4=$DH$10,CC40,IF($AK$4=$DH$11,BU40,IF($AK$4=$DH$12,BV40,IF($AK$4=$DH$13,BW40,IF($AK$4=$DH$14,BX40,IF($AK$4=$DH$15,BY40,IF($AK$4=$DH$16,BZ40,\"\")))))))))","v":0},0,null,0,0,0,0,0,0,0,{"$f":"'Jan-Jun 2024'!CA40+'Jul-Dez 2024'!CA40+'Jan-Jun 2025'!CA40+'Jul-Dez 2025'!CA40+'Jan-Jun 2026'!CA40+'Jul-Dez 2026'!CA40+'Jan-Jun 2027'!CA40+'Jul-Dez 2027'!CA40","v":0},{"$f":"'Jan-Jun 2024'!CA40","v":0}]
["22h10 - 23h00",{"$nulls":35},0,0,0,null,0,0,0,0,0,0,0,{"$f":"'Jan-Jun 2024'!AU41+'Jul-Dez 2024'!AU41+'Jan-Jun 2025'!AU41+'Jul-Dez 2025'!AU41+'Jan-Jun 2026'!AU41+'Jul-Dez 2026'!AU41+'Jan-Jun 2027'!AU41+'Jul-Dez 2027'!AU41","v":0},{"$f":"'Jan-Jun 2024'!AU41","v":0},{"$nulls":3},0,0,0,null,0,0,0,0,0,0,0,{"$f":"'Jan-Jun 2024'!BK41+'Jul-Dez 2024'!BK41+'Jan-Jun 2025'!BK41+'Jul-Dez 2025'!BK41+'Jan-Jun 2026'!BK41+'Jul-Dez 2026'!BK41+'Jan-Jun 2027'!BK41+'Jul-Dez 2027'!BK41","v":0},{"$f":"'Jan-Jun 2024'!BK41","v":0},{"$nulls":3},0,0,0,null,0,0,0,0,0,0,0,{"$f":"'Jan-Jun 2024'!CA41+'Jul-Dez 2024'!CA41+'Jan-Jun 2025'!CA41+'Jul-Dez 2025'!CA41+'Jan-Jun 2026'!CA41+'Jul-Dez 2026'!CA41+'Jan-Jun 2027'!CA41+'Jul-Dez 2027'!CA41","v":0},{"$f":"'Jan-Jun 2024'!CA41","v":0}]
[{"$nulls":36},0,0,0,null,0,0,0,0,0,0,0,{"$f":"'Jan-Jun 2024'!AU42+'Jul-Dez 2024'!AU42+'Jan-Jun 2025'!AU42+'Jul-Dez 2025'!AU42+'Jan-Jun 2026'!AU42+'Jul-Dez 2026'!AU42+'Jan-Jun 2027'!AU42+'Jul-Dez 2027'!AU42","v":0},{"$f":"'Jan-Jun 2024'!AU42","v":0},{"$nulls":3},0,0,0,null,0,0,0,0,0,0,0,{"$f":"'Jan-Jun 2024'!BK42+'Jul-Dez 2024'!BK42+'Jan-Jun 2025'!BK42+'Jul-Dez 2025'!BK42+'Jan-Jun 2026'!BK42+'Jul-Dez 2026'!BK42+'Jan-Jun 2027'!BK42+'Jul-Dez 2027'!BK42","v":0},{"$f":"'Jan-Jun 2024'!BK42","v":0},{"$nulls":3},0,0,0,null,0,0,0,0,0,0,0,{"$f":"'Jan-Jun 2024'!CA42+'Jul-Dez 2024'!CA42+'Jan-Jun 2025'!CA42+'Jul-Dez 2025'!CA42+'Jan-Jun 2026'!CA42+'Jul-Dez 2026'!CA42+'Jan-Jun 2027'!CA42+'Jul-Dez 2027'!CA42","v":0},{"$f":"'Jan-Jun 2024'!CA42","v":0}]
[{"$f":"A36+DAY(EOMONTH(A36,0))","v":"2024-06-01"},null,{"$f":"IF(C44<>\"\",CHOOSE(WEEKDAY(C44,1),\"Dom.\",\"Seg.\",\"Ter.\",\"Qua.\",\"Qui.\",\"Sex.\",\"Sáb.\"),\"\")","v":"Sáb."},{"$f":"IF(D44<>\"\",CHOOSE(WEEKDAY(D44,1),\"Dom.\",\"Seg.\",\"Ter.\",\"Qua.\",\"Qui.\",\"Sex.\",\"Sáb.\"),\"\")","v":"Dom."},"Seg.","Ter.","Qua.","Qui.","Sex.","Sáb.","Dom.","Seg.","Ter.","Qua.","Qui.","Sex.","Sáb.","Dom.","Seg.","Ter.","Qua.","Qui.","Sex.","Sáb.","Dom.","Seg.","Ter.","Qua.","Qui.","Sex.","Sáb.","Dom.","",null,"T","MET",0,0,0,50,0,0,0,0,0,0,0,{"$f":"'Jan-Jun 2024'!AU43+'Jul-Dez 2024'!AU43+'Jan-Jun 2025'!AU43+'Jul-Dez 2025'!AU43+'Jan-Jun 2026'!AU43+'Jul-Dez 2026'!AU43+'Jan-Jun 2027'!AU43+'Jul-Dez 2027'!AU43","v":0},{"$f":"'Jan-Jun 2024'!AU43","v":0},{"$nulls":3},0,0,0,null,0,0,0,0,0,0,0,{"$f":"'Jan-Jun 2024'!BK43+'Jul-Dez 2024'!BK43+'Jan-Jun 2025'!BK43+'Jul-Dez 2025'!BK43+'Jan-Jun 2026'!BK43+'Jul-Dez 2026'!BK43+'Jan-Jun 2027'!BK43+'Jul-Dez 2027'!BK43","v":0},{"$f":"'Jan-Jun 2024'!BK43","v":0},{"$nulls":3},0,0,0,null,0,0,0,0,0,0,0,{"$f":"'Jan-Jun 2024'!CA43+'Jul-Dez 2024'!CA43+'Jan-Jun 2025'!CA43+'Jul-Dez 2025'!CA43+'Jan-Jun 2026'!CA43+'Jul-Dez 2026'!CA43+'Jan-Jun 2027'!CA43+'Jul-Dez 2027'!CA43","v":0},{"$f":"'Jan-Jun 2024'!CA43","v":0}]
[null,null,{"$f":"A43","v":"2024-06-01"},{"$f":"IF(C44=\"\",\"\",IF(DAY(C44)<DAY(EOMONTH(C44,0)),C44+1,\"\"))","v":"2024-06-02"},"2024-06-03","2024-06-04","2024-06-05","2024-06-06","2024-06-07","2024-06-08","2024-06-09","2024-06-10","2024-06-11","2024-06-12","2024-06-13","2024-06-14","2024-06-15","2024-06-16","2024-06-17","2024-06-18","2024-06-19","2024-06-20","2024-06-21","2024-06-22","2024-06-23","2024-06-24","2024-06-25","2024-06-26","2024-06-27","2024-06-28","2024-06-29","2024-06-30","",null,"P","MET1",0,0,0,26,0,0,0,0,0,0,0,{"$f":"'Jan-Jun 2024'!AU44+'Jul-Dez 2024'!AU44+'Jan-Jun 2025'!AU44+'Jul-Dez 2025'!AU44+'Jan-Jun 2026'!AU44+'Jul-Dez 2026'!AU44+'Jan-Jun 2027'!AU44+'Jul-Dez 2027'!AU44","v":0},{"$f":"'Jan-Jun 2024'!AU44","v":0},{"$nulls":3},0,0,0,null,0,0,0,0,0,0,0,{"$f":"'Jan-Jun 2024'!BK44+'Jul-Dez 2024'!BK44+'Jan-Jun 2025'!BK44+'Jul-Dez 2025'!BK44+'Jan-Jun 2026'!BK44+'Jul-Dez 2026'!BK44+'Jan-Jun 2027'!BK44+'Jul-Dez 2027'!BK44","v":0},{"$f":"'Jan-Jun 2024'!BK44","v":0},{"$nulls":3},0,0,0,null,0,0,0,0,0,0,0,{"$f":"'Jan-Jun 2024'!CA44+'Jul-Dez 2024'!CA44+'Jan-Jun 2025'!CA44+'Jul-Dez 2025'!CA44+'Jan-Jun 2026'!CA44+'Jul-Dez 2026'!CA44+'Jan-Jun 2027'!CA44+'Jul-Dez 2027'!CA44","v":0},{"$f":"'Jan-Jun 2024'!CA44","v":0}]
["19h20 - 20h10",{"$nulls":10},"Dia",{"$nulls":22},"P","MET2",0,0,0,24,0,0,0,0,0,0,0,{"$f":"'Jan-Jun 2024'!AU45+'Jul-Dez 2024'!AU45+'Jan-Jun 2025'!AU45+'Jul-Dez 2025'!AU45+'Jan-Jun 2026'!AU45+'Jul-Dez 2026'!AU45+'Jan-Jun 2027'!AU45+'Jul-Dez 2027'!AU45","v":0},{"$f":"'Jan-Jun 2024'!AU45","v":0},{"$nulls":3},0,0,0,null,0,0,0,0,0,0,0,{"$f":"'Jan-Jun 2024'!BK45+'Jul-Dez 2024'!BK45+'Jan-Jun 2025'!BK45+'Jul-Dez 2025'!BK45+'Jan-Jun 2026'!BK45+'Jul-Dez 2026'!BK45+'Jan-Jun 2027'!BK45+'Jul-Dez 2027'!BK45","v":0},{"$f":"'Jan-Jun 2024'!BK45","v":0},{"$nulls":3},0,0,0,null,0,0,0,0,0,0,0,{"$f":"'Jan-Jun 2024'!CA45+'Jul-Dez 2024'!CA45+'Jan-Jun 2025'!CA45+'Jul-Dez 2025'!CA45+'Jan-Jun 2026'!CA45+'Jul-Dez 2026'!CA45+'Jan-Jun 2027'!CA45+'Jul-Dez 2027'!CA45","v":0},{"$f":"'Jan-Jun 2024'!CA45","v":0}]
["20h10 - 21h00",{"$nulls":10},"de",{"$nulls":22},"P","MET3",0,0,0,0,0,0,0,0,0,0,0,{"$f":"'Jan-Jun 2024'!AU46+'Jul-Dez 2024'!AU46+'Jan-Jun 2025'!AU46+'Jul-Dez 2025'!AU46+'Jan-Jun 2026'!AU46+'Jul-Dez 2026'!AU46+'Jan-Jun 2027'!AU46+'Jul-Dez 2027'!AU46","v":0},{"$f":"'Jan-Jun 2024'!AU46","v":0},{"$nulls":3},0,0,0,null,0,0,0,0,0,0,0,{"$f":"'Jan-Jun 2024'!BK46+'Jul-Dez 2024'!BK46+'Jan-Jun 2025'!BK46+'Jul-Dez 2025'!BK46+'Jan-Jun 2026'!BK46+'Jul-Dez 2026'!BK46+'Jan-Jun 2027'!BK46+'Jul-Dez 2027'!BK46","v":0},{"$f":"'Jan-Jun 2024'!BK46","v":0},{"$nulls":3},0,0,{"$f":"IF(BO46=$DI$8,BR46,IF(BO46=$DI$9,BS47+BR46,IF(BO46=$DI$10,IF(BO47=$DI$10,BS47+BR46,BR46),)))","v":0},null,0,0,0,0,0,0,0,{"$f":"'Jan-Jun 2024'!CA46+'Jul-Dez 2024'!CA46+'Jan-Jun 2025'!CA46+'Jul-Dez 2025'!CA46+'Jan-Jun 2026'!CA46+'Jul-Dez 2026'!CA46+'Jan-Jun 2027'!CA46+'Jul-Dez 2027'!CA46","v":0},{"$f":"'Jan-Jun 2024'!CA46","v":0}]
["21h20 - 22h10",{"$nulls":10},"Port.",{"$nulls":24},0,0,0,null,0,0,0,0,0,0,0,{"$f":"'Jan-Jun 2024'!AU47+'Jul-Dez 2024'!AU47+'Jan-Jun 2025'!AU47+'Jul-Dez 2025'!AU47+'Jan-Jun 2026'!AU47+'Jul-Dez 2026'!AU47+'Jan-Jun 2027'!AU47+'Jul-Dez 2027'!AU47","v":0},{"$f":"'Jan-Jun 2024'!AU47","v":0},{"$nulls":3},0,0,0,null,0,0,0,0,0,0,0,{"$f":"'Jan-Jun 2024'!BK47+'Jul-Dez 2024'!BK47+'Jan-Jun 2025'!BK47+'Jul-Dez 2025'!BK47+'Jan-Jun 2026'!BK47+'Jul-Dez 2026'!BK47+'Jan-Jun 2027'!BK47+'Jul-Dez 2027'!BK47","v":0},{"$f":"'Jan-Jun 2024'!BK47","v":0},{"$nulls":3},0,0,0,null,0,0,0,0,0,0,0,{"$f":"'Jan-Jun 2024'!CA47+'Jul-Dez 2024'!CA47+'Jan-Jun 2025'!CA47+'Jul-Dez 2025'!CA47+'Jan-Jun 2026'!CA47+'Jul-Dez 2026'!CA47+'Jan-Jun 2027'!CA47+'Jul-Dez 2027'!CA47","v":0},{"$f":"'Jan-Jun 2024'!CA47","v":0}]
["22h10 - 23h00",{"$nulls":35},0,0,0,null,0,0,0,0,0,0,0,{"$f":"'Jan-Jun 2024'!AU48+'Jul-Dez 2024'!AU48+'Jan-Jun 2025'!AU48+'Jul-Dez 2025'!AU48+'Jan-Jun 2026'!AU48+'Jul-Dez 2026'!AU48+'Jan-Jun 2027'!AU48+'Jul-Dez 2027'!AU48","v":0},{"$f":"'Jan-Jun 2024'!AU48","v":0},{"$nulls":3},0,0,0,null,0,0,0,0,0,0,0,{"$f":"'Jan-Jun 2024'!BK48+'Jul-Dez 2024'!BK48+'Jan-Jun 2025'!BK48+'Jul-Dez 2025'!BK48+'Jan-Jun 2026'!BK48+'Jul-Dez 2026'!BK48+'Jan-Jun 2027'!BK48+'Jul-Dez 2027'!BK48","v":0},{"$f":"'Jan-Jun 2024'!BK48","v":0},{"$nulls":3},0,0,0,null,0,0,0,0,0,0,0,{"$f":"'Jan-Jun 2024'!CA48+'Jul-Dez 2024'!CA48+'Jan-Jun 2025'!CA48+'Jul-Dez 2025'!CA48+'Jan-Jun 2026'!CA48+'Jul-Dez 2026'!CA48+'Jan-Jun 2027'!CA48+'Jul-Dez 2027'!CA48","v":0},{"$f":"'Jan-Jun 2024'!CA48","v":0}]
[null,"UFCD","Módulo",{"$nulls":6},"Cód.","H","Formador",null,null,"Ini.","Fim",null,"Componente",null,null,"Módulo",{"$nulls":6},"H","Formador",null,null,"Ini.","Fim",null,"M","CNC",0,0,0,50,0,0,0,0,0,0,0,{"$f":"'Jan-Jun 2024'!AU49+'Jul-Dez 2024'!AU49+'Jan-Jun 2025'!AU49+'Jul-Dez 2025'!AU49+'Jan-Jun 2026'!AU49+'Jul-Dez 2026'!AU49+'Jan-Jun 2027'!AU49+'Jul-Dez 2027'!AU49","v":0},{"$f":"'Jan-Jun 2024'!AU49","v":0},{"$nulls":3},0,0,0,null,0,0,0,0,0,0,0,{"$f":"'Jan-Jun 2024'!BK49+'Jul-Dez 2024'!BK49+'Jan-Jun 2025'!BK49+'Jul-Dez 2025'!BK49+'Jan-Jun 2026'!BK49+'Jul-Dez 2026'!BK49+'Jan-Jun 2027'!BK49+'Jul-Dez 2027'!BK49","v":0},{"$f":"'Jan-Jun 2024'!BK49","v":0},{"$nulls":3},0,0,0,null,0,0,0,0,0,0,0,{"$f":"'Jan-Jun 2024'!CA49+'Jul-Dez 2024'!CA49+'Jan-Jun 2025'!CA49+'Jul-Dez 2025'!CA49+'Jan-Jun 2026'!CA49+'Jul-Dez 2026'!CA49+'Jan-Jun 2027'!CA49+'Jul-Dez 2027'!CA49","v":0},{"$f":"'Jan-Jun 2024'!CA49","v":0}]
["Formação Geral e Científica\n",5146,"IGO","Introdução à Gestão das Organizações",{"$nulls":5},"B153",25,"Filipa Norte",{"$nulls":5},"Formação Tecnologica",6407,"PFL","Processos de Fundição / Ligação",{"$nulls":5},"D333",25,"Pedro Santos",{"$nulls":5},"M","CAM",0,0,0,50,0,0,0,0,0,0,0,{"$f":"'Jan-Jun 2024'!AU50+'Jul-Dez 2024'!AU50+'Jan-Jun 2025'!AU50+'Jul-Dez 2025'!AU50+'Jan-Jun 2026'!AU50+'Jul-Dez 2026'!AU50+'Jan-Jun 2027'!AU50+'Jul-Dez 2027'!AU50","v":0},{"$f":"'Jan-Jun 2024'!AU50","v":0},{"$nulls":3},0,0,0,null,0,0,0,0,0,0,0,{"$f":"'Jan-Jun 2024'!BK50+'Jul-Dez 2024'!BK50+'Jan-Jun 2025'!BK50+'Jul-Dez 2025'!BK50+'Jan-Jun 2026'!BK50+'Jul-Dez 2026'!BK50+'Jan-Jun 2027'!BK50+'Jul-Dez 2027'!BK50","v":0},{"$f":"'Jan-Jun 2024'!BK50","v":0},{"$nulls":3},0,0,0,null,0,0,0,0,0,0,0,{"$f":"'Jan-Jun 2024'!CA50+'Jul-Dez 2024'!CA50+'Jan-Jun 2025'!CA50+'Jul-Dez 2025'!CA50+'Jan-Jun 2026'!CA50+'Jul-Dez 2026'!CA50+'Jan-Jun 2027'!CA50+'Jul-Dez 2027'!CA50","v":0},{"$f":"'Jan-Jun 2024'!CA50","v":0}]
[null,5152,"GMQ","Gestão e Motivação para a Qualidade",{"$nulls":5},"B155",25,"Luís Ferreira",{"$nulls":6},6408,"PCC","Processos de Conformação / Corte",{"$nulls":5},"D334",25,"Pedro Santos",{"$nulls":5},"M","PAC",0,0,0,50,0,0,0,0,0,0,0,{"$f":"'Jan-Jun 2024'!AU51+'Jul-Dez 2024'!AU51+'Jan-Jun 2025'!AU51+'Jul-Dez 2025'!AU51+'Jan-Jun 2026'!AU51+'Jul-Dez 2026'!AU51+'Jan-Jun 2027'!AU51+'Jul-Dez 2027'!AU51","v":0},{"$f":"'Jan-Jun 2024'!AU51","v":0},{"$nulls":3},0,0,0,null,0,0,0,0,0,0,0,{"$f":"'Jan-Jun 2024'!BK51+'Jul-Dez 2024'!BK51+'Jan-Jun 2025'!BK51+'Jul-Dez 2025'!BK51+'Jan-Jun 2026'!BK51+'Jul-Dez 2026'!BK51+'Jan-Jun 2027'!BK51+'Jul-Dez 2027'!BK51","v":0},{"$f":"'Jan-Jun 2024'!BK51","v":0},{"$nulls":3},0,0,0,null,0,0,0,0,0,0,0,{"$f":"'Jan-Jun 2024'!CA51+'Jul-Dez 2024'!CA51+'Jan-Jun 2025'!CA51+'Jul-Dez 2025'!CA51+'Jan-Jun 2026'!CA51+'Jul-Dez 2026'!CA51+'Jan-Jun 2027'!CA51+'Jul-Dez 2027'!CA51","v":0},{"$f":"'Jan-Jun 2024'!CA51","v":0}]
[null,5149,"SGQ","Sistama de Gestão da Qualidade ISO 9001",{"$nulls":5},"F369",25,"Luís Ferreira",{"$nulls":6},6409,"PAA","Processos por Arranque de Apara",{"$nulls":5},"C588",25,"Miguel Franco",{"$nulls":7},0,0,0,null,0,0,0,0,0,0,0,{"$f":"'Jan-Jun 2024'!AU52+'Jul-Dez 2024'!AU52+'Jan-Jun 2025'!AU52+'Jul-Dez 2025'!AU52+'Jan-Jun 2026'!AU52+'Jul-Dez 2026'!AU52+'Jan-Jun 2027'!AU52+'Jul-Dez 2027'!AU52","v":0},{"$f":"'Jan-Jun 2024'!AU52","v":0},{"$nulls":3},0,0,0,null,0,0,0,0,0,0,0,{"$f":"'Jan-Jun 2024'!BK52+'Jul-Dez 2024'!BK52+'Jan-Jun 2025'!BK52+'Jul-Dez 2025'!BK52+'Jan-Jun 2026'!BK52+'Jul-Dez 2026'!BK52+'Jan-Jun 2027'!BK52+'Jul-Dez 2027'!BK52","v":0},{"$f":"'Jan-Jun 2024'!BK52","v":0},{"$nulls":3},0,0,0,null,0,0,0,0,0,0,0,{"$f":"'Jan-Jun 2024'!CA52+'Jul-Dez 2024'!CA52+'Jan-Jun 2025'!CA52+'Jul-Dez 2025'!CA52+'Jan-Jun 2026'!CA52+'Jul-Dez 2026'!CA52+'Jan-Jun 2027'!CA52+'Jul-Dez 2027'!CA52","v":0},{"$f":"'Jan-Jun 2024'!CA52","v":0}]
[null,349,"ASHST","Ambiente, Segurança, Higiene e Saúde no Trabalho",{"$nulls":5},"F423",25,"António Maltez",{"$nulls":6},6410,"IME","Instalação de Máquinas Elétricas",{"$nulls":5},"K252",50,"Emanuel Serrano",{"$nulls":7},0,0,0,null,0,0,0,0,0,0,0,{"$f":"'Jan-Jun 2024'!AU53+'Jul-Dez 2024'!AU53+'Jan-Jun 2025'!AU53+'Jul-Dez 2025'!AU53+'Jan-Jun 2026'!AU53+'Jul-Dez 2026'!AU53+'Jan-Jun 2027'!AU53+'Jul-Dez 2027'!AU53","v":0},{"$f":"'Jan-Jun 2024'!AU53","v":0},{"$nulls":3},0,0,0,null,0,0,0,0,0,0,0,{"$f":"'Jan-Jun 2024'!BK53+'Jul-Dez 2024'!BK53+'Jan-Jun 2025'!BK53+'Jul-Dez 2025'!BK53+'Jan-Jun 2026'!BK53+'Jul-Dez 2026'!BK53+'Jan-Jun 2027'!BK53+'Jul-Dez 2027'!BK53","v":0},{"$f":"'Jan-Jun 2024'!BK53","v":0},{"$nulls":3},0,0,0,null,0,0,0,0,0,0,0,{"$f":"'Jan-Jun 2024'!CA53+'Jul-Dez 2024'!CA53+'Jan-Jun 2025'!CA53+'Jul-Dez 2025'!CA53+'Jan-Jun 2026'!CA53+'Jul-Dez 2026'!CA53+'Jan-Jun 2027'!CA53+'Jul-Dez 2027'!CA53","v":0},{"$f":"'Jan-Jun 2024'!CA53","v":0}]
[null,5653,"DT","Direito do Trabalho",{"$nulls":5},"B154",25,"Natasha Esteves",{"$nulls":6},6411,"ELE","Eletrónica",{"$nulls":5},"K253",50,"Marco Martinho",{"$nulls":7},0,0,0,null,0,0,0,0,0,0,0,{"$f":"'Jan-Jun 2024'!AU54+'Jul-Dez 2024'!AU54+'Jan-Jun 2025'!AU54+'Jul-Dez 2025'!AU54+'Jan-Jun 2026'!AU54+'Jul-Dez 2026'!AU54+'Jan-Jun 2027'!AU54+'Jul-Dez 2027'!AU54","v":0},{"$f":"'Jan-Jun 2024'!AU54","v":0},{"$nulls":3},0,0,0,null,0,0,0,0,0,0,0,{"$f":"'Jan-Jun 2024'!BK54+'Jul-Dez 2024'!BK54+'Jan-Jun 2025'!BK54+'Jul-Dez 2025'!BK54+'Jan-Jun 2026'!BK54+'Jul-Dez 2026'!BK54+'Jan-Jun 2027'!BK54+'Jul-Dez 2027'!BK54","v":0},{"$f":"'Jan-Jun 2024'!BK54","v":0},{"$nulls":3},0,0,0,null,0,0,0,0,0,0,0,{"$f":"'Jan-Jun 2024'!CA54+'Jul-Dez 2024'!CA54+'Jan-Jun 2025'!CA54+'Jul-Dez 2025'!CA54+'Jan-Jun 2026'!CA54+'Jul-Dez 2026'!CA54+'Jan-Jun 2027'!CA54+'Jul-Dez 2027'!CA54","v":0},{"$f":"'Jan-Jun 2024'!CA54","v":0}]
[null,5768,"ICS","Inglês em Contexto Socioprofissional",{"$nulls":5},"L046",25,"Helena Abelho",{"$nulls":6},6412,"CP","Circuitos Pneumáticos",{"$nulls":5},"E329",25,"Vítor Caetano",{"$nulls":7},0,0,0,null,0,0,0,0,0,0,0,{"$f":"'Jan-Jun 2024'!AU55+'Jul-Dez 2024'!AU55+'Jan-Jun 2025'!AU55+'Jul-Dez 2025'!AU55+'Jan-Jun 2026'!AU55+'Jul-Dez 2026'!AU55+'Jan-Jun 2027'!AU55+'Jul-Dez 2027'!AU55","v":0},{"$f":"'Jan-Jun 2024'!AU55","v":0},{"$nulls":3},0,0,0,null,0,0,0,0,0,0,0,{"$f":"'Jan-Jun 2024'!BK55+'Jul-Dez 2024'!BK55+'Jan-Jun 2025'!BK55+'Jul-Dez 2025'!BK55+'Jan-Jun 2026'!BK55+'Jul-Dez 2026'!BK55+'Jan-Jun 2027'!BK55+'Jul-Dez 2027'!BK55","v":0},{"$f":"'Jan-Jun 2024'!BK55","v":0},{"$nulls":3},0,0,0,null,0,0,0,0,0,0,0,{"$f":"'Jan-Jun 2024'!CA55+'Jul-Dez 2024'!CA55+'Jan-Jun 2025'!CA55+'Jul-Dez 2025'!CA55+'Jan-Jun 2026'!CA55+'Jul-Dez 2026'!CA55+'Jan-Jun 2027'!CA55+'Jul-Dez 2027'!CA55","v":0},{"$f":"'Jan-Jun 2024'!CA55","v":0}]
[{"$nulls":18},6413,"CH","Circuitos Óleo-Hidráulicos",{"$nulls":5},"E330",25,"Vítor Caetano",{"$nulls":7},0,0,0,null,0,0,0,0,0,0,0,{"$f":"'Jan-Jun 2024'!AU56+'Jul-Dez 2024'!AU56+'Jan-Jun 2025'!AU56+'Jul-Dez 2025'!AU56+'Jan-Jun 2026'!AU56+'Jul-Dez 2026'!AU56+'Jan-Jun 2027'!AU56+'Jul-Dez 2027'!AU56","v":0},{"$f":"'Jan-Jun 2024'!AU56","v":0},{"$nulls":3},0,0,0,null,0,0,0,0,0,0,0,{"$f":"'Jan-Jun 2024'!BK56+'Jul-Dez 2024'!BK56+'Jan-Jun 2025'!BK56+'Jul-Dez 2025'!BK56+'Jan-Jun 2026'!BK56+'Jul-Dez 2026'!BK56+'Jan-Jun 2027'!BK56+'Jul-Dez 2027'!BK56","v":0},{"$f":"'Jan-Jun 2024'!BK56","v":0},{"$nulls":3},0,0,0,null,0,0,0,0,0,0,0,{"$f":"'Jan-Jun 2024'!CA56+'Jul-Dez 2024'!CA56+'Jan-Jun 2025'!CA56+'Jul-Dez 2025'!CA56+'Jan-Jun 2026'!CA56+'Jul-Dez 2026'!CA56+'Jan-Jun 2027'!CA56+'Jul-Dez 2027'!CA56","v":0},{"$f":"'Jan-Jun 2024'!CA56","v":0}]
[{"$nulls":18},6414,"CLP","Controladores Lógicos Programáveis",{"$nulls":5},"C589",50,"Rafael Matos",{"$nulls":7},0,0,0,null,0,0,0,0,0,0,0,{"$f":"'Jan-Jun 2024'!AU57+'Jul-Dez 2024'!AU57+'Jan-Jun 2025'!AU57+'Jul-Dez 2025'!AU57+'Jan-Jun 2026'!AU57+'Jul-Dez 2026'!AU57+'Jan-Jun 2027'!AU57+'Jul-Dez 2027'!AU57","v":0},{"$f":"'Jan-Jun 2024'!AU57","v":0},{"$nulls":3},0,0,0,null,0,0,0,0,0,0,0,{"$f":"'Jan-Jun 2024'!BK57+'Jul-Dez 2024'!BK57+'Jan-Jun 2025'!BK57+'Jul-Dez 2025'!BK57+'Jan-Jun 2026'!BK57+'Jul-Dez 2026'!BK57+'Jan-Jun 2027'!BK57+'Jul-Dez 2027'!BK57","v":0},{"$f":"'Jan-Jun 2024'!BK57","v":0},{"$nulls":3},0,0,0,null,0,0,0,0,0,0,0,{"$f":"'Jan-Jun 2024'!CA57+'Jul-Dez 2024'!CA57+'Jan-Jun 2025'!CA57+'Jul-Dez 2025'!CA57+'Jan-Jun 2026'!CA57+'Jul-Dez 2026'!CA57+'Jan-Jun 2027'!CA57+'Jul-Dez 2027'!CA57","v":0},{"$f":"'Jan-Jun 2024'!CA57","v":0}]
[{"$nulls":18},6415,"DCM","Desenho de Construções Mecânicas",{"$nulls":5},"A438",50,"Luís Carvalho",{"$nulls":7},0,0,0,null,0,0,0,0,0,0,0,{"$f":"'Jan-Jun 2024'!AU58+'Jul-Dez 2024'!AU58+'Jan-Jun 2025'!AU58+'Jul-Dez 2025'!AU58+'Jan-Jun 2026'!AU58+'Jul-Dez 2026'!AU58+'Jan-Jun 2027'!AU58+'Jul-Dez 2027'!AU58","v":0},{"$f":"'Jan-Jun 2024'!AU58","v":0},{"$nulls":3},0,0,0,null,0,0,0,0,0,0,0,{"$f":"'Jan-Jun 2024'!BK58+'Jul-Dez 2024'!BK58+'Jan-Jun 2025'!BK58+'Jul-Dez 2025'!BK58+'Jan-Jun 2026'!BK58+'Jul-Dez 2026'!BK58+'Jan-Jun 2027'!BK58+'Jul-Dez 2027'!BK58","v":0},{"$f":"'Jan-Jun 2024'!BK58","v":0},{"$nulls":3},0,0,0,null,0,0,0,0,0,0,0,{"$f":"'Jan-Jun 2024'!CA58+'Jul-Dez 2024'!CA58+'Jan-Jun 2025'!CA58+'Jul-Dez 2025'!CA58+'Jan-Jun 2026'!CA58+'Jul-Dez 2026'!CA58+'Jan-Jun 2027'!CA58+'Jul-Dez 2027'!CA58","v":0},{"$f":"'Jan-Jun 2024'!CA58","v":0}]
[{"$nulls":18},6416,"CM","Ciência dos Materiais",{"$nulls":5},"C590",50,"Luís Carvalho",{"$nulls":5},"M","APF",0,0,0,25,0,0,0,0,0,0,{"$f":"SUM(AO59:AT59)","v":0},{"$f":"'Jan-Jun 2024'!AU59+'Jul-Dez 2024'!AU59+'Jan-Jun 2025'!AU59+'Jul-Dez 2025'!AU59+'Jan-Jun 2026'!AU59+'Jul-Dez 2026'!AU59+'Jan-Jun 2027'!AU59+'Jul-Dez 2027'!AU59","v":0},{"$f":"'Jan-Jun 2024'!AU59","v":0},{"$nulls":3},0,0,0,null,0,0,0,0,0,0,{"$f":"SUM(BE59:BJ59)","v":0},{"$f":"'Jan-Jun 2024'!BK59+'Jul-Dez 2024'!BK59+'Jan-Jun 2025'!BK59+'Jul-Dez 2025'!BK59+'Jan-Jun 2026'!BK59+'Jul-Dez 2026'!BK59+'Jan-Jun 2027'!BK59+'Jul-Dez 2027'!BK59","v":0},{"$f":"'Jan-Jun 2024'!BK59","v":0},{"$nulls":3},0,0,0,null,0,0,0,0,0,0,{"$f":"SUM(BU59:BZ59)","v":0},{"$f":"'Jan-Jun 2024'!CA59+'Jul-Dez 2024'!CA59+'Jan-Jun 2025'!CA59+'Jul-Dez 2025'!CA59+'Jan-Jun 2026'!CA59+'Jul-Dez 2026'!CA59+'Jan-Jun 2027'!CA59+'Jul-Dez 2027'!CA59","v":0},{"$f":"'Jan-Jun 2024'!CA59","v":0}]
[{"$nulls":18},6417,"SD","Sistemas Digitais",{"$nulls":5},"I159",50,"Rafael Matos",{"$nulls":7},0,0,0,null,0,0,0,0,0,0,0,{"$f":"'Jan-Jun 2024'!AU60+'Jul-Dez 2024'!AU60+'Jan-Jun 2025'!AU60+'Jul-Dez 2025'!AU60+'Jan-Jun 2026'!AU60+'Jul-Dez 2026'!AU60+'Jan-Jun 2027'!AU60+'Jul-Dez 2027'!AU60","v":0},{"$f":"'Jan-Jun 2024'!AU60","v":0},{"$nulls":3},0,0,0,null,0,0,0,0,0,0,0,{"$f":"'Jan-Jun 2024'!BK60+'Jul-Dez 2024'!BK60+'Jan-Jun 2025'!BK60+'Jul-Dez 2025'!BK60+'Jan-Jun 2026'!BK60+'Jul-Dez 2026'!BK60+'Jan-Jun 2027'!BK60+'Jul-Dez 2027'!BK60","v":0},{"$f":"'Jan-Jun 2024'!BK60","v":0},{"$nulls":3},0,0,0,null,0,0,0,0,0,0,0,{"$f":"'Jan-Jun 2024'!CA60+'Jul-Dez 2024'!CA60+'Jan-Jun 2025'!CA60+'Jul-Dez 2025'!CA60+'Jan-Jun 2026'!CA60+'Jul-Dez 2026'!CA60+'Jan-Jun 2027'!CA60+'Jul-Dez 2027'!CA60","v":0},{"$f":"'Jan-Jun 2024'!CA60","v":0}]
[{"$nulls":18},6418,"OEM","Órgãos e Elementos de Máquinas",{"$nulls":5},"C591",50,"Luís Carvalho",{"$nulls":7},0,0,0,null,0,0,0,0,0,0,0,{"$f":"'Jan-Jun 2024'!AU61+'Jul-Dez 2024'!AU61+'Jan-Jun 2025'!AU61+'Jul-Dez 2025'!AU61+'Jan-Jun 2026'!AU61+'Jul-Dez 2026'!AU61+'Jan-Jun 2027'!AU61+'Jul-Dez 2027'!AU61","v":0},{"$f":"'Jan-Jun 2024'!AU61","v":0},{"$nulls":3},0,0,0,null,0,0,0,0,0,0,0,{"$f":"'Jan-Jun 2024'!BK61+'Jul-Dez 2024'!BK61+'Jan-Jun 2025'!BK61+'Jul-Dez 2025'!BK61+'Jan-Jun 2026'!BK61+'Jul-Dez 2026'!BK61+'Jan-Jun 2027'!BK61+'Jul-Dez 2027'!BK61","v":0},{"$f":"'Jan-Jun 2024'!BK61","v":0},{"$nulls":3},0,0,0,null,0,0,0,0,0,0,0,{"$f":"'Jan-Jun 2024'!CA61+'Jul-Dez 2024'!CA61+'Jan-Jun 2025'!CA61+'Jul-Dez 2025'!CA61+'Jan-Jun 2026'!CA61+'Jul-Dez 2026'!CA61+'Jan-Jun 2027'!CA61+'Jul-Dez 2027'!CA61","v":0},{"$f":"'Jan-Jun 2024'!CA61","v":0}]
[null,null,"EG","Eletricidade Geral",{"$nulls":5},"K264",50,"Rafael Matos",{"$nulls":6},6419,"IP","Introdução à Programação",{"$nulls":5},"I160",50,"Vítor Caetano",{"$nulls":7},0,0,0,null,0,0,0,0,0,0,0,{"$f":"'Jan-Jun 2024'!AU62+'Jul-Dez 2024'!AU62+'Jan-Jun 2025'!AU62+'Jul-Dez 2025'!AU62+'Jan-Jun 2026'!AU62+'Jul-Dez 2026'!AU62+'Jan-Jun 2027'!AU62+'Jul-Dez 2027'!AU62","v":0},{"$f":"'Jan-Jun 2024'!AU62","v":0},{"$nulls":3},0,0,0,null,0,0,0,0,0,0,0,{"$f":"'Jan-Jun 2024'!BK62+'Jul-Dez 2024'!BK62+'Jan-Jun 2025'!BK62+'Jul-Dez 2025'!BK62+'Jan-Jun 2026'!BK62+'Jul-Dez 2026'!BK62+'Jan-Jun 2027'!BK62+'Jul-Dez 2027'!BK62","v":0},{"$f":"'Jan-Jun 2024'!BK62","v":0},{"$nulls":3},0,0,0,null,0,0,0,0,0,0,0,{"$f":"'Jan-Jun 2024'!CA62+'Jul-Dez 2024'!CA62+'Jan-Jun 2025'!CA62+'Jul-Dez 2025'!CA62+'Jan-Jun 2026'!CA62+'Jul-Dez 2026'!CA62+'Jan-Jun 2027'!CA62+'Jul-Dez 2027'!CA62","v":0},{"$f":"'Jan-Jun 2024'!CA62","v":0}]
[{"$nulls":18},6420,"ELP","Eletrónica de Potência - Fundamentos",{"$nulls":5},"K254",50,"Marco Martinho",{"$nulls":7},0,0,0,null,0,0,0,0,0,0,0,{"$f":"'Jan-Jun 2024'!AU63+'Jul-Dez 2024'!AU63+'Jan-Jun 2025'!AU63+'Jul-Dez 2025'!AU63+'Jan-Jun 2026'!AU63+'Jul-Dez 2026'!AU63+'Jan-Jun 2027'!AU63+'Jul-Dez 2027'!AU63","v":0},{"$f":"'Jan-Jun 2024'!AU63","v":0},{"$nulls":3},0,0,0,null,0,0,0,0,0,0,0,{"$f":"'Jan-Jun 2024'!BK63+'Jul-Dez 2024'!BK63+'Jan-Jun 2025'!BK63+'Jul-Dez 2025'!BK63+'Jan-Jun 2026'!BK63+'Jul-Dez 2026'!BK63+'Jan-Jun 2027'!BK63+'Jul-Dez 2027'!BK63","v":0},{"$f":"'Jan-Jun 2024'!BK63","v":0},{"$nulls":3},0,0,0,null,0,0,0,0,0,0,0,{"$f":"'Jan-Jun 2024'!CA63+'Jul-Dez 2024'!CA63+'Jan-Jun 2025'!CA63+'Jul-Dez 2025'!CA63+'Jan-Jun 2026'!CA63+'Jul-Dez 2026'!CA63+'Jan-Jun 2027'!CA63+'Jul-Dez 2027'!CA63","v":0},{"$f":"'Jan-Jun 2024'!CA63","v":0}]
[null,null,"IGE","Inteligência Emocional e Gestão Emocional",{"$nulls":6},60,"Marta Leal",{"$nulls":6},6421,"MM","Microprocessadores / Microcontroladores",{"$nulls":5},"I161",50,"Marco Martinho",{"$nulls":7},0,0,0,null,0,0,0,0,0,0,0,{"$f":"'Jan-Jun 2024'!AU64+'Jul-Dez 2024'!AU64+'Jan-Jun 2025'!AU64+'Jul-Dez 2025'!AU64+'Jan-Jun 2026'!AU64+'Jul-Dez 2026'!AU64+'Jan-Jun 2027'!AU64+'Jul-Dez 2027'!AU64","v":0},{"$f":"'Jan-Jun 2024'!AU64","v":0},{"$nulls":3},0,0,0,null,0,0,0,0,0,0,0,{"$f":"'Jan-Jun 2024'!BK64+'Jul-Dez 2024'!BK64+'Jan-Jun 2025'!BK64+'Jul-Dez 2025'!BK64+'Jan-Jun 2026'!BK64+'Jul-Dez 2026'!BK64+'Jan-Jun 2027'!BK64+'Jul-Dez 2027'!BK64","v":0},{"$f":"'Jan-Jun 2024'!BK64","v":0},{"$nulls":3},0,0,0,null,0,0,0,0,0,0,0,{"$f":"'Jan-Jun 2024'!CA64+'Jul-Dez 2024'!CA64+'Jan-Jun 2025'!CA64+'Jul-Dez 2025'!CA64+'Jan-Jun 2026'!CA64+'Jul-Dez 2026'!CA64+'Jan-Jun 2027'!CA64+'Jul-Dez 2027'!CA64","v":0},{"$f":"'Jan-Jun 2024'!CA64","v":0}]
[{"$nulls":18},5134,"ROB","Robótica - Fundamentos",{"$nulls":5},"E331",50,"Marco Martinho",{"$nulls":7},0,0,0,null,0,0,0,0,0,0,0,{"$f":"'Jan-Jun 2024'!AU65+'Jul-Dez 2024'!AU65+'Jan-Jun 2025'!AU65+'Jul-Dez 2025'!AU65+'Jan-Jun 2026'!AU65+'Jul-Dez 2026'!AU65+'Jan-Jun 2027'!AU65+'Jul-Dez 2027'!AU65","v":0},{"$f":"'Jan-Jun 2024'!AU65","v":0},{"$nulls":3},0,0,0,null,0,0,0,0,0,0,0,{"$f":"'Jan-Jun 2024'!BK65+'Jul-Dez 2024'!BK65+'Jan-Jun 2025'!BK65+'Jul-Dez 2025'!BK65+'Jan-Jun 2026'!BK65+'Jul-Dez 2026'!BK65+'Jan-Jun 2027'!BK65+'Jul-Dez 2027'!BK65","v":0},{"$f":"'Jan-Jun 2024'!BK65","v":0},{"$nulls":3},0,0,0,null,0,0,0,0,0,0,0,{"$f":"'Jan-Jun 2024'!CA65+'Jul-Dez 2024'!CA65+'Jan-Jun 2025'!CA65+'Jul-Dez 2025'!CA65+'Jan-Jun 2026'!CA65+'Jul-Dez 2026'!CA65+'Jan-Jun 2027'!CA65+'Jul-Dez 2027'!CA65","v":0},{"$f":"'Jan-Jun 2024'!CA65","v":0}]
[{"$nulls":18},6422,"MET","Metrologia por Coordenadas",{"$nulls":5},"C592",50,"Miguel Franco",{"$nulls":7},0,0,0,null,0,0,0,0,0,0,0,{"$f":"'Jan-Jun 2024'!AU66+'Jul-Dez 2024'!AU66+'Jan-Jun 2025'!AU66+'Jul-Dez 2025'!AU66+'Jan-Jun 2026'!AU66+'Jul-Dez 2026'!AU66+'Jan-Jun 2027'!AU66+'Jul-Dez 2027'!AU66","v":0},{"$f":"'Jan-Jun 2024'!AU66","v":0},{"$nulls":3},0,0,0,null,0,0,0,0,0,0,0,{"$f":"'Jan-Jun 2024'!BK66+'Jul-Dez 2024'!BK66+'Jan-Jun 2025'!BK66+'Jul-Dez 2025'!BK66+'Jan-Jun 2026'!BK66+'Jul-Dez 2026'!BK66+'Jan-Jun 2027'!BK66+'Jul-Dez 2027'!BK66","v":0},{"$f":"'Jan-Jun 2024'!BK66","v":0},{"$nulls":3},0,0,0,null,0,0,0,0,0,0,0,{"$f":"'Jan-Jun 2024'!CA66+'Jul-Dez 2024'!CA66+'Jan-Jun 2025'!CA66+'Jul-Dez 2025'!CA66+'Jan-Jun 2026'!CA66+'Jul-Dez 2026'!CA66+'Jan-Jun 2027'!CA66+'Jul-Dez 2027'!CA66","v":0},{"$f":"'Jan-Jun 2024'!CA66","v":0}]
[{"$nulls":18},6423,"CNC","CNC - Comando Numérico por Computador",{"$nulls":5},"C593",50,"Miguel Paulo",{"$nulls":7},0,0,0,null,0,0,0,0,0,0,0,{"$f":"'Jan-Jun 2024'!AU67+'Jul-Dez 2024'!AU67+'Jan-Jun 2025'!AU67+'Jul-Dez 2025'!AU67+'Jan-Jun 2026'!AU67+'Jul-Dez 2026'!AU67+'Jan-Jun 2027'!AU67+'Jul-Dez 2027'!AU67","v":0},{"$f":"'Jan-Jun 2024'!AU67","v":0},{"$nulls":3},0,0,0,null,0,0,0,0,0,0,0,{"$f":"'Jan-Jun 2024'!BK67+'Jul-Dez 2024'!BK67+'Jan-Jun 2025'!BK67+'Jul-Dez 2025'!BK67+'Jan-Jun 2026'!BK67+'Jul-Dez 2026'!BK67+'Jan-Jun 2027'!BK67+'Jul-Dez 2027'!BK67","v":0},{"$f":"'Jan-Jun 2024'!BK67","v":0},{"$nulls":3},0,0,0,null,0,0,0,0,0,0,0,{"$f":"'Jan-Jun 2024'!CA67+'Jul-Dez 2024'!CA67+'Jan-Jun 2025'!CA67+'Jul-Dez 2025'!CA67+'Jan-Jun 2026'!CA67+'Jul-Dez 2026'!CA67+'Jan-Jun 2027'!CA67+'Jul-Dez 2027'!CA67","v":0},{"$f":"'Jan-Jun 2024'!CA67","v":0}]
[null,null,"Salas:",null,"SEG","TER","QUA","QUI","SEX",{"$nulls":9},6424,"CAM","CAM - Fabricação Assistida por Computador",{"$nulls":5},"C594",50,"João Franco",{"$nulls":7},0,0,0,null,0,0,0,0,0,0,0,{"$f":"'Jan-Jun 2024'!AU68+'Jul-Dez 2024'!AU68+'Jan-Jun 2025'!AU68+'Jul-Dez 2025'!AU68+'Jan-Jun 2026'!AU68+'Jul-Dez 2026'!AU68+'Jan-Jun 2027'!AU68+'Jul-Dez 2027'!AU68","v":0},{"$f":"'Jan-Jun 2024'!AU68","v":0},{"$nulls":3},0,0,0,null,0,0,0,0,0,0,0,{"$f":"'Jan-Jun 2024'!BK68+'Jul-Dez 2024'!BK68+'Jan-Jun 2025'!BK68+'Jul-Dez 2025'!BK68+'Jan-Jun 2026'!BK68+'Jul-Dez 2026'!BK68+'Jan-Jun 2027'!BK68+'Jul-Dez 2027'!BK68","v":0},{"$f":"'Jan-Jun 2024'!BK68","v":0},{"$nulls":3},0,0,0,null,0,0,0,0,0,0,0,{"$f":"'Jan-Jun 2024'!CA68+'Jul-Dez 2024'!CA68+'Jan-Jun 2025'!CA68+'Jul-Dez 2025'!CA68+'Jan-Jun 2026'!CA68+'Jul-Dez 2026'!CA68+'Jan-Jun 2027'!CA68+'Jul-Dez 2027'!CA68","v":0},{"$f":"'Jan-Jun 2024'!CA68","v":0}]
[{"$nulls":18},6425,"PAC","Projecto Assistido por Computador",{"$nulls":5},"A434",50,"João Catarino",{"$nulls":7},0,0,0,null,0,0,0,0,0,0,0,{"$f":"'Jan-Jun 2024'!AU69+'Jul-Dez 2024'!AU69+'Jan-Jun 2025'!AU69+'Jul-Dez 2025'!AU69+'Jan-Jun 2026'!AU69+'Jul-Dez 2026'!AU69+'Jan-Jun 2027'!AU69+'Jul-Dez 2027'!AU69","v":0},{"$f":"'Jan-Jun 2024'!AU69","v":0},{"$nulls":3},0,0,0,null,0,0,0,0,0,0,0,{"$f":"'Jan-Jun 2024'!BK69+'Jul-Dez 2024'!BK69+'Jan-Jun 2025'!BK69+'Jul-Dez 2025'!BK69+'Jan-Jun 2026'!BK69+'Jul-Dez 2026'!BK69+'Jan-Jun 2027'!BK69+'Jul-Dez 2027'!BK69","v":0},{"$f":"'Jan-Jun 2024'!BK69","v":0},{"$nulls":3},0,0,0,null,0,0,0,0,0,0,0,{"$f":"'Jan-Jun 2024'!CA69+'Jul-Dez 2024'!CA69+'Jan-Jun 2025'!CA69+'Jul-Dez 2025'!CA69+'Jan-Jun 2026'!CA69+'Jul-Dez 2026'!CA69+'Jan-Jun 2027'!CA69+'Jul-Dez 2027'!CA69","v":0},{"$f":"'Jan-Jun 2024'!CA69","v":0}]
[{"$nulls":17},"Estágio",null,"PCT","Prática em Contexto Trabalho",{"$nulls":5},"K259",560,"Tutores",{"$nulls":7},0,0,0,null,0,0,0,0,0,0,0,{"$f":"'Jan-Jun 2024'!AU70+'Jul-Dez 2024'!AU70+'Jan-Jun 2025'!AU70+'Jul-Dez 2025'!AU70+'Jan-Jun 2026'!AU70+'Jul-Dez 2026'!AU70+'Jan-Jun 2027'!AU70+'Jul-Dez 2027'!AU70","v":0},{"$f":"'Jan-Jun 2024'!AU70","v":0},{"$nulls":3},0,0,0,null,0,0,0,0,0,0,0,{"$f":"'Jan-Jun 2024'!BK70+'Jul-Dez 2024'!BK70+'Jan-Jun 2025'!BK70+'Jul-Dez 2025'!BK70+'Jan-Jun 2026'!BK70+'Jul-Dez 2026'!BK70+'Jan-Jun 2027'!BK70+'Jul-Dez 2027'!BK70","v":0},{"$f":"'Jan-Jun 2024'!BK70","v":0},{"$nulls":3},0,0,0,null,0,0,0,0,0,0,0,{"$f":"'Jan-Jun 2024'!CA70+'Jul-Dez 2024'!CA70+'Jan-Jun 2025'!CA70+'Jul-Dez 2025'!CA70+'Jan-Jun 2026'!CA70+'Jul-Dez 2026'!CA70+'Jan-Jun 2027'!CA70+'Jul-Dez 2027'!CA70","v":0},{"$f":"'Jan-Jun 2024'!CA70","v":0}]
[null,null,"R. Quantitativas:",{"$nulls":14},"Projecto Final",null,"APF","Acompanhamento ao Projeto Final",{"$nulls":6},16,"Orientadores",{"$nulls":7},0,0,0,null,0,0,0,0,0,0,0,{"$f":"'Jan-Jun 2024'!AU71+'Jul-Dez 2024'!AU71+'Jan-Jun 2025'!AU71+'Jul-Dez 2025'!AU71+'Jan-Jun 2026'!AU71+'Jul-Dez 2026'!AU71+'Jan-Jun 2027'!AU71+'Jul-Dez 2027'!AU71","v":0},{"$f":"'Jan-Jun 2024'!AU71","v":0},{"$nulls":3},0,0,0,null,0,0,0,0,0,0,0,{"$f":"'Jan-Jun 2024'!BK71+'Jul-Dez 2024'!BK71+'Jan-Jun 2025'!BK71+'Jul-Dez 2025'!BK71+'Jan-Jun 2026'!BK71+'Jul-Dez 2026'!BK71+'Jan-Jun 2027'!BK71+'Jul-Dez 2027'!BK71","v":0},{"$f":"'Jan-Jun 2024'!BK71","v":0},{"$nulls":3},0,0,0,null,0,0,0,0,0,0,0,{"$f":"'Jan-Jun 2024'!CA71+'Jul-Dez 2024'!CA71+'Jan-Jun 2025'!CA71+'Jul-Dez 2025'!CA71+'Jan-Jun 2026'!CA71+'Jul-Dez 2026'!CA71+'Jan-Jun 2027'!CA71+'Jul-Dez 2027'!CA71","v":0},{"$f":"'Jan-Jun 2024'!CA71","v":0}]
[{"$nulls":19},"PFI","Projecto Final Integrado - Apresentação e Discussão",{"$nulls":7},"Júri",{"$nulls":7},0,0,0,null,0,0,0,0,0,0,0,{"$f":"'Jan-Jun 2024'!AU72+'Jul-Dez 2024'!AU72+'Jan-Jun 2025'!AU72+'Jul-Dez 2025'!AU72+'Jan-Jun 2026'!AU72+'Jul-Dez 2026'!AU72+'Jan-Jun 2027'!AU72+'Jul-Dez 2027'!AU72","v":0},{"$f":"'Jan-Jun 2024'!AU72","v":0},{"$nulls":3},0,0,0,null,0,0,0,0,0,0,0,{"$f":"'Jan-Jun 2024'!BK72+'Jul-Dez 2024'!BK72+'Jan-Jun 2025'!BK72+'Jul-Dez 2025'!BK72+'Jan-Jun 2026'!BK72+'Jul-Dez 2026'!BK72+'Jan-Jun 2027'!BK72+'Jul-Dez 2027'!BK72","v":0},{"$f":"'Jan-Jun 2024'!BK72","v":0},{"$nulls":3},0,0,0,null,0,0,0,0,0,0,0,{"$f":"'Jan-Jun 2024'!CA72+'Jul-Dez 2024'!CA72+'Jan-Jun 2025'!CA72+'Jul-Dez 2025'!CA72+'Jan-Jun 2026'!CA72+'Jul-Dez 2026'!CA72+'Jan-Jun 2027'!CA72+'Jul-Dez 2027'!CA72","v":0},{"$f":"'Jan-Jun 2024'!CA72","v":0}]
[{"$nulls":36},{"$f":"IF(AI73=$DI$8,AM73,IF(AI73=$DI$9,AM73,IF(AI73=$DI$10,AL73,)))","v":0},0,{"$f":"IF(AI73=$DI$8,AL73,IF(AI73=$DI$9,AM74+AL73,IF(AI73=$DI$10,IF(AI74=$DI$10,AM74+AL73,AL73),)))","v":0},null,{"$f":"COUNTIF($C$10:$AG$13,$AJ73)","v":0},{"$f":"COUNTIF($C$17:$AG$20,$AJ73)","v":0},{"$f":"COUNTIF($C$24:$AG$27,$AJ73)","v":0},{"$f":"COUNTIF($C$31:$AG$34,$AJ73)","v":0},{"$f":"COUNTIF($C$38:$AG$41,$AJ73)","v":0},{"$f":"COUNTIF($C$45:$AG$48,$AJ73)","v":0},0,{"$f":"'Jan-Jun 2024'!AU73+'Jul-Dez 2024'!AU73+'Jan-Jun 2025'!AU73+'Jul-Dez 2025'!AU73+'Jan-Jun 2026'!AU73+'Jul-Dez 2026'!AU73+'Jan-Jun 2027'!AU73+'Jul-Dez 2027'!AU73","v":0},{"$f":"'Jan-Jun 2024'!AU73","v":0},{"$nulls":3},{"$f":"IF(AY73=$DI$8,BC73,IF(AY73=$DI$9,BC73,IF(AY73=$DI$10,BB73,)))","v":0},0,{"$f":"IF(AY73=$DI$8,BB73,IF(AY73=$DI$9,BC74+BB73,IF(AY73=$DI$10,IF(AY74=$DI$10,BC74+BB73,BB73),)))","v":0},null,{"$f":"COUNTIF($C$10:$AG$13,$AZ73)","v":0},{"$f":"COUNTIF($C$17:$AG$20,$AZ73)","v":0},{"$f":"COUNTIF($C$24:$AG$27,$AZ73)","v":0},{"$f":"COUNTIF($C$31:$AG$34,$AZ73)","v":0},{"$f":"COUNTIF($C$38:$AG$41,$AZ73)","v":0},{"$f":"COUNTIF($C$45:$AG$48,$AZ73)","v":0},0,{"$f":"'Jan-Jun 2024'!BK73+'Jul-Dez 2024'!BK73+'Jan-Jun 2025'!BK73+'Jul-Dez 2025'!BK73+'Jan-Jun 2026'!BK73+'Jul-Dez 2026'!BK73+'Jan-Jun 2027'!BK73+'Jul-Dez 2027'!BK73","v":0},{"$f":"'Jan-Jun 2024'!BK73","v":0},{"$nulls":3},{"$f":"IF(BO73=$DI$8,BS73,IF(BO73=$DI$9,BS73,IF(BO73=$DI$10,BR73,)))","v":0},0,{"$f":"IF(BO73=$DI$8,BR73,IF(BO73=$DI$9,BS74+BR73,IF(BO73=$DI$10,IF(BO74=$DI$10,BS74+BR73,BR73),)))","v":0},null,{"$f":"COUNTIF($C$10:$AG$13,$BP73)","v":0},{"$f":"COUNTIF($C$17:$AG$20,$BP73)","v":0},{"$f":"COUNTIF($C$24:$AG$27,$BP73)","v":0},{"$f":"COUNTIF($C$31:$AG$34,$BP73)","v":0},{"$f":"COUNTIF($C$38:$AG$41,$BP73)","v":0},{"$f":"COUNTIF($C$45:$AG$48,$BP73)","v":0},0,{"$f":"'Jan-Jun 2024'!CA73+'Jul-Dez 2024'!CA73+'Jan-Jun 2025'!CA73+'Jul-Dez 2025'!CA73+'Jan-Jun 2026'!CA73+'Jul-Dez 2026'!CA73+'Jan-Jun 2027'!CA73+'Jul-Dez 2027'!CA73","v":0},{"$f":"'Jan-Jun 2024'!CA73","v":0}]
[]
[{"$nulls":36},{"$f":"SUMIF(AI8:AI73,\"=M\",AK8:AK73)+SUMIF(AI8:AI73,\"=T\",AK8:AK73)","v":0},null,null,{"$f":"SUMIF(AI8:AI73,\"=M\",AN8:AN73)+SUMIF(AI8:AI73,\"=T\",AN8:AN73)","v":900},{"$nulls":12},{"$f":"SUMIF(AY8:AY73,\"=M\",BA8:BA73)+SUMIF(AY8:AY73,\"=T\",BA8:BA73)","v":0},null,null,{"$f":"SUMIF(AY8:AY73,\"=M\",BD8:BD73)+SUMIF(AY8:AY73,\"=T\",BD8:BD73)","v":260},{"$nulls":12},{"$f":"SUMIF(BO8:BO73,\"=M\",BQ8:BQ73)+SUMIF(BO8:BO73,\"=T\",BQ8:BQ73)","v":0},null,null,{"$f":"SUMIF(BO8:BO73,\"=M\",BT8:BT73)+SUMIF(BO8:BO73,\"=T\",BT8:BT73)","v":0}]
[{"$nulls":34},"Totais",null,{"$f":"AK75+BA75+BQ75","v":0},null,null,{"$f":"AN75+BD75+BT75","v":1160}]

{"sheet":"Jul-Dez 2024","index":2,"n_rows":76,"n_cols":113,"rows_kept":76,"merged":[[0,25,0,32],[0,34,2,39],[0,40,6,40],[0,41,6,41],[0,42,6,42],[0,43,6,43],[0,44,6,44],[0,45,6,45],[0,46,6,46],[0,47,6,47],[0,48,6,48],[0,50,2,55],[0,56,6,56],[0,57,6,57],[0,58,6,58],[0,59,6,59],[0,60,6,60],[0,61,6,61],[0,62,6,62],[0,63,6,63],[0,64,6,64],[0,66,2,71],[0,72,6,72],[0,73,6,73],[0,74,6,74],[0,75,6,75],[0,76,6,76],[0,77,6,77],[0,78,6,78],[0,79,6,79],[0,80,6,80],[0,111,6,111],[0,112,6,112],[1,25,1,32],[2,25,2,32],[3,25,3,32],[3,34,6,34],[3,35,6,35],[3,36,6,36],[3,37,6,37],[3,38,6,38],[3,39,6,39],[3,50,6,50],[3,51,6,51],[3,52,6,52],[3,53,6,53],[3,54,6,54],[3,55,6,55],[3,66,6,66],[3,67,6,67],[3,68,6,68],[3,69,6,69],[3,70,6,70],[3,71,6,71],[4,0,4,2],[4,3,4,9],[4,10,4,13],[4,14,4,21],[4,22,4,26],[4,27,4,29],[4,30,4,32],[5,0,5,2],[5,3,5,9],[5,10,5,13],[5,14,5,21],[5,22,5,26],[5,27,5,29],[5,30,5,32],[6,0,6,2],[6,3,6,9],[6,10,6,13],[6,14,6,21],[6,22,6,26],[6,27,6,29],[6,30,6,32],[7,0,8,1],[9,0,9,1],[10,0,10,1],[11,0,11,1],[12,0,12,1],[14,0,15,1],[16,0,16,1],[17,0,17,1],[18,0,18,1],[19,0,19,1],[21,0,22,1],[23,0,23,1],[24,0,24,1],[25,0,25,1],[26,0,26,1],[28,0,29,1],[30,0,30,1],[31,0,31,1],[32,0,32,1],[33,0,33,1],[35,0,36,1],[37,0,37,1],[38,0,38,1],[39,0,39,1],[40,0,40,1],[42,0,43,1],[44,0,44,1],[45,0,45,1],[46,0,46,1],[47,0,47,1],[48,2,48,8],[48,11,48,13],[48,17,48,19],[48,20,48,25],[48,28,48,30],[49,0,54,0],[49,3,49,8],[49,11,49,13],[49,17,68,17],[49,20,49,25],[49,28,49,30],[50,3,50,8],[50,11,50,13],[50,20,50,25],[50,28,50,30],[51,3,51,8],[51,11,51,13],[51,20,51,25],[51,28,51,30],[52,3,52,8],[52,11,52,13],[52,20,52,25],[52,28,52,30],[53,3,53,8],[53,11,53,13],[53,20,53,25],[53,28,53,30],[54,3,54,8],[54,11,54,13],[54,20,54,25],[54,28,54,30],[55,20,55,25],[55,28,55,30],[56,3,56,9],[56,20,56,25],[56,28,56,30],[57,4,57,9],[57,20,57,25],[57,28,57,30],[58,4,58,9],[58,20,58,25],[58,28,58,30],[59,4,59,9],[59,20,59,25],[59,28,59,30],[60,20,60,25],[60,28,60,30],[61,3,61,8],[61,20,61,25],[61,28,61,30],[62,20,62,25],[62,28,62,30],[63,3,63,8],[63,20,63,25],[63,28,63,30],[64,20,64,25],[64,28,64,30],[65,20,65,25],[65,28,65,30],[66,20,66,25],[66,28,66,30],[67,2,68,3],[67,20,67,25],[67,28,67,30],[68,20,68,25],[68,28,68,30],[69,20,69,25],[69,28,69,30],[70,4,70,5],[70,6,70,7],[70,8,70,9],[70,17,71,17],[70,20,70,25],[70,28,70,30],[71,20,71,25],[71,28,71,30],[75,34,75,35]]}
[{"$nulls":40},{"$f":"TEXT(#REF!,\"mmm\")","v":{"$error":"#REF!"}},{"$f":"TEXT($A$9,\"mmm\")","v":"jan"},{"$f":"TEXT($A$16,\"mmm\")","v":"jan"},{"$f":"TEXT($A$23,\"mmm\")","v":"jan"},{"$f":"TEXT($A$30,\"mmm\")","v":"jan"},{"$f":"TEXT($A$37,\"mmm\")","v":"jan"},"Total  Folha","Total Global","Total  Acum.",{"$nulls":7},{"$f":"TEXT(#REF!,\"mmm\")","v":{"$error":"#REF!"}},{"$f":"TEXT($A$9,\"mmm\")","v":"jan"},{"$f":"TEXT($A$16,\"mmm\")","v":"jan"},{"$f":"TEXT($A$23,\"mmm\")","v":"jan"},{"$f":"TEXT($A$30,\"mmm\")","v":"jan"},{"$f":"TEXT($A$37,\"mmm\")","v":"jan"},"Total  Folha","Total Global","Total  Acum.",{"$nulls":7},{"$f":"TEXT(#REF!,\"mmm\")","v":{"$error":"#REF!"}},{"$f":"TEXT($A$9,\"mmm\")","v":"jan"},{"$f":"TEXT($A$16,\"mmm\")","v":"jan"},{"$f":"TEXT($A$23,\"mmm\")","v":"jan"},{"$f":"TEXT($A$30,\"mmm\")","v":"jan"},{"$f":"TEXT($A$37,\"mmm\")","v":"jan"},"Total  Folha","Total Global","Total  Acum.",{"$nulls":30},"tipo_soma","tipo_contador"]
[{"$nulls":25},"Director(a):"]
[{"$nulls":25},"(Cristina Botas)"]
[{"$nulls":34},"Tipo","Módulo","ST","Origem","Cálculo","Objetivo",{"$nulls":10},"Tipo","Módulo",{"$f":"AK4","v":"ST"},"Origem","Cálculo","Objetivo",{"$nulls":10},"Tipo","Módulo",{"$f":"AK4","v":"ST"},"Origem","Cálculo","Objetivo"]
["MODALIDADE:",null,null,"CET - Tecnologia Mecatrónica",{"$nulls":6},"CODÍGO DA AÇÃO:",{"$nulls":3},66406,{"$nulls":12},"       U.O.:",null,null,"Torres Vedras"]
["PLANEAMENTO:",null,null,"Vítor Caetano",{"$nulls":6},"SAÍDA PROFISSIONAL: Técnico/a Especialista em Mecatrónica",{"$nulls":3},"Técnico/a Especialista em Mecatrónica",{"$nulls":12},"DATA INÍCIO:",null,null,"2022-11-15"]
["COORDENADOR:",{"$nulls":9},"DURAÇÃO:",{"$nulls":3},"1560 H",{"$nulls":12},"DATA FIM  (previsto):"]
["2024-07-01",null,{"$f":"IF(C9<>\"\",CHOOSE(WEEKDAY(C9,1),\"Dom.\",\"Seg.\",\"Ter.\",\"Qua.\",\"Qui.\",\"Sex.\",\"Sáb.\"),\"\")","v":"Seg."},{"$f":"IF(D9<>\"\",CHOOSE(WEEKDAY(D9,1),\"Dom.\",\"Seg.\",\"Ter.\",\"Qua.\",\"Qui.\",\"Sex.\",\"Sáb.\"),\"\")","v":"Ter."},"Qua.","Qui.","Sex.","Sáb.","Dom.","Seg.","Ter.","Qua.","Qui.","Sex.","Sáb.","Dom.","Seg.","Ter.","Qua.","Qui.","Sex.","Sáb.","Dom.","Seg.","Ter.","Qua.","Qui.","Sex.","Sáb.","Dom.","Seg.","Ter.","Qua.",null,"T","PFL",{"$f":"IF(AI8=$DI$8,AM8,IF(AI8=$DI$9,AM8,IF(AI8=$DI$10,AL8,)))","v":0},{"$f":"IF($AK$4=$DH$8,AU8,IF($AK$4=$DH$9,AV8,IF($AK$4=$DH$10,AW8,IF($AK$4=$DH$11,AO8,IF($AK$4=$DH$12,AP8,IF($AK$4=$DH$13,AQ8,IF($AK$4=$DH$14,AR8,IF($AK$4=$DH$15,AS8,IF($AK$4=$DH$16,AT8,\"\")))))))))","v":0},{"$f":"IF(AI8=$DI$8,AL8,IF(AI8=$DI$9,AM9+AL8,IF(AI8=$DI$10,IF(AI9=$DI$10,AM9+AL8,AL8),)))","v":0},25,{"$f":"COUNTIF($C$10:$AG$13,$AJ8)","v":0},{"$f":"COUNTIF($C$17:$AG$20,$AJ8)","v":0},{"$f":"COUNTIF($C$24:$AG$27,$AJ8)","v":0},{"$f":"COUNTIF($C$31:$AG$34,$AJ8)","v":0},{"$f":"COUNTIF($C$38:$AG$41,$AJ8)","v":0},{"$f":"COUNTIF($C$45:$AG$48,$AJ8)","v":0},{"$f":"SUM(AO8:AT8)","v":0},{"$f":"'Jan-Jun 2024'!AV8","v":0},{"$f":"'Jan-Jun 2024'!AU8+'Jul-Dez 2024'!AU8","v":0},null,"M","IGO",{"$f":"IF(AY8=$DI$8,BC8,IF(AY8=$DI$9,BC8,IF(AY8=$DI$10,BB8,)))","v":0},{"$f":"IF($AK$4=$DH$8,BK8,IF($AK$4=$DH$9,BL8,IF($AK$4=$DH$10,BM8,IF($AK$4=$DH$11,BE8,IF($AK$4=$DH$12,BF8,IF($AK$4=$DH$13,BG8,IF($AK$4=$DH$14,BH8,IF($AK$4=$DH$15,BI8,IF($AK$4=$DH$16,BJ8,\"\")))))))))","v":0},{"$f":"IF(AY8=$DI$8,BB8,IF(AY8=$DI$9,BC9+BB8,IF(AY8=$DI$10,IF(AY9=$DI$10,BC9+BB8,BB8),)))","v":0},25,{"$f":"COUNTIF($C$10:$AG$13,$AZ8)","v":0},{"$f":"COUNTIF($C$17:$AG$20,$AZ8)","v":0},{"$f":"COUNTIF($C$24:$AG$27,$AZ8)","v":0},{"$f":"COUNTIF($C$31:$AG$34,$AZ8)","v":0},{"$f":"COUNTIF($C$38:$AG$41,$AZ8)","v":0},{"$f":"COUNTIF($C$45:$AG$48,$AZ8)","v":0},{"$f":"SUM(BE8:BJ8)","v":0},{"$f":"'Jan-Jun 2024'!BL8","v":0},{"$f":"'Jan-Jun 2024'!BK8+'Jul-Dez 2024'!BK8","v":0},{"$nulls":3},{"$f":"IF(BO8=$DI$8,BS8,IF(BO8=$DI$9,BS8,IF(BO8=$DI$10,BR8,)))","v":0},{"$f":"IF($AK$4=$DH$8,CA8,IF($AK$4=$DH$9,CB8,IF($AK$4=$DH$10,CC8,IF($AK$4=$DH$11,BU8,IF($AK$4=$DH$12,BV8,IF($AK$4=$DH$13,BW8,IF($AK$4=$DH$14,BX8,IF($AK$4=$DH$15,BY8,IF($AK$4=$DH$16,BZ8,\"\")))))))))","v":0},{"$f":"IF(BO8=$DI$8,BR8,IF(BO8=$DI$9,BS9+BR8,IF(BO8=$DI$10,IF(BO9=$DI$10,BS9+BR8,BR8),)))","v":0},null,{"$f":"COUNTIF($C$10:$AG$13,$BP8)","v":0},{"$f":"COUNTIF($C$17:$AG$20,$BP8)","v":0},{"$f":"COUNTIF($C$24:$AG$27,$BP8)","v":0},{"$f":"COUNTIF($C$31:$AG$34,$BP8)","v":0},{"$f":"COUNTIF($C$38:$AG$41,$BP8)","v":0},{"$f":"COUNTIF($C$45:$AG$48,$BP8)","v":0},{"$f":"SUM(BU8:BZ8)","v":0},{"$f":"'Jan-Jun 2024'!CB8","v":0},{"$f":"'Jan-Jun 2024'!CA8+'Jul-Dez 2024'!CA8","v":0},{"$nulls":30},"SF","M"]
[null,null,{"$f":"A8","v":"2024-07-01"},{"$f":"IF(C9=\"\",\"\",IF(DAY(C9)<DAY(EOMONTH(C9,0)),C9+1,\"\"))","v":"2024-07-02"},{"$f":"IF(D9=\"\",\"\",IF(DAY(D9)<DAY(EOMONTH(D9,0)),D9+1,\"\"))","v":"2024-07-03"},"2024-07-04","2024-07-05","2024-07-06",{"$f":"IF(H9=\"\",\"\",IF(DAY(H9)<DAY(EOMONTH(H9,0)),H9+1,\"\"))","v":"2024-07-07"},{"$f":"IF(I9=\"\",\"\",IF(DAY(I9)<DAY(EOMONTH(I9,0)),I9+1,\"\"))","v":"2024-07-08"},{"$f":"IF(J9=\"\",\"\",IF(DAY(J9)<DAY(EOMONTH(J9,0)),J9+1,\"\"))","v":"2024-07-09"},{"$f":"IF(K9=\"\",\"\",IF(DAY(K9)<DAY(EOMONTH(K9,0)),K9+1,\"\"))","v":"2024-07-10"},"2024-07-11","2024-07-12","2024-07-13",{"$f":"IF(O9=\"\",\"\",IF(DAY(O9)<DAY(EOMONTH(O9,0)),O9+1,\"\"))","v":"2024-07-14"},{"$f":"IF(P9=\"\",\"\",IF(DAY(P9)<DAY(EOMONTH(P9,0)),P9+1,\"\"))","v":"2024-07-15"},{"$f":"IF(Q9=\"\",\"\",IF(DAY(Q9)<DAY(EOMONTH(Q9,0)),Q9+1,\"\"))","v":"2024-07-16"},{"$f":"IF(R9=\"\",\"\",IF(DAY(R9)<DAY(EOMONTH(R9,0)),R9+1,\"\"))","v":"2024-07-17"},"2024-07-18","2024-07-19","2024-07-20",{"$f":"IF(V9=\"\",\"\",IF(DAY(V9)<DAY(EOMONTH(V9,0)),V9+1,\"\"))","v":"2024-07-21"},{"$f":"IF(W9=\"\",\"\",IF(DAY(W9)<DAY(EOMONTH(W9,0)),W9+1,\"\"))","v":"2024-07-22"},{"$f":"IF(X9=\"\",\"\",IF(DAY(X9)<DAY(EOMONTH(X9,0)),X9+1,\"\"))","v":"2024-07-23"},{"$f":"IF(Y9=\"\",\"\",IF(DAY(Y9)<DAY(EOMONTH(Y9,0)),Y9+1,\"\"))","v":"2024-07-24"},"2024-07-25","2024-07-26","2024-07-27",{"$f":"IF(AC9=\"\",\"\",IF(DAY(AC9)<DAY(EOMONTH(AC9,0)),AC9+1,\"\"))","v":"2024-07-28"},{"$f":"IF(AD9=\"\",\"\",IF(DAY(AD9)<DAY(EOMONTH(AD9,0)),AD9+1,\"\"))","v":"2024-07-29"},{"$f":"IF(AE9=\"\",\"\",IF(DAY(AE9)<DAY(EOMONTH(AE9,0)),AE9+1,\"\"))","v":"2024-07-30"},{"$f":"IF(AF9=\"\",\"\",IF(DAY(AF9)<DAY(EOMONTH(AF9,0)),AF9+1,\"\"))","v":"2024-07-31"},null,"P","PFL1",{"$f":"IF(AI9=$DI$8,AM9,IF(AI9=$DI$9,AM9,IF(AI9=$DI$10,AL9,)))","v":0},0,{"$f":"IF(AI9=$DI$8,AL9,IF(AI9=$DI$9,AM10+AL9,IF(AI9=$DI$10,IF(AI10=$DI$10,AM10+AL9,AL9),)))","v":0},7,{"$f":"COUNTIF($C$10:$AG$13,$AJ9)","v":0},{"$f":"COUNTIF($C$17:$AG$20,$AJ9)","v":0},{"$f":"COUNTIF($C$24:$AG$27,$AJ9)","v":0},{"$f":"COUNTIF($C$31:$AG$34,$AJ9)","v":0},{"$f":"COUNTIF($C$38:$AG$41,$AJ9)","v":0},{"$f":"COUNTIF($C$45:$AG$48,$AJ9)","v":0},{"$f":"SUM(AO9:AT9)","v":0},{"$f":"'Jan-Jun 2024'!AV9","v":0},{"$f":"'Jan-Jun 2024'!AU9+'Jul-Dez 2024'!AU9","v":0},{"$nulls":3},{"$f":"IF(AY9=$DI$8,BC9,IF(AY9=$DI$9,BC9,IF(AY9=$DI$10,BB9,)))","v":0},0,{"$f":"IF(AY9=$DI$8,BB9,IF(AY9=$DI$9,BC10+BB9,IF(AY9=$DI$10,IF(AY10=$DI$10,BC10+BB9,BB9),)))","v":0},null,{"$f":"COUNTIF($C$10:$AG$13,$AZ9)","v":0},{"$f":"COUNTIF($C$17:$AG$20,$AZ9)","v":0},{"$f":"COUNTIF($C$24:$AG$27,$AZ9)","v":0},{"$f":"COUNTIF($C$31:$AG$34,$AZ9)","v":0},{"$f":"COUNTIF($C$38:$AG$41,$AZ9)","v":0},{"$f":"COUNTIF($C$45:$AG$48,$AZ9)","v":0},{"$f":"SUM(BE9:BJ9)","v":0},{"$f":"'Jan-Jun 2024'!BL9","v":0},{"$f":"'Jan-Jun 2024'!BK9+'Jul-Dez 2024'!BK9","v":0},{"$nulls":3},{"$f":"IF(BO9=$DI$8,BS9,IF(BO9=$DI$9,BS9,IF(BO9=$DI$10,BR9,)))","v":0},0,{"$f":"IF(BO9=$DI$8,BR9,IF(BO9=$DI$9,BS10+BR9,IF(BO9=$DI$10,IF(BO10=$DI$10,BS10+BR9,BR9),)))","v":0},null,{"$f":"COUNTIF($C$10:$AG$13,$BP9)","v":0},{"$f":"COUNTIF($C$17:$AG$20,$BP9)","v":0},{"$f":"COUNTIF($C$24:$AG$27,$BP9)","v":0},{"$f":"COUNTIF($C$31:$AG$34,$BP9)","v":0},{"$f":"COUNTIF($C$38:$AG$41,$BP9)","v":0},{"$f":"COUNTIF($C$45:$AG$48,$BP9)","v":0},{"$f":"SUM(BU9:BZ9)","v":0},{"$f":"'Jan-Jun 2024'!CB9","v":0},{"$f":"'Jan-Jun 2024'!CA9+'Jul-Dez 2024'!CA9","v":0},{"$nulls":30},"ST","T"]
["19h20 - 20h10",{"$nulls":33},"P","PFL2",0,0,0,18,0,0,0,0,0,0,0,{"$f":"'Jan-Jun 2024'!AV10","v":0},{"$f":"'Jan-Jun 2024'!AU10+'Jul-Dez 2024'!AU10","v":0},{"$nulls":3},0,0,0,null,0,0,0,0,0,0,0,{"$f":"'Jan-Jun 2024'!BL10","v":0},{"$f":"'Jan-Jun 2024'!BK10+'Jul-Dez 2024'!BK10","v":0},{"$nulls":3},0,0,0,null,0,0,0,0,0,0,0,{"$f":"'Jan-Jun 2024'!CB10","v":0},{"$f":"'Jan-Jun 2024'!CA10+'Jul-Dez 2024'!CA10","v":0},{"$nulls":30},"SA","P"]
["20h10 - 21h00",{"$nulls":35},0,0,0,null,0,0,0,0,0,0,0,{"$f":"'Jan-Jun 2024'!AV11","v":0},{"$f":"'Jan-Jun 2024'!AU11+'Jul-Dez 2024'!AU11","v":0},null,"M","GMQ",0,0,0,25,0,0,0,0,0,0,0,{"$f":"'Jan-Jun 2024'!BL11","v":0},{"$f":"'Jan-Jun 2024'!BK11+'Jul-Dez 2024'!BK11","v":0},{"$nulls":3},0,0,0,null,0,0,0,0,0,0,0,{"$f":"'Jan-Jun 2024'!CB11","v":0},{"$f":"'Jan-Jun 2024'!CA11+'Jul-Dez 2024'!CA11","v":0},{"$nulls":30},{"$f":"TEXT(A8,\"mmm\")","v":"jul"}]
["21h20 - 22h10",{"$nulls":33},"T","PCC",0,0,0,25,0,0,0,0,0,0,0,{"$f":"'Jan-Jun 2024'!AV12","v":0},{"$f":"'Jan-Jun 2024'!AU12+'Jul-Dez 2024'!AU12","v":0},{"$nulls":3},0,0,0,null,0,0,0,0,0,0,0,{"$f":"'Jan-Jun 2024'!BL12","v":0},{"$f":"'Jan-Jun 2024'!BK12+'Jul-Dez 2024'!BK12","v":0},{"$nulls":3},0,0,0,null,0,0,0,0,0,0,0,{"$f":"'Jan-Jun 2024'!CB12","v":0},{"$f":"'Jan-Jun 2024'!CA12+'Jul-Dez 2024'!CA12","v":0},{"$nulls":30},{"$f":"TEXT(A15,\"mmm\")","v":"ago"}]
["22h10 - 23h00",{"$nulls":33},"P","PCC1",0,0,0,7,0,0,0,0,0,0,0,{"$f":"'Jan-Jun 2024'!AV13","v":0},{"$f":"'Jan-Jun 2024'!AU13+'Jul-Dez 2024'!AU13","v":0},{"$nulls":3},0,0,0,null,0,0,0,0,0,0,0,{"$f":"'Jan-Jun 2024'!BL13","v":0},{"$f":"'Jan-Jun 2024'!BK13+'Jul-Dez 2024'!BK13","v":0},{"$nulls":3},0,0,0,null,0,0,0,0,0,0,0,{"$f":"'Jan-Jun 2024'!CB13","v":0},{"$f":"'Jan-Jun 2024'!CA13+'Jul-Dez 2024'!CA13","v":0},{"$nulls":30},{"$f":"TEXT(A22,\"mmm\")","v":"set"}]
[{"$nulls":34},"P","PCC2",0,0,0,18,0,0,0,0,0,0,0,{"$f":"'Jan-Jun 2024'!AV14","v":0},{"$f":"'Jan-Jun 2024'!AU14+'Jul-Dez 2024'!AU14","v":0},null,"M","SGQ",0,0,0,25,0,0,0,0,0,0,0,{"$f":"'Jan-Jun 2024'!BL14","v":0},{"$f":"'Jan-Jun 2024'!BK14+'Jul-Dez 2024'!BK14","v":0},{"$nulls":3},0,0,0,null,0,0,0,0,0,0,0,{"$f":"'Jan-Jun 2024'!CB14","v":0},{"$f":"'Jan-Jun 2024'!CA14+'Jul-Dez 2024'!CA14","v":0},{"$nulls":30},{"$f":"TEXT(A29,\"mmm\")","v":"out"}]
[{"$f":"A8+DAY(EOMONTH(A8,0))","v":"2024-08-01"},null,{"$f":"IF(C16<>\"\",CHOOSE(WEEKDAY(C16,1),\"Dom.\",\"Seg.\",\"Ter.\",\"Qua.\",\"Qui.\",\"Sex.\",\"Sáb.\"),\"\")","v":"Qui."},{"$f":"IF(D16<>\"\",CHOOSE(WEEKDAY(D16,1),\"Dom.\",\"Seg.\",\"Ter.\",\"Qua.\",\"Qui.\",\"Sex.\",\"Sáb.\"),\"\")","v":"Sex."},"Sáb.","Dom.","Seg.","Ter.","Qua.","Qui.","Sex.","Sáb.","Dom.","Seg.","Ter.","Qua.","Qui.","Sex.","Sáb.","Dom.","Seg.","Ter.","Qua.","Qui.","Sex.","Sáb.","Dom.","Seg.","Ter.","Qua.","Qui.","Sex.","Sáb.",{"$nulls":3},0,0,0,null,0,0,0,0,0,0,0,{"$f":"'Jan-Jun 2024'!AV15","v":0},{"$f":"'Jan-Jun 2024'!AU15+'Jul-Dez 2024'!AU15","v":0},{"$nulls":3},0,0,0,null,0,0,0,0,0,0,0,{"$f":"'Jan-Jun 2024'!BL15","v":0},{"$f":"'Jan-Jun 2024'!BK15+'Jul-Dez 2024'!BK15","v":0},{"$nulls":3},0,0,0,null,0,0,0,0,0,0,0,{"$f":"'Jan-Jun 2024'!CB15","v":0},{"$f":"'Jan-Jun 2024'!CA15+'Jul-Dez 2024'!CA15","v":0},{"$nulls":30},{"$f":"TEXT(A36,\"mmm\")","v":"nov"}]
[null,null,{"$f":"A15","v":"2024-08-01"},{"$f":"IF(C16=\"\",\"\",IF(DAY(C16)<DAY(EOMONTH(C16,0)),C16+1,\"\"))","v":"2024-08-02"},"2024-08-03",{"$f":"IF(E16=\"\",\"\",IF(DAY(E16)<DAY(EOMONTH(E16,0)),E16+1,\"\"))","v":"2024-08-04"},{"$f":"IF(F16=\"\",\"\",IF(DAY(F16)<DAY(EOMONTH(F16,0)),F16+1,\"\"))","v":"2024-08-05"},"2024-08-06","2024-08-07","2024-08-08","2024-08-09","2024-08-10",{"$f":"IF(L16=\"\",\"\",IF(DAY(L16)<DAY(EOMONTH(L16,0)),L16+1,\"\"))","v":"2024-08-11"},{"$f":"IF(M16=\"\",\"\",IF(DAY(M16)<DAY(EOMONTH(M16,0)),M16+1,\"\"))","v":"2024-08-12"},"2024-08-13","2024-08-14","2024-08-15","2024-08-16","2024-08-17",{"$f":"IF(S16=\"\",\"\",IF(DAY(S16)<DAY(EOMONTH(S16,0)),S16+1,\"\"))","v":"2024-08-18"},{"$f":"IF(T16=\"\",\"\",IF(DAY(T16)<DAY(EOMONTH(T16,0)),T16+1,\"\"))","v":"2024-08-19"},"2024-08-20","2024-08-21","2024-08-22","2024-08-23","2024-08-24",{"$f":"IF(Z16=\"\",\"\",IF(DAY(Z16)<DAY(EOMONTH(Z16,0)),Z16+1,\"\"))","v":"2024-08-25"},{"$f":"IF(AA16=\"\",\"\",IF(DAY(AA16)<DAY(EOMONTH(AA16,0)),AA16+1,\"\"))","v":"2024-08-26"},"2024-08-27","2024-08-28","2024-08-29","2024-08-30","2024-08-31",null,"M","PAA",0,0,0,25,0,0,0,0,0,0,0,{"$f":"'Jan-Jun 2024'!AV16","v":0},{"$f":"'Jan-Jun 2024'!AU16+'Jul-Dez 2024'!AU16","v":0},{"$nulls":3},0,0,0,null,0,0,0,0,0,0,0,{"$f":"'Jan-Jun 2024'!BL16","v":0},{"$f":"'Jan-Jun 2024'!BK16+'Jul-Dez 2024'!BK16","v":0},{"$nulls":3},0,0,0,null,0,0,0,0,0,0,0,{"$f":"'Jan-Jun 2024'!CB16","v":0},{"$f":"'Jan-Jun 2024'!CA16+'Jul-Dez 2024'!CA16","v":0},{"$nulls":30},{"$f":"TEXT(A43,\"mmm\")","v":"dez"}]
["19h20 - 20h10",{"$nulls":15},"Assunção",{"$nulls":17},"M","IME",0,0,0,50,0,0,0,0,0,0,0,{"$f":"'Jan-Jun 2024'!AV17","v":0},{"$f":"'Jan-Jun 2024'!AU17+'Jul-Dez 2024'!AU17","v":0},null,"M","ASHST",0,0,0,25,0,0,0,0,0,0,0,{"$f":"'Jan-Jun 2024'!BL17","v":0},{"$f":"'Jan-Jun 2024'!BK17+'Jul-Dez 2024'!BK17","v":0},{"$nulls":3},0,0,0,null,0,0,0,0,0,0,0,{"$f":"'Jan-Jun 2024'!CB17","v":0},{"$f":"'Jan-Jun 2024'!CA17+'Jul-Dez 2024'!CA17","v":0}]
["20h10 - 21h00",{"$nulls":15},"Nossa",{"$nulls":17},"M","ELE",0,0,0,50,0,0,0,0,0,0,0,{"$f":"'Jan-Jun 2024'!AV18","v":0},{"$f":"'Jan-Jun 2024'!AU18+'Jul-Dez 2024'!AU18","v":0},null,"T","DT",0,0,0,25,0,0,0,0,0,0,0,{"$f":"'Jan-Jun 2024'!BL18","v":0},{"$f":"'Jan-Jun 2024'!BK18+'Jul-Dez 2024'!BK18","v":0},{"$nulls":3},0,0,0,null,0,0,0,0,0,0,0,{"$f":"'Jan-Jun 2024'!CB18","v":0},{"$f":"'Jan-Jun 2024'!CA18+'Jul-Dez 2024'!CA18","v":0}]
["21h20 - 22h10",{"$nulls":15},"Senhora",{"$nulls":17},"M","CP",0,0,0,25,0,0,0,0,0,0,0,{"$f":"'Jan-Jun 2024'!AV19","v":0},{"$f":"'Jan-Jun 2024'!AU19+'Jul-Dez 2024'!AU19","v":0},{"$nulls":3},0,0,0,null,0,0,0,0,0,0,0,{"$f":"'Jan-Jun 2024'!BL19","v":0},{"$f":"'Jan-Jun 2024'!BK19+'Jul-Dez 2024'!BK19","v":0},{"$nulls":3},0,0,0,null,0,0,0,0,0,0,0,{"$f":"'Jan-Jun 2024'!CB19","v":0},{"$f":"'Jan-Jun 2024'!CA19+'Jul-Dez 2024'!CA19","v":0}]
["22h10 - 23h00",{"$nulls":35},0,0,0,null,0,0,0,0,0,0,0,{"$f":"'Jan-Jun 2024'!AV20","v":0},{"$f":"'Jan-Jun 2024'!AU20+'Jul-Dez 2024'!AU20","v":0},{"$nulls":3},0,0,0,null,0,0,0,0,0,0,0,{"$f":"'Jan-Jun 2024'!BL20","v":0},{"$f":"'Jan-Jun 2024'!BK20+'Jul-Dez 2024'!BK20","v":0},{"$nulls":3},0,0,0,null,0,0,0,0,0,0,0,{"$f":"'Jan-Jun 2024'!CB20","v":0},{"$f":"'Jan-Jun 2024'!CA20+'Jul-Dez 2024'!CA20","v":0}]
[{"$nulls":36},0,0,0,null,0,0,0,0,0,0,0,{"$f":"'Jan-Jun 2024'!AV21","v":0},{"$f":"'Jan-Jun 2024'!AU21+'Jul-Dez 2024'!AU21","v":0},{"$nulls":3},0,0,0,null,0,0,0,0,0,0,0,{"$f":"'Jan-Jun 2024'!BL21","v":0},{"$f":"'Jan-Jun 2024'!BK21+'Jul-Dez 2024'!BK21","v":0},{"$nulls":3},0,0,0,null,0,0,0,0,0,0,0,{"$f":"'Jan-Jun 2024'!CB21","v":0},{"$f":"'Jan-Jun 2024'!CA21+'Jul-Dez 2024'!CA21","v":0}]
[{"$f":"A15+DAY(EOMONTH(A15,0))","v":"2024-09-01"},null,{"$f":"IF(C23<>\"\",CHOOSE(WEEKDAY(C23,1),\"Dom.\",\"Seg.\",\"Ter.\",\"Qua.\",\"Qui.\",\"Sex.\",\"Sáb.\"),\"\")","v":"Dom."},{"$f":"IF(D23<>\"\",CHOOSE(WEEKDAY(D23,1),\"Dom.\",\"Seg.\",\"Ter.\",\"Qua.\",\"Qui.\",\"Sex.\",\"Sáb.\"),\"\")","v":"Seg."},"Ter.","Qua.","Qui.","Sex.","Sáb.","Dom.","Seg.","Ter.","Qua.","Qui.","Sex.","Sáb.","Dom.","Seg.","Ter.","Qua.","Qui.","Sex.","Sáb.","Dom.","Seg.","Ter.","Qua.","Qui.","Sex.","Sáb.","Dom.","Seg.","",{"$nulls":3},0,0,0,null,0,0,0,0,0,0,0,{"$f":"'Jan-Jun 2024'!AV22","v":0},{"$f":"'Jan-Jun 2024'!AU22+'Jul-Dez 2024'!AU22","v":0},null,"M","ICS",0,0,0,25,0,0,0,0,0,0,0,{"$f":"'Jan-Jun 2024'!BL22","v":0},{"$f":"'Jan-Jun 2024'!BK22+'Jul-Dez 2024'!BK22","v":0},{"$nulls":3},0,0,0,null,0,0,0,0,0,0,0,{"$f":"'Jan-Jun 2024'!CB22","v":0},{"$f":"'Jan-Jun 2024'!CA22+'Jul-Dez 2024'!CA22","v":0}]
[null,null,{"$f":"A22","v":"2024-09-01"},{"$f":"IF(C23=\"\",\"\",IF(DAY(C23)<DAY(EOMONTH(C23,0)),C23+1,\"\"))","v":"2024-09-02"},"2024-09-03",{"$f":"IF(E23=\"\",\"\",IF(DAY(E23)<DAY(EOMONTH(E23,0)),E23+1,\"\"))","v":"2024-09-04"},{"$f":"IF(F23=\"\",\"\",IF(DAY(F23)<DAY(EOMONTH(F23,0)),F23+1,\"\"))","v":"2024-09-05"},"2024-09-06","2024-09-07","2024-09-08","2024-09-09","2024-09-10",{"$f":"IF(L23=\"\",\"\",IF(DAY(L23)<DAY(EOMONTH(L23,0)),L23+1,\"\"))","v":"2024-09-11"},{"$f":"IF(M23=\"\",\"\",IF(DAY(M23)<DAY(EOMONTH(M23,0)),M23+1,\"\"))","v":"2024-09-12"},"2024-09-13","2024-09-14","2024-09-15","2024-09-16","2024-09-17",{"$f":"IF(S23=\"\",\"\",IF(DAY(S23)<DAY(EOMONTH(S23,0)),S23+1,\"\"))","v":"2024-09-18"},{"$f":"IF(T23=\"\",\"\",IF(DAY(T23)<DAY(EOMONTH(T23,0)),T23+1,\"\"))","v":"2024-09-19"},"2024-09-20","2024-09-21","2024-09-22","2024-09-23","2024-09-24",{"$f":"IF(Z23=\"\",\"\",IF(DAY(Z23)<DAY(EOMONTH(Z23,0)),Z23+1,\"\"))","v":"2024-09-25"},{"$f":"IF(AA23=\"\",\"\",IF(DAY(AA23)<DAY(EOMONTH(AA23,0)),AA23+1,\"\"))","v":"2024-09-26"},"2024-09-27","2024-09-28","2024-09-29","2024-09-30","",null,"M","CH",0,0,0,25,0,0,0,0,0,0,0,{"$f":"'Jan-Jun 2024'!AV23","v":0},{"$f":"'Jan-Jun 2024'!AU23+'Jul-Dez 2024'!AU23","v":0},{"$nulls":3},0,0,0,null,0,0,0,0,0,0,0,{"$f":"'Jan-Jun 2024'!BL23","v":0},{"$f":"'Jan-Jun 2024'!BK23+'Jul-Dez 2024'!BK23","v":0},{"$nulls":3},0,0,0,null,0,0,0,0,0,0,0,{"$f":"'Jan-Jun 2024'!CB23","v":0},{"$f":"'Jan-Jun 2024'!CA23+'Jul-Dez 2024'!CA23","v":0}]
["19h20 - 20h10",{"$nulls":33},"M","CLP",0,0,0,50,0,0,0,0,0,0,0,{"$f":"'Jan-Jun 2024'!AV24","v":0},{"$f":"'Jan-Jun 2024'!AU24+'Jul-Dez 2024'!AU24","v":0},{"$nulls":3},0,0,0,null,0,0,0,0,0,0,0,{"$f":"'Jan-Jun 2024'!BL24","v":0},{"$f":"'Jan-Jun 2024'!BK24+'Jul-Dez 2024'!BK24","v":0},{"$nulls":3},0,0,0,null,0,0,0,0,0,0,0,{"$f":"'Jan-Jun 2024'!CB24","v":0},{"$f":"'Jan-Jun 2024'!CA24+'Jul-Dez 2024'!CA24","v":0}]
["20h10 - 21h00",{"$nulls":35},0,0,0,null,0,0,0,0,0,0,0,{"$f":"'Jan-Jun 2024'!AV25","v":0},{"$f":"'Jan-Jun 2024'!AU25+'Jul-Dez 2024'!AU25","v":0},{"$nulls":3},0,0,0,null,0,0,0,0,0,0,0,{"$f":"'Jan-Jun 2024'!BL25","v":0},{"$f":"'Jan-Jun 2024'!BK25+'Jul-Dez 2024'!BK25","v":0},{"$nulls":3},0,0,0,null,0,0,0,0,0,0,0,{"$f":"'Jan-Jun 2024'!CB25","v":0},{"$f":"'Jan-Jun 2024'!CA25+'Jul-Dez 2024'!CA25","v":0}]
["21h20 - 22h10",{"$nulls":35},0,0,0,null,0,0,0,0,0,0,0,{"$f":"'Jan-Jun 2024'!AV26","v":0},{"$f":"'Jan-Jun 2024'!AU26+'Jul-Dez 2024'!AU26","v":0},{"$nulls":3},0,0,0,null,0,0,0,0,0,0,0,{"$f":"'Jan-Jun 2024'!BL26","v":0},{"$f":"'Jan-Jun 2024'!BK26+'Jul-Dez 2024'!BK26","v":0},{"$nulls":3},0,0,0,null,0,0,0,0,0,0,0,{"$f":"'Jan-Jun 2024'!CB26","v":0},{"$f":"'Jan-Jun 2024'!CA26+'Jul-Dez 2024'!CA26","v":0}]
["22h10 - 23h00",{"$nulls":35},0,0,0,null,0,0,0,0,0,0,0,{"$f":"'Jan-Jun 2024'!AV27","v":0},{"$f":"'Jan-Jun 2024'!AU27+'Jul-Dez 2024'!AU27","v":0},{"$nulls":3},0,0,0,null,0,0,0,0,0,0,0,{"$f":"'Jan-Jun 2024'!BL27","v":0},{"$f":"'Jan-Jun 2024'!BK27+'Jul-Dez 2024'!BK27","v":0},{"$nulls":3},0,0,0,null,0,0,0,0,0,0,0,{"$f":"'Jan-Jun 2024'!CB27","v":0},{"$f":"'Jan-Jun 2024'!CA27+'Jul-Dez 2024'!CA27","v":0}]
[{"$nulls":34},"M","DCM",0,0,0,50,0,0,0,0,0,0,0,{"$f":"'Jan-Jun 2024'!AV28","v":0},{"$f":"'Jan-Jun 2024'!AU28+'Jul-Dez 2024'!AU28","v":0},{"$nulls":3},0,0,0,null,0,0,0,0,0,0,0,{"$f":"'Jan-Jun 2024'!BL28","v":0},{"$f":"'Jan-Jun 2024'!BK28+'Jul-Dez 2024'!BK28","v":0},{"$nulls":3},0,0,0,null,0,0,0,0,0,0,0,{"$f":"'Jan-Jun 2024'!CB28","v":0},{"$f":"'Jan-Jun 2024'!CA28+'Jul-Dez 2024'!CA28","v":0}]
[{"$f":"A22+DAY(EOMONTH(A22,0))","v":"2024-10-01"},null,{"$f":"IF(C30<>\"\",CHOOSE(WEEKDAY(C30,1),\"Dom.\",\"Seg.\",\"Ter.\",\"Qua.\",\"Qui.\",\"Sex.\",\"Sáb.\"),\"\")","v":"Ter."},{"$f":"IF(D30<>\"\",CHOOSE(WEEKDAY(D30,1),\"Dom.\",\"Seg.\",\"Ter.\",\"Qua.\",\"Qui.\",\"Sex.\",\"Sáb.\"),\"\")","v":"Qua."},"Qui.","Sex.","Sáb.","Dom.","Seg.","Ter.","Qua.","Qui.","Sex.","Sáb.","Dom.","Seg.","Ter.","Qua.","Qui.","Sex.","Sáb.","Dom.","Seg.","Ter.","Qua.","Qui.","Sex.","Sáb.","Dom.","Seg.","Ter.","Qua.","Qui.",null,"M","CM",0,0,0,50,0,0,0,0,0,0,0,{"$f":"'Jan-Jun 2024'!AV29","v":0},{"$f":"'Jan-Jun 2024'!AU29+'Jul-Dez 2024'!AU29","v":0},{"$nulls":3},0,0,0,null,0,0,0,0,0,0,0,{"$f":"'Jan-Jun 2024'!BL29","v":0},{"$f":"'Jan-Jun 2024'!BK29+'Jul-Dez 2024'!BK29","v":0},{"$nulls":3},0,0,0,null,0,0,0,0,0,0,0,{"$f":"'Jan-Jun 2024'!CB29","v":0},{"$f":"'Jan-Jun 2024'!CA29+'Jul-Dez 2024'!CA29","v":0}]
[null,null,{"$f":"A29","v":"2024-10-01"},{"$f":"IF(C30=\"\",\"\",IF(DAY(C30)<DAY(EOMONTH(C30,0)),C30+1,\"\"))","v":"2024-10-02"},"2024-10-03","2024-10-04","2024-10-05","2024-10-06","2024-10-07",{"$f":"IF(I30=\"\",\"\",IF(DAY(I30)<DAY(EOMONTH(I30,0)),I30+1,\"\"))","v":"2024-10-08"},{"$f":"IF(J30=\"\",\"\",IF(DAY(J30)<DAY(EOMONTH(J30,0)),J30+1,\"\"))","v":"2024-10-09"},"2024-10-10","2024-10-11","2024-10-12","2024-10-13","2024-10-14",{"$f":"IF(P30=\"\",\"\",IF(DAY(P30)<DAY(EOMONTH(P30,0)),P30+1,\"\"))","v":"2024-10-15"},{"$f":"IF(Q30=\"\",\"\",IF(DAY(Q30)<DAY(EOMONTH(Q30,0)),Q30+1,\"\"))","v":"2024-10-16"},"2024-10-17","2024-10-18","2024-10-19","2024-10-20","2024-10-21","2024-10-22","2024-10-23","2024-10-24","2024-10-25","2024-10-26","2024-10-27","2024-10-28","2024-10-29","2024-10-30","2024-10-31",null,"M","SD",0,0,0,50,0,0,0,0,0,0,0,{"$f":"'Jan-Jun 2024'!AV30","v":0},{"$f":"'Jan-Jun 2024'!AU30+'Jul-Dez 2024'!AU30","v":0},{"$nulls":3},0,0,0,null,0,0,0,0,0,0,0,{"$f":"'Jan-Jun 2024'!BL30","v":0},{"$f":"'Jan-Jun 2024'!BK30+'Jul-Dez 2024'!BK30","v":0},{"$nulls":3},0,0,0,null,0,0,0,0,0,0,0,{"$f":"'Jan-Jun 2024'!CB30","v":0},{"$f":"'Jan-Jun 2024'!CA30+'Jul-Dez 2024'!CA30","v":0}]
["19h20 - 20h10",{"$nulls":33},"M","OEM",0,0,0,50,0,0,0,0,0,0,0,{"$f":"'Jan-Jun 2024'!AV31","v":0},{"$f":"'Jan-Jun 2024'!AU31+'Jul-Dez 2024'!AU31","v":0},{"$nulls":3},0,0,0,null,0,0,0,0,0,0,0,{"$f":"'Jan-Jun 2024'!BL31","v":0},{"$f":"'Jan-Jun 2024'!BK31+'Jul-Dez 2024'!BK31","v":0},{"$nulls":3},0,0,0,null,0,0,0,0,0,0,0,{"$f":"'Jan-Jun 2024'!CB31","v":0},{"$f":"'Jan-Jun 2024'!CA31+'Jul-Dez 2024'!CA31","v":0}]
["20h10 - 21h00",{"$nulls":5},"Repúb.",{"$nulls":27},"M","IP",0,0,0,50,0,0,0,0,0,0,0,{"$f":"'Jan-Jun 2024'!AV32","v":0},{"$f":"'Jan-Jun 2024'!AU32+'Jul-Dez 2024'!AU32","v":0},null,"M","EG",0,0,0,50,0,0,0,0,0,0,0,{"$f":"'Jan-Jun 2024'!BL32","v":0},{"$f":"'Jan-Jun 2024'!BK32+'Jul-Dez 2024'!BK32","v":0},{"$nulls":3},0,0,0,null,0,0,0,0,0,0,0,{"$f":"'Jan-Jun 2024'!CB32","v":0},{"$f":"'Jan-Jun 2024'!CA32+'Jul-Dez 2024'!CA32","v":0}]
["21h20 - 22h10",{"$nulls":35},0,0,0,null,0,0,0,0,0,0,0,{"$f":"'Jan-Jun 2024'!AV33","v":0},{"$f":"'Jan-Jun 2024'!AU33+'Jul-Dez 2024'!AU33","v":0},{"$nulls":3},0,0,0,null,0,0,0,0,0,0,0,{"$f":"'Jan-Jun 2024'!BL33","v":0},{"$f":"'Jan-Jun 2024'!BK33+'Jul-Dez 2024'!BK33","v":0},{"$nulls":3},0,0,0,null,0,0,0,0,0,0,0,{"$f":"'Jan-Jun 2024'!CB33","v":0},{"$f":"'Jan-Jun 2024'!CA33+'Jul-Dez 2024'!CA33","v":0}]
["22h10 - 23h00",{"$nulls":33},"M","ELP",0,0,0,50,0,0,0,0,0,0,0,{"$f":"'Jan-Jun 2024'!AV34","v":0},{"$f":"'Jan-Jun 2024'!AU34+'Jul-Dez 2024'!AU34","v":0},null,"M","IGE",0,0,0,60,0,0,0,0,0,0,0,{"$f":"'Jan-Jun 2024'!BL34","v":0},{"$f":"'Jan-Jun 2024'!BK34+'Jul-Dez 2024'!BK34","v":0},{"$nulls":3},0,0,0,null,0,0,0,0,0,0,0,{"$f":"'Jan-Jun 2024'!CB34","v":0},{"$f":"'Jan-Jun 2024'!CA34+'Jul-Dez 2024'!CA34","v":0}]
[{"$nulls":36},0,0,0,null,0,0,0,0,0,0,0,{"$f":"'Jan-Jun 2024'!AV35","v":0},{"$f":"'Jan-Jun 2024'!AU35+'Jul-Dez 2024'!AU35","v":0},{"$nulls":3},0,0,0,null,0,0,0,0,0,0,0,{"$f":"'Jan-Jun 2024'!BL35","v":0},{"$f":"'Jan-Jun 2024'!BK35+'Jul-Dez 2024'!BK35","v":0},{"$nulls":3},0,0,0,null,0,0,0,0,0,0,0,{"$f":"'Jan-Jun 2024'!CB35","v":0},{"$f":"'Jan-Jun 2024'!CA35+'Jul-Dez 2024'!CA35","v":0}]
[{"$f":"A29+DAY(EOMONTH(A29,0))","v":"2024-11-01"},null,{"$f":"IF(C37<>\"\",CHOOSE(WEEKDAY(C37,1),\"Dom.\",\"Seg.\",\"Ter.\",\"Qua.\",\"Qui.\",\"Sex.\",\"Sáb.\"),\"\")","v":"Sex."},{"$f":"IF(D37<>\"\",CHOOSE(WEEKDAY(D37,1),\"Dom.\",\"Seg.\",\"Ter.\",\"Qua.\",\"Qui.\",\"Sex.\",\"Sáb.\"),\"\")","v":"Sáb."},"Dom.","Seg.","Ter.","Qua.","Qui.","Sex.","Sáb.","Dom.","Seg.","Ter.","Qua.","Qui.","Sex.","Sáb.","Dom.","Seg.","Ter.","Qua.","Qui.","Sex.","Sáb.","Dom.","Seg.","Ter.","Qua.","Qui.","Sex.","Sáb.","",{"$nulls":3},0,0,0,null,0,0,0,0,0,0,0,{"$f":"'Jan-Jun 2024'!AV36","v":0},{"$f":"'Jan-Jun 2024'!AU36+'Jul-Dez 2024'!AU36","v":0},{"$nulls":3},0,0,0,null,0,0,0,0,0,0,0,{"$f":"'Jan-Jun 2024'!BL36","v":0},{"$f":"'Jan-Jun 2024'!BK36+'Jul-Dez 2024'!BK36","v":0},{"$nulls":3},0,0,0,null,0,0,0,0,0,0,0,{"$f":"'Jan-Jun 2024'!CB36","v":0},{"$f":"'Jan-Jun 2024'!CA36+'Jul-Dez 2024'!CA36","v":0}]
[null,null,{"$f":"A36","v":"2024-11-01"},{"$f":"IF(C37=\"\",\"\",IF(DAY(C37)<DAY(EOMONTH(C37,0)),C37+1,\"\"))","v":"2024-11-02"},"2024-11-03","2024-11-04","2024-11-05","2024-11-06","2024-11-07","2024-11-08","2024-11-09","2024-11-10","2024-11-11","2024-11-12","2024-11-13","2024-11-14","2024-11-15","2024-11-16","2024-11-17","2024-11-18","2024-11-19","2024-11-20","2024-11-21","2024-11-22","2024-11-23","2024-11-24","2024-11-25","2024-11-26","2024-11-27","2024-11-28","2024-11-29","2024-11-30","",{"$nulls":3},0,0,0,null,0,0,0,0,0,0,0,{"$f":"'Jan-Jun 2024'!AV37","v":0},{"$f":"'Jan-Jun 2024'!AU37+'Jul-Dez 2024'!AU37","v":0},{"$nulls":3},0,0,0,null,0,0,0,0,0,0,0,{"$f":"'Jan-Jun 2024'!BL37","v":0},{"$f":"'Jan-Jun 2024'!BK37+'Jul-Dez 2024'!BK37","v":0},{"$nulls":3},0,0,0,null,0,0,0,0,0,0,0,{"$f":"'Jan-Jun 2024'!CB37","v":0},{"$f":"'Jan-Jun 2024'!CA37+'Jul-Dez 2024'!CA37","v":0}]
["19h20 - 20h10",{"$nulls":33},"M","MM",0,0,0,50,0,0,0,0,0,0,0,{"$f":"'Jan-Jun 2024'!AV38","v":0},{"$f":"'Jan-Jun 2024'!AU38+'Jul-Dez 2024'!AU38","v":0},{"$nulls":3},0,0,0,null,0,0,0,0,0,0,0,{"$f":"'Jan-Jun 2024'!BL38","v":0},{"$f":"'Jan-Jun 2024'!BK38+'Jul-Dez 2024'!BK38","v":0},{"$nulls":3},0,0,0,null,0,0,0,0,0,0,0,{"$f":"'Jan-Jun 2024'!CB38","v":0},{"$f":"'Jan-Jun 2024'!CA38+'Jul-Dez 2024'!CA38","v":0}]
["20h10 - 21h00",null,"Todos",{"$nulls":9},"São",{"$nulls":21},"M","ROB",0,0,0,50,0,0,0,0,0,0,0,{"$f":"'Jan-Jun 2024'!AV39","v":0},{"$f":"'Jan-Jun 2024'!AU39+'Jul-Dez 2024'!AU39","v":0},{"$nulls":3},0,0,0,null,0,0,0,0,0,0,0,{"$f":"'Jan-Jun 2024'!BL39","v":0},{"$f":"'Jan-Jun 2024'!BK39+'Jul-Dez 2024'!BK39","v":0},{"$nulls":3},0,0,0,null,0,0,0,0,0,0,0,{"$f":"'Jan-Jun 2024'!CB39","v":0},{"$f":"'Jan-Jun 2024'!CA39+'Jul-Dez 2024'!CA39","v":0}]
["21h20 - 22h10",null,"Santos",{"$nulls":9},"Marti.",{"$nulls":23},0,0,0,null,0,0,0,0,0,0,0,{"$f":"'Jan-Jun 2024'!AV40","v":0},{"$f":"'Jan-Jun 2024'!AU40+'Jul-Dez 2024'!AU40","v":0},{"$nulls":3},0,0,0,null,0,0,0,0,0,0,0,{"$f":"'Jan-Jun 2024'!BL40","v":0},{"$f":"'Jan-Jun 2024'!BK40+'Jul-Dez 2024'!BK40","v":0},{"$nulls":3},0,0,0,null,0,0,0,0,0,0,0,{"$f":"'Jan-Jun 2024'!CB40","v":0},{"$f":"'Jan-Jun 2024'!CA40+'Jul-Dez 2024'!CA40","v":0}]
["22h10 - 23h00",{"$nulls":35},0,0,0,null,0,0,0,0,0,0,0,{"$f":"'Jan-Jun 2024'!AV41","v":0},{"$f":"'Jan-Jun 2024'!AU41+'Jul-Dez 2024'!AU41","v":0},{"$nulls":3},0,0,0,null,0,0,0,0,0,0,0,{"$f":"'Jan-Jun 2024'!BL41","v":0},{"$f":"'Jan-Jun 2024'!BK41+'Jul-Dez 2024'!BK41","v":0},{"$nulls":3},0,0,0,null,0,0,0,0,0,0,0,{"$f":"'Jan-Jun 2024'!CB41","v":0},{"$f":"'Jan-Jun 2024'!CA41+'Jul-Dez 2024'!CA41","v":0}]
[{"$nulls":36},0,0,0,null,0,0,0,0,0,0,0,{"$f":"'Jan-Jun 2024'!AV42","v":0},{"$f":"'Jan-Jun 2024'!AU42+'Jul-Dez 2024'!AU42","v":0},{"$nulls":3},0,0,0,null,0,0,0,0,0,0,0,{"$f":"'Jan-Jun 2024'!BL42","v":0},{"$f":"'Jan-Jun 2024'!BK42+'Jul-Dez 2024'!BK42","v":0},{"$nulls":3},0,0,0,null,0,0,0,0,0,0,0,{"$f":"'Jan-Jun 2024'!CB42","v":0},{"$f":"'Jan-Jun 2024'!CA42+'Jul-Dez 2024'!CA42","v":0}]
[{"$f":"A36+DAY(EOMONTH(A36,0))","v":"2024-12-01"},null,{"$f":"IF(C44<>\"\",CHOOSE(WEEKDAY(C44,1),\"Dom.\",\"Seg.\",\"Ter.\",\"Qua.\",\"Qui.\",\"Sex.\",\"Sáb.\"),\"\")","v":"Dom."},{"$f":"IF(D44<>\"\",CHOOSE(WEEKDAY(D44,1),\"Dom.\",\"Seg.\",\"Ter.\",\"Qua.\",\"Qui.\",\"Sex.\",\"Sáb.\"),\"\")","v":"Seg."},"Ter.","Qua.","Qui.","Sex.","Sáb.","Dom.","Seg.","Ter.","Qua.","Qui.","Sex.","Sáb.","Dom.","Seg.","Ter.","Qua.","Qui.","Sex.","Sáb.","Dom.","Seg.","Ter.","Qua.","Qui.","Sex.","Sáb.","Dom.","Seg.","Ter.",null,"T","MET",0,0,0,50,0,0,0,0,0,0,0,{"$f":"'Jan-Jun 2024'!AV43","v":0},{"$f":"'Jan-Jun 2024'!AU43+'Jul-Dez 2024'!AU43","v":0},{"$nulls":3},0,0,0,null,0,0,0,0,0,0,0,{"$f":"'Jan-Jun 2024'!BL43","v":0},{"$f":"'Jan-Jun 2024'!BK43+'Jul-Dez 2024'!BK43","v":0},{"$nulls":3},0,0,0,null,0,0,0,0,0,0,0,{"$f":"'Jan-Jun 2024'!CB43","v":0},{"$f":"'Jan-Jun 2024'!CA43+'Jul-Dez 2024'!CA43","v":0}]
[null,null,{"$f":"A43","v":"2024-12-01"},{"$f":"IF(C44=\"\",\"\",IF(DAY(C44)<DAY(EOMONTH(C44,0)),C44+1,\"\"))","v":"2024-12-02"},"2024-12-03","2024-12-04","2024-12-05","2024-12-06","2024-12-07","2024-12-08","2024-12-09","2024-12-10","2024-12-11","2024-12-12","2024-12-13","2024-12-14","2024-12-15","2024-12-16","2024-12-17","2024-12-18","2024-12-19","2024-12-20","2024-12-21","2024-12-22","2024-12-23","2024-12-24","2024-12-25","2024-12-26","2024-12-27","2024-12-28","2024-12-29","2024-12-30","2024-12-31",null,"P","MET1",0,0,0,26,0,0,0,0,0,0,0,{"$f":"'Jan-Jun 2024'!AV44","v":0},{"$f":"'Jan-Jun 2024'!AU44+'Jul-Dez 2024'!AU44","v":0},{"$nulls":3},0,0,0,null,0,0,0,0,0,0,0,{"$f":"'Jan-Jun 2024'!BL44","v":0},{"$f":"'Jan-Jun 2024'!BK44+'Jul-Dez 2024'!BK44","v":0},{"$nulls":3},0,0,0,null,0,0,0,0,0,0,0,{"$f":"'Jan-Jun 2024'!CB44","v":0},{"$f":"'Jan-Jun 2024'!CA44+'Jul-Dez 2024'!CA44","v":0}]
["19h20 - 20h10",{"$nulls":33},"P","MET2",0,0,0,24,0,0,0,0,0,0,0,{"$f":"'Jan-Jun 2024'!AV45","v":0},{"$f":"'Jan-Jun 2024'!AU45+'Jul-Dez 2024'!AU45","v":0},{"$nulls":3},0,0,0,null,0,0,0,0,0,0,0,{"$f":"'Jan-Jun 2024'!BL45","v":0},{"$f":"'Jan-Jun 2024'!BK45+'Jul-Dez 2024'!BK45","v":0},{"$nulls":3},0,0,0,null,0,0,0,0,0,0,0,{"$f":"'Jan-Jun 2024'!CB45","v":0},{"$f":"'Jan-Jun 2024'!CA45+'Jul-Dez 2024'!CA45","v":0}]
["20h10 - 21h00",null,"Rest.",{"$nulls":6},"Imacu.",{"$nulls":16},"Natal",{"$nulls":7},"P","MET3",0,0,0,0,0,0,0,0,0,0,0,{"$f":"'Jan-Jun 2024'!AV46","v":0},{"$f":"'Jan-Jun 2024'!AU46+'Jul-Dez 2024'!AU46","v":0},{"$nulls":3},0,0,0,null,0,0,0,0,0,0,0,{"$f":"'Jan-Jun 2024'!BL46","v":0},{"$f":"'Jan-Jun 2024'!BK46+'Jul-Dez 2024'!BK46","v":0},{"$nulls":3},0,0,{"$f":"IF(BO46=$DI$8,BR46,IF(BO46=$DI$9,BS47+BR46,IF(BO46=$DI$10,IF(BO47=$DI$10,BS47+BR46,BR46),)))","v":0},null,0,0,0,0,0,0,0,{"$f":"'Jan-Jun 2024'!CB46","v":0},{"$f":"'Jan-Jun 2024'!CA46+'Jul-Dez 2024'!CA46","v":0}]
["21h20 - 22h10",null,"Indep.",{"$nulls":6},"Concei.",{"$nulls":26},0,0,0,null,0,0,0,0,0,0,0,{"$f":"'Jan-Jun 2024'!AV47","v":0},{"$f":"'Jan-Jun 2024'!AU47+'Jul-Dez 2024'!AU47","v":0},{"$nulls":3},0,0,0,null,0,0,0,0,0,0,0,{"$f":"'Jan-Jun 2024'!BL47","v":0},{"$f":"'Jan-Jun 2024'!BK47+'Jul-Dez 2024'!BK47","v":0},{"$nulls":3},0,0,0,null,0,0,0,0,0,0,0,{"$f":"'Jan-Jun 2024'!CB47","v":0},{"$f":"'Jan-Jun 2024'!CA47+'Jul-Dez 2024'!CA47","v":0}]
["22h10 - 23h00",{"$nulls":35},0,0,0,null,0,0,0,0,0,0,0,{"$f":"'Jan-Jun 2024'!AV48","v":0},{"$f":"'Jan-Jun 2024'!AU48+'Jul-Dez 2024'!AU48","v":0},{"$nulls":3},0,0,0,null,0,0,0,0,0,0,0,{"$f":"'Jan-Jun 2024'!BL48","v":0},{"$f":"'Jan-Jun 2024'!BK48+'Jul-Dez 2024'!BK48","v":0},{"$nulls":3},0,0,0,null,0,0,0,0,0,0,0,{"$f":"'Jan-Jun 2024'!CB48","v":0},{"$f":"'Jan-Jun 2024'!CA48+'Jul-Dez 2024'!CA48","v":0}]
[null,"UFCD","Módulo",{"$nulls":6},"Cód.","H","Formador",null,null,"Ini.","Fim",null,"Componente",null,null,"Módulo",{"$nulls":6},"H","Formador",null,null,"Ini.","Fim",null,"M","CNC",0,0,0,50,0,0,0,0,0,0,0,{"$f":"'Jan-Jun 2024'!AV49","v":0},{"$f":"'Jan-Jun 2024'!AU49+'Jul-Dez 2024'!AU49","v":0},{"$nulls":3},0,0,0,null,0,0,0,0,0,0,0,{"$f":"'Jan-Jun 2024'!BL49","v":0},{"$f":"'Jan-Jun 2024'!BK49+'Jul-Dez 2024'!BK49","v":0},{"$nulls":3},0,0,0,null,0,0,0,0,0,0,0,{"$f":"'Jan-Jun 2024'!CB49","v":0},{"$f":"'Jan-Jun 2024'!CA49+'Jul-Dez 2024'!CA49","v":0}]
["Formação Geral e Científica\n",5146,"IGO","Introdução à Gestão das Organizações",{"$nulls":5},"B153",25,"Filipa Norte",{"$nulls":5},"Formação Tecnologica",6407,"PFL","Processos de Fundição / Ligação",{"$nulls":5},"D333",25,"Pedro Santos",{"$nulls":5},"M","CAM",0,0,0,50,0,0,0,0,0,0,0,{"$f":"'Jan-Jun 2024'!AV50","v":0},{"$f":"'Jan-Jun 2024'!AU50+'Jul-Dez 2024'!AU50","v":0},{"$nulls":3},0,0,0,null,0,0,0,0,0,0,0,{"$f":"'Jan-Jun 2024'!BL50","v":0},{"$f":"'Jan-Jun 2024'!BK50+'Jul-Dez 2024'!BK50","v":0},{"$nulls":3},0,0,0,null,0,0,0,0,0,0,0,{"$f":"'Jan-Jun 2024'!CB50","v":0},{"$f":"'Jan-Jun 2024'!CA50+'Jul-Dez 2024'!CA50","v":0}]
[null,5152,"GMQ","Gestão e Motivação para a Qualidade",{"$nulls":5},"B155",25,"Luís Ferreira",{"$nulls":6},6408,"PCC","Processos de Conformação / Corte",{"$nulls":5},"D334",25,"Pedro Santos",{"$nulls":5},"M","PAC",0,0,0,50,0,0,0,0,0,0,0,{"$f":"'Jan-Jun 2024'!AV51","v":0},{"$f":"'Jan-Jun 2024'!AU51+'Jul-Dez 2024'!AU51","v":0},{"$nulls":3},0,0,0,null,0,0,0,0,0,0,0,{"$f":"'Jan-Jun 2024'!BL51","v":0},{"$f":"'Jan-Jun 2024'!BK51+'Jul-Dez 2024'!BK51","v":0},{"$nulls":3},0,0,0,null,0,0,0,0,0,0,0,{"$f":"'Jan-Jun 2024'!CB51","v":0},{"$f":"'Jan-Jun 2024'!CA51+'Jul-Dez 2024'!CA51","v":0}]
[null,5149,"SGQ","Sistama de Gestão da Qualidade ISO 9001",{"$nulls":5},"F369",25,"Luís Ferreira",{"$nulls":6},6409,"PAA","Processos por Arranque de Apara",{"$nulls":5},"C588",25,"Miguel Franco",{"$nulls":7},0,0,0,null,0,0,0,0,0,0,0,{"$f":"'Jan-Jun 2024'!AV52","v":0},{"$f":"'Jan-Jun 2024'!AU52+'Jul-Dez 2024'!AU52","v":0},{"$nulls":3},0,0,0,null,0,0,0,0,0,0,0,{"$f":"'Jan-Jun 2024'!BL52","v":0},{"$f":"'Jan-Jun 2024'!BK52+'Jul-Dez 2024'!BK52","v":0},{"$nulls":3},0,0,0,null,0,0,0,0,0,0,0,{"$f":"'Jan-Jun 2024'!CB52","v":0},{"$f":"'Jan-Jun 2024'!CA52+'Jul-Dez 2024'!CA52","v":0}]
[null,349,"ASHST","Ambiente, Segurança, Higiene e Saúde no Trabalho",{"$nulls":5},"F423",25,"António Maltez",{"$nulls":6},6410,"IME","Instalação de Máquinas Elétricas",{"$nulls":5},"K252",50,"Emanuel Serrano",{"$nulls":7},0,0,0,null,0,0,0,0,0,0,0,{"$f":"'Jan-Jun 2024'!AV53","v":0},{"$f":"'Jan-Jun 2024'!AU53+'Jul-Dez 2024'!AU53","v":0},{"$nulls":3},0,0,0,null,0,0,0,0,0,0,0,{"$f":"'Jan-Jun 2024'!BL53","v":0},{"$f":"'Jan-Jun 2024'!BK53+'Jul-Dez 2024'!BK53","v":0},{"$nulls":3},0,0,0,null,0,0,0,0,0,0,0,{"$f":"'Jan-Jun 2024'!CB53","v":0},{"$f":"'Jan-Jun 2024'!CA53+'Jul-Dez 2024'!CA53","v":0}]
[null,5653,"DT","Direito do Trabalho",{"$nulls":5},"B154",25,"Natasha Esteves",{"$nulls":6},6411,"ELE","Eletrónica",{"$nulls":5},"K253",50,"Marco Martinho",{"$nulls":7},0,0,0,null,0,0,0,0,0,0,0,{"$f":"'Jan-Jun 2024'!AV54","v":0},{"$f":"'Jan-Jun 2024'!AU54+'Jul-Dez 2024'!AU54","v":0},{"$nulls":3},0,0,0,null,0,0,0,0,0,0,0,{"$f":"'Jan-Jun 2024'!BL54","v":0},{"$f":"'Jan-Jun 2024'!BK54+'Jul-Dez 2024'!BK54","v":0},{"$nulls":3},0,0,0,null,0,0,0,0,0,0,0,{"$f":"'Jan-Jun 2024'!CB54","v":0},{"$f":"'Jan-Jun 2024'!CA54+'Jul-Dez 2024'!CA54","v":0}]
[null,5768,"ICS","Inglês em Contexto Socioprofissional",{"$nulls":5},"L046",25,"Helena Abelho",{"$nulls":6},6412,"CP","Circuitos Pneumáticos",{"$nulls":5},"E329",25,"Vítor Caetano",{"$nulls":7},0,0,0,null,0,0,0,0,0,0,0,{"$f":"'Jan-Jun 2024'!AV55","v":0},{"$f":"'Jan-Jun 2024'!AU55+'Jul-Dez 2024'!AU55","v":0},{"$nulls":3},0,0,0,null,0,0,0,0,0,0,0,{"$f":"'Jan-Jun 2024'!BL55","v":0},{"$f":"'Jan-Jun 2024'!BK55+'Jul-Dez 2024'!BK55","v":0},{"$nulls":3},0,0,0,null,0,0,0,0,0,0,0,{"$f":"'Jan-Jun 2024'!CB55","v":0},{"$f":"'Jan-Jun 2024'!CA55+'Jul-Dez 2024'!CA55","v":0}]
[{"$nulls":18},6413,"CH","Circuitos Óleo-Hidráulicos",{"$nulls":5},"E330",25,"Vítor Caetano",{"$nulls":7},0,0,0,null,0,0,0,0,0,0,0,{"$f":"'Jan-Jun 2024'!AV56","v":0},{"$f":"'Jan-Jun 2024'!AU56+'Jul-Dez 2024'!AU56","v":0},{"$nulls":3},0,0,0,null,0,0,0,0,0,0,0,{"$f":"'Jan-Jun 2024'!BL56","v":0},{"$f":"'Jan-Jun 2024'!BK56+'Jul-Dez 2024'!BK56","v":0},{"$nulls":3},0,0,0,null,0,0,0,0,0,0,0,{"$f":"'Jan-Jun 2024'!CB56","v":0},{"$f":"'Jan-Jun 2024'!CA56+'Jul-Dez 2024'!CA56","v":0}]
[{"$nulls":18},6414,"CLP","Controladores Lógicos Programáveis",{"$nulls":5},"C589",50,"Rafael Matos",{"$nulls":7},0,0,0,null,0,0,0,0,0,0,0,{"$f":"'Jan-Jun 2024'!AV57","v":0},{"$f":"'Jan-Jun 2024'!AU57+'Jul-Dez 2024'!AU57","v":0},{"$nulls":3},0,0,0,null,0,0,0,0,0,0,0,{"$f":"'Jan-Jun 2024'!BL57","v":0},{"$f":"'Jan-Jun 2024'!BK57+'Jul-Dez 2024'!BK57","v":0},{"$nulls":3},0,0,0,null,0,0,0,0,0,0,0,{"$f":"'Jan-Jun 2024'!CB57","v":0},{"$f":"'Jan-Jun 2024'!CA57+'Jul-Dez 2024'!CA57","v":0}]
[{"$nulls":18},6415,"DCM","Desenho de Construções Mecânicas",{"$nulls":5},"A438",50,"Luís Carvalho",{"$nulls":7},0,0,0,null,0,0,0,0,0,0,0,{"$f":"'Jan-Jun 2024'!AV58","v":0},{"$f":"'Jan-Jun 2024'!AU58+'Jul-Dez 2024'!AU58","v":0},{"$nulls":3},0,0,0,null,0,0,0,0,0,0,0,{"$f":"'Jan-Jun 2024'!BL58","v":0},{"$f":"'Jan-Jun 2024'!BK58+'Jul-Dez 2024'!BK58","v":0},{"$nulls":3},0,0,0,null,0,0,0,0,0,0,0,{"$f":"'Jan-Jun 2024'!CB58","v":0},{"$f":"'Jan-Jun 2024'!CA58+'Jul-Dez 2024'!CA58","v":0}]
[{"$nulls":18},6416,"CM","Ciência dos Materiais",{"$nulls":5},"C590",50,"Luís Carvalho",{"$nulls":5},"M","APF",0,0,0,25,0,0,0,0,0,0,0,{"$f":"'Jan-Jun 2024'!AV59","v":0},{"$f":"'Jan-Jun 2024'!AU59+'Jul-Dez 2024'!AU59","v":0},{"$nulls":3},0,0,0,null,0,0,0,0,0,0,0,{"$f":"'Jan-Jun 2024'!BL59","v":0},{"$f":"'Jan-Jun 2024'!BK59+'Jul-Dez 2024'!BK59","v":0},{"$nulls":3},0,0,0,null,0,0,0,0,0,0,0,{"$f":"'Jan-Jun 2024'!CB59","v":0},{"$f":"'Jan-Jun 2024'!CA59+'Jul-Dez 2024'!CA59","v":0}]
[{"$nulls":18},6417,"SD","Sistemas Digitais",{"$nulls":5},"I159",50,"Rafael Matos",{"$nulls":7},0,0,0,null,0,0,0,0,0,0,0,{"$f":"'Jan-Jun 2024'!AV60","v":0},{"$f":"'Jan-Jun 2024'!AU60+'Jul-Dez 2024'!AU60","v":0},{"$nulls":3},0,0,0,null,0,0,0,0,0,0,0,{"$f":"'Jan-Jun 2024'!BL60","v":0},{"$f":"'Jan-Jun 2024'!BK60+'Jul-Dez 2024'!BK60","v":0},{"$nulls":3},0,0,0,null,0,0,0,0,0,0,0,{"$f":"'Jan-Jun 2024'!CB60","v":0},{"$f":"'Jan-Jun 2024'!CA60+'Jul-Dez 2024'!CA60","v":0}]
[{"$nulls":18},6418,"OEM","Órgãos e Elementos de Máquinas",{"$nulls":5},"C591",50,"Luís Carvalho",{"$nulls":7},0,0,0,null,0,0,0,0,0,0,0,{"$f":"'Jan-Jun 2024'!AV61","v":0},{"$f":"'Jan-Jun 2024'!AU61+'Jul-Dez 2024'!AU61","v":0},{"$nulls":3},0,0,0,null,0,0,0,0,0,0,0,{"$f":"'Jan-Jun 2024'!BL61","v":0},{"$f":"'Jan-Jun 2024'!BK61+'Jul-Dez 2024'!BK61","v":0},{"$nulls":3},0,0,0,null,0,0,0,0,0,0,0,{"$f":"'Jan-Jun 2024'!CB61","v":0},{"$f":"'Jan-Jun 2024'!CA61+'Jul-Dez 2024'!CA61","v":0}]
[null,null,"EG","Eletricidade Geral",{"$nulls":5},"K264",50,"Rafael Matos",{"$nulls":6},6419,"IP","Introdução à Programação",{"$nulls":5},"I160",50,"Vítor Caetano",{"$nulls":7},0,0,0,null,0,0,0,0,0,0,0,{"$f":"'Jan-Jun 2024'!AV62","v":0},{"$f":"'Jan-Jun 2024'!AU62+'Jul-Dez 2024'!AU62","v":0},{"$nulls":3},0,0,0,null,0,0,0,0,0,0,0,{"$f":"'Jan-Jun 2024'!BL62","v":0},{"$f":"'Jan-Jun 2024'!BK62+'Jul-Dez 2024'!BK62","v":0},{"$nulls":3},0,0,0,null,0,0,0,0,0,0,0,{"$f":"'Jan-Jun 2024'!CB62","v":0},{"$f":"'Jan-Jun 2024'!CA62+'Jul-Dez 2024'!CA62","v":0}]
[{"$nulls":18},6420,"ELP","Eletrónica de Potência - Fundamentos",{"$nulls":5},"K254",50,"Marco Martinho",{"$nulls":7},0,0,0,null,0,0,0,0,0,0,0,{"$f":"'Jan-Jun 2024'!AV63","v":0},{"$f":"'Jan-Jun 2024'!AU63+'Jul-Dez 2024'!AU63","v":0},{"$nulls":3},0,0,0,null,0,0,0,0,0,0,0,{"$f":"'Jan-Jun 2024'!BL63","v":0},{"$f":"'Jan-Jun 2024'!BK63+'Jul-Dez 2024'!BK63","v":0},{"$nulls":3},0,0,0,null,0,0,0,0,0,0,0,{"$f":"'Jan-Jun 2024'!CB63","v":0},{"$f":"'Jan-Jun 2024'!CA63+'Jul-Dez 2024'!CA63","v":0}]
[null,null,"IGE","Inteligência Emocional e Gestão Emocional",{"$nulls":6},60,"Marta Leal",{"$nulls":6},6421,"MM","Microprocessadores / Microcontroladores",{"$nulls":5},"I161",50,"Marco Martinho",{"$nulls":7},0,0,0,null,0,0,0,0,0,0,0,{"$f":"'Jan-Jun 2024'!AV64","v":0},{"$f":"'Jan-Jun 2024'!AU64+'Jul-Dez 2024'!AU64","v":0},{"$nulls":3},0,0,0,null,0,0,0,0,0,0,0,{"$f":"'Jan-Jun 2024'!BL64","v":0},{"$f":"'Jan-Jun 2024'!BK64+'Jul-Dez 2024'!BK64","v":0},{"$nulls":3},0,0,0,null,0,0,0,0,0,0,0,{"$f":"'Jan-Jun 2024'!CB64","v":0},{"$f":"'Jan-Jun 2024'!CA64+'Jul-Dez 2024'!CA64","v":0}]
[{"$nulls":18},5134,"ROB","Robótica - Fundamentos",{"$nulls":5},"E331",50,"Marco Martinho",{"$nulls":7},0,0,0,null,0,0,0,0,0,0,0,{"$f":"'Jan-Jun 2024'!AV65","v":0},{"$f":"'Jan-Jun 2024'!AU65+'Jul-Dez 2024'!AU65","v":0},{"$nulls":3},0,0,0,null,0,0,0,0,0,0,0,{"$f":"'Jan-Jun 2024'!BL65","v":0},{"$f":"'Jan-Jun 2024'!BK65+'Jul-Dez 2024'!BK65","v":0},{"$nulls":3},0,0,0,null,0,0,0,0,0,0,0,{"$f":"'Jan-Jun 2024'!CB65","v":0},{"$f":"'Jan-Jun 2024'!CA65+'Jul-Dez 2024'!CA65","v":0}]
[{"$nulls":18},6422,"MET","Metrologia por Coordenadas",{"$nulls":5},"C592",50,"Miguel Franco",{"$nulls":7},0,0,0,null,0,0,0,0,0,0,0,{"$f":"'Jan-Jun 2024'!AV66","v":0},{"$f":"'Jan-Jun 2024'!AU66+'Jul-Dez 2024'!AU66","v":0},{"$nulls":3},0,0,0,null,0,0,0,0,0,0,0,{"$f":"'Jan-Jun 2024'!BL66","v":0},{"$f":"'Jan-Jun 2024'!BK66+'Jul-Dez 2024'!BK66","v":0},{"$nulls":3},0,0,0,null,0,0,0,0,0,0,0,{"$f":"'Jan-Jun 2024'!CB66","v":0},{"$f":"'Jan-Jun 2024'!CA66+'Jul-Dez 2024'!CA66","v":0}]
[{"$nulls":18},6423,"CNC","CNC - Comando Numérico por Computador",{"$nulls":5},"C593",50,"Miguel Paulo",{"$nulls":7},0,0,0,null,0,0,0,0,0,0,0,{"$f":"'Jan-Jun 2024'!AV67","v":0},{"$f":"'Jan-Jun 2024'!AU67+'Jul-Dez 2024'!AU67","v":0},{"$nulls":3},0,0,0,null,0,0,0,0,0,0,0,{"$f":"'Jan-Jun 2024'!BL67","v":0},{"$f":"'Jan-Jun 2024'!BK67+'Jul-Dez 2024'!BK67","v":0},{"$nulls":3},0,0,0,null,0,0,0,0,0,0,0,{"$f":"'Jan-Jun 2024'!CB67","v":0},{"$f":"'Jan-Jun 2024'!CA67+'Jul-Dez 2024'!CA67","v":0}]
[null,null,"Salas:",null,"SEG","TER","QUA","QUI","SEX",{"$nulls":9},6424,"CAM","CAM - Fabricação Assistida por Computador",{"$nulls":5},"C594",50,"João Franco",{"$nulls":7},0,0,0,null,0,0,0,0,0,0,0,{"$f":"'Jan-Jun 2024'!AV68","v":0},{"$f":"'Jan-Jun 2024'!AU68+'Jul-Dez 2024'!AU68","v":0},{"$nulls":3},0,0,0,null,0,0,0,0,0,0,0,{"$f":"'Jan-Jun 2024'!BL68","v":0},{"$f":"'Jan-Jun 2024'!BK68+'Jul-Dez 2024'!BK68","v":0},{"$nulls":3},0,0,0,null,0,0,0,0,0,0,0,{"$f":"'Jan-Jun 2024'!CB68","v":0},{"$f":"'Jan-Jun 2024'!CA68+'Jul-Dez 2024'!CA68","v":0}]
[{"$nulls":18},6425,"PAC","Projecto Assistido por Computador",{"$nulls":5},"A434",50,"João Catarino",{"$nulls":7},0,0,0,null,0,0,0,0,0,0,0,{"$f":"'Jan-Jun 2024'!AV69","v":0},{"$f":"'Jan-Jun 2024'!AU69+'Jul-Dez 2024'!AU69","v":0},{"$nulls":3},0,0,0,null,0,0,0,0,0,0,0,{"$f":"'Jan-Jun 2024'!BL69","v":0},{"$f":"'Jan-Jun 2024'!BK69+'Jul-Dez 2024'!BK69","v":0},{"$nulls":3},0,0,0,null,0,0,0,0,0,0,0,{"$f":"'Jan-Jun 2024'!CB69","v":0},{"$f":"'Jan-Jun 2024'!CA69+'Jul-Dez 2024'!CA69","v":0}]
[{"$nulls":17},"Estágio",null,"PCT","Prática em Contexto Trabalho",{"$nulls":5},"K259",560,"Tutores",{"$nulls":7},0,0,0,null,0,0,0,0,0,0,0,{"$f":"'Jan-Jun 2024'!AV70","v":0},{"$f":"'Jan-Jun 2024'!AU70+'Jul-Dez 2024'!AU70","v":0},{"$nulls":3},0,0,0,null,0,0,0,0,0,0,0,{"$f":"'Jan-Jun 2024'!BL70","v":0},{"$f":"'Jan-Jun 2024'!BK70+'Jul-Dez 2024'!BK70","v":0},{"$nulls":3},0,0,0,null,0,0,0,0,0,0,0,{"$f":"'Jan-Jun 2024'!CB70","v":0},{"$f":"'Jan-Jun 2024'!CA70+'Jul-Dez 2024'!CA70","v":0}]
[null,null,"R. Quantitativas:",{"$nulls":14},"Projecto Final",null,"APF","Acompanhamento ao Projeto Final",{"$nulls":6},16,"Orientadores",{"$nulls":7},0,0,0,null,0,0,0,0,0,0,0,{"$f":"'Jan-Jun 2024'!AV71","v":0},{"$f":"'Jan-Jun 2024'!AU71+'Jul-Dez 2024'!AU71","v":0},{"$nulls":3},0,0,0,null,0,0,0,0,0,0,0,{"$f":"'Jan-Jun 2024'!BL71","v":0},{"$f":"'Jan-Jun 2024'!BK71+'Jul-Dez 2024'!BK71","v":0},{"$nulls":3},0,0,0,null,0,0,0,0,0,0,0,{"$f":"'Jan-Jun 2024'!CB71","v":0},{"$f":"'Jan-Jun 2024'!CA71+'Jul-Dez 2024'!CA71","v":0}]
[{"$nulls":19},"PFI","Projecto Final Integrado - Apresentação e Discussão",{"$nulls":7},"Júri",{"$nulls":7},0,{"$f":"IF($AK$4=$DH$8,AU72,IF($AK$4=$DH$9,AV72,IF($AK$4=$DH$10,AW72,IF($AK$4=$DH$11,AO72,IF($AK$4=$DH$12,AP72,IF($AK$4=$DH$13,AQ72,IF($AK$4=$DH$14,AR72,IF($AK$4=$DH$15,AS72,IF($AK$4=$DH$16,AT72,\"\")))))))))","v":0},0,null,0,0,0,0,0,0,0,{"$f":"'Jan-Jun 2024'!AV72","v":0},{"$f":"'Jan-Jun 2024'!AU72+'Jul-Dez 2024'!AU72","v":0},{"$nulls":3},0,{"$f":"IF($AK$4=$DH$8,BK72,IF($AK$4=$DH$9,BL72,IF($AK$4=$DH$10,BM72,IF($AK$4=$DH$11,BE72,IF($AK$4=$DH$12,BF72,IF($AK$4=$DH$13,BG72,IF($AK$4=$DH$14,BH72,IF($AK$4=$DH$15,BI72,IF($AK$4=$DH$16,BJ72,\"\")))))))))","v":0},0,null,0,0,0,0,0,0,0,{"$f":"'Jan-Jun 2024'!BL72","v":0},{"$f":"'Jan-Jun 2024'!BK72+'Jul-Dez 2024'!BK72","v":0},{"$nulls":3},0,{"$f":"IF($AK$4=$DH$8,CA72,IF($AK$4=$DH$9,CB72,IF($AK$4=$DH$10,CC72,IF($AK$4=$DH$11,BU72,IF($AK$4=$DH$12,BV72,IF($AK$4=$DH$13,BW72,IF($AK$4=$DH$14,BX72,IF($AK$4=$DH$15,BY72,IF($AK$4=$DH$16,BZ72,\"\")))))))))","v":0},0,null,0,0,0,0,0,0,0,{"$f":"'Jan-Jun 2024'!CB72","v":0},{"$f":"'Jan-Jun 2024'!CA72+'Jul-Dez 2024'!CA72","v":0}]
[{"$nulls":36},{"$f":"IF(AI73=$DI$8,AM73,IF(AI73=$DI$9,AM73,IF(AI73=$DI$10,AL73,)))","v":0},0,{"$f":"IF(AI73=$DI$8,AL73,IF(AI73=$DI$9,AM74+AL73,IF(AI73=$DI$10,IF(AI74=$DI$10,AM74+AL73,AL73),)))","v":0},null,{"$f":"COUNTIF($C$10:$AG$13,$AJ73)","v":0},{"$f":"COUNTIF($C$17:$AG$20,$AJ73)","v":0},{"$f":"COUNTIF($C$24:$AG$27,$AJ73)","v":0},{"$f":"COUNTIF($C$31:$AG$34,$AJ73)","v":0},{"$f":"COUNTIF($C$38:$AG$41,$AJ73)","v":0},{"$f":"COUNTIF($C$45:$AG$48,$AJ73)","v":0},{"$f":"SUM(AO73:AT73)","v":0},{"$f":"'Jan-Jun 2024'!AV73","v":0},{"$f":"'Jan-Jun 2024'!AU73+'Jul-Dez 2024'!AU73","v":0},{"$nulls":3},{"$f":"IF(AY73=$DI$8,BC73,IF(AY73=$DI$9,BC73,IF(AY73=$DI$10,BB73,)))","v":0},0,{"$f":"IF(AY73=$DI$8,BB73,IF(AY73=$DI$9,BC74+BB73,IF(AY73=$DI$10,IF(AY74=$DI$10,BC74+BB73,BB73),)))","v":0},null,{"$f":"COUNTIF($C$10:$AG$13,$AZ73)","v":0},{"$f":"COUNTIF($C$17:$AG$20,$AZ73)","v":0},{"$f":"COUNTIF($C$24:$AG$27,$AZ73)","v":0},{"$f":"COUNTIF($C$31:$AG$34,$AZ73)","v":0},{"$f":"COUNTIF($C$38:$AG$41,$AZ73)","v":0},{"$f":"COUNTIF($C$45:$AG$48,$AZ73)","v":0},{"$f":"SUM(BE73:BJ73)","v":0},{"$f":"'Jan-Jun 2024'!BL73","v":0},{"$f":"'Jan-Jun 2024'!BK73+'Jul-Dez 2024'!BK73","v":0},{"$nulls":3},{"$f":"IF(BO73=$DI$8,BS73,IF(BO73=$DI$9,BS73,IF(BO73=$DI$10,BR73,)))","v":0},0,{"$f":"IF(BO73=$DI$8,BR73,IF(BO73=$DI$9,BS74+BR73,IF(BO73=$DI$10,IF(BO74=$DI$10,BS74+BR73,BR73),)))","v":0},null,{"$f":"COUNTIF($C$10:$AG$13,$BP73)","v":0},{"$f":"COUNTIF($C$17:$AG$20,$BP73)","v":0},{"$f":"COUNTIF($C$24:$AG$27,$BP73)","v":0},{"$f":"COUNTIF($C$31:$AG$34,$BP73)","v":0},{"$f":"COUNTIF($C$38:$AG$41,$BP73)","v":0},{"$f":"COUNTIF($C$45:$AG$48,$BP73)","v":0},{"$f":"SUM(BU73:BZ73)","v":0},{"$f":"'Jan-Jun 2024'!CB73","v":0},{"$f":"'Jan-Jun 2024'!CA73+'Jul-Dez 2024'!CA73","v":0}]
[]
[{"$nulls":36},{"$f":"SUMIF(AI8:AI73,\"=M\",AK8:AK73)+SUMIF(AI8:AI73,\"=T\",AK8:AK73)","v":0},null,null,{"$f":"SUMIF(AI8:AI73,\"=M\",AN8:AN73)+SUMIF(AI8:AI73,\"=T\",AN8:AN73)","v":900},{"$nulls":12},{"$f":"SUMIF(AY8:AY73,\"=M\",BA8:BA73)+SUMIF(AY8:AY73,\"=T\",BA8:BA73)","v":0},null,null,{"$f":"SUMIF(AY8:AY73,\"=M\",BD8:BD73)+SUMIF(AY8:AY73,\"=T\",BD8:BD73)","v":260},{"$nulls":12},{"$f":"SUMIF(BO8:BO73,\"=M\",BQ8:BQ73)+SUMIF(BO8:BO73,\"=T\",BQ8:BQ73)","v":0},null,null,{"$f":"SUMIF(BO8:BO73,\"=M\",BT8:BT73)+SUMIF(BO8:BO73,\"=T\",BT8:BT73)","v":0}]
[{"$nulls":34},"Totais",null,{"$f":"AK75+BA75+BQ75","v":0},null,null,{"$f":"AN75+BD75+BT75","v":1160}]

{"sheet":"Jan-Jun 2025","index":3,"n_rows":76,"n_cols":113,"rows_kept":76,"merged":[[0,25,0,32],[0,34,2,39],[0,40,6,40],[0,41,6,41],[0,42,6,42],[0,43,6,43],[0,44,6,44],[0,45,6,45],[0,46,6,46],[0,47,6,47],[0,48,6,48],[0,50,2,55],[0,56,6,56],[0,57,6,57],[0,58,6,58],[0,59,6,59],[0,60,6,60],[0,61,6,61],[0,62,6,62],[0,63,6,63],[0,64,6,64],[0,66,2,71],[0,72,6,72],[0,73,6,73],[0,74,6,74],[0,75,6,75],[0,76,6,76],[0,77,6,77],[0,78,6,78],[0,79,6,79],[0,80,6,80],[0,111,6,111],[0,112,6,112],[1,25,1,32],[2,25,2,32],[3,25,3,32],[3,34,6,34],[3,35,6,35],[3,36,6,36],[3,37,6,37],[3,38,6,38],[3,39,6,39],[3,50,6,50],[3,51,6,51],[3,52,6,52],[3,53,6,53],[3,54,6,54],[3,55,6,55],[3,66,6,66],[3,67,6,67],[3,68,6,68],[3,69,6,69],[3,70,6,70],[3,71,6,71],[4,0,4,2],[4,3,4,9],[4,10,4,13],[4,14,4,21],[4,22,4,26],[4,27,4,29],[4,30,4,32],[5,0,5,2],[5,3,5,9],[5,10,5,13],[5,14,5,21],[5,22,5,26],[5,27,5,29],[5,30,5,32],[6,0,6,2],[6,3,6,9],[6,10,6,13],[6,14,6,21],[6,22,6,26],[6,27,6,29],[6,30,6,32],[7,0,8,1],[9,0,9,1],[10,0,10,1],[11,0,11,1],[12,0,12,1],[14,0,15,1],[16,0,16,1],[17,0,17,1],[18,0,18,1],[19,0,19,1],[21,0,22,1],[23,0,23,1],[24,0,24,1],[25,0,25,1],[26,0,26,1],[28,0,29,1],[30,0,30,1],[31,0,31,1],[32,0,32,1],[33,0,33,1],[35,0,36,1],[37,0,37,1],[38,0,38,1],[39,0,39,1],[40,0,40,1],[42,0,43,1],[44,0,44,1],[45,0,45,1],[46,0,46,1],[47,0,47,1],[48,2,48,8],[48,11,48,13],[48,17,48,19],[48,20,48,25],[48,28,48,30],[49,0,54,0],[49,3,49,8],[49,11,49,13],[49,17,68,17],[49,20,49,25],[49,28,49,30],[50,3,50,8],[50,11,50,13],[50,20,50,25],[50,28,50,30],[51,3,51,8],[51,11,51,13],[51,20,51,25],[51,28,51,30],[52,3,52,8],[52,11,52,13],[52,20,52,25],[52,28,52,30],[53,3,53,8],[53,11,53,13],[53,20,53,25],[53,28,53,30],[54,3,54,8],[54,11,54,13],[54,20,54,25],[54,28,54,30],[55,20,55,25],[55,28,55,30],[56,3,56,9],[56,20,56,25],[56,28,56,30],[57,4,57,9],[57,20,57,25],[57,28,57,30],[58,4,58,9],[58,20,58,25],[58,28,58,30],[59,4,59,9],[59,20,59,25],[59,28,59,30],[60,20,60,25],[60,28,60,30],[61,3,61,8],[61,20,61,25],[61,28,61,30],[62,20,62,25],[62,28,62,30],[63,3,63,8],[63,20,63,25],[63,28,63,30],[64,20,64,25],[64,28,64,30],[65,20,65,25],[65,28,65,30],[66,20,66,25],[66,28,66,30],[67,2,68,3],[67,20,67,25],[67,28,67,30],[68,20,68,25],[68,28,68,30],[69,20,69,25],[69,28,69,30],[70,4,70,5],[70,6,70,7],[70,8,70,9],[70,17,71,17],[70,20,70,25],[70,28,70,30],[71,20,71,25],[71,28,71,30],[75,34,75,35]]}
[{"$nulls":40},{"$f":"TEXT(#REF!,\"mmm\")","v":{"$error":"#REF!"}},{"$f":"TEXT($A$11,\"mmm\")","v":"20h10 - 21h00"},{"$f":"TEXT($A$18,\"mmm\")","v":"20h10 - 21h00"},{"$f":"TEXT($A$25,\"mmm\")","v":"20h10 - 21h00"},{"$f":"TEXT($A$32,\"mmm\")","v":"20h10 - 21h00"},{"$f":"TEXT($A$39,\"mmm\")","v":"20h10 - 21h00"},"Total  Folha","Total Global","Total  Acum.",{"$nulls":7},{"$f":"TEXT(#REF!,\"mmm\")","v":{"$error":"#REF!"}},{"$f":"TEXT($A$11,\"mmm\")","v":"20h10 - 21h00"},{"$f":"TEXT($A$18,\"mmm\")","v":"20h10 - 21h00"},{"$f":"TEXT($A$25,\"mmm\")","v":"20h10 - 21h00"},{"$f":"TEXT($A$32,\"mmm\")","v":"20h10 - 21h00"},{"$f":"TEXT($A$39,\"mmm\")","v":"20h10 - 21h00"},"Total  Folha","Total Global","Total  Acum.",{"$nulls":7},{"$f":"TEXT(#REF!,\"mmm\")","v":{"$error":"#REF!"}},{"$f":"TEXT($A$11,\"mmm\")","v":"20h10 - 21h00"},{"$f":"TEXT($A$18,\"mmm\")","v":"20h10 - 21h00"},{"$f":"TEXT($A$25,\"mmm\")","v":"20h10 - 21h00"},{"$f":"TEXT($A$32,\"mmm\")","v":"20h10 - 21h00"},{"$f":"TEXT($A$39,\"mmm\")","v":"20h10 - 21h00"},"Total  Folha","Total Global","Total  Acum.",{"$nulls":30},"tipo_soma","tipo_contador"]
[{"$nulls":25},"Director(a):"]
[{"$nulls":25},"(Cristina Botas)"]
[{"$nulls":34},"Tipo","Módulo","ST","Origem","Cálculo","Objetivo",{"$nulls":10},"Tipo","Módulo",{"$f":"AK4","v":"ST"},"Origem","Cálculo","Objetivo",{"$nulls":10},"Tipo","Módulo",{"$f":"AK4","v":"ST"},"Origem","Cálculo","Objetivo"]
["MODALIDADE:",null,null,"CET - Tecnologia Mecatrónica",{"$nulls":6},"CODÍGO DA AÇÃO:",{"$nulls":3},66406,{"$nulls":12},"       U.O.:",null,null,"Torres Vedras"]
["PLANEAMENTO:",null,null,"Vítor Caetano",{"$nulls":6},"SAÍDA PROFISSIONAL: Técnico/a Especialista em Mecatrónica",{"$nulls":3},"Técnico/a Especialista em Mecatrónica",{"$nulls":12},"DATA INÍCIO:",null,null,"2022-11-15"]
["COORDENADOR:",{"$nulls":9},"DURAÇÃO:",{"$nulls":3},"1560 H",{"$nulls":12},"DATA FIM  (previsto):"]
["2025-01-01",null,{"$f":"IF(C9<>\"\",CHOOSE(WEEKDAY(C9,1),\"Dom.\",\"Seg.\",\"Ter.\",\"Qua.\",\"Qui.\",\"Sex.\",\"Sáb.\"),\"\")","v":"Qua."},{"$f":"IF(D9<>\"\",CHOOSE(WEEKDAY(D9,1),\"Dom.\",\"Seg.\",\"Ter.\",\"Qua.\",\"Qui.\",\"Sex.\",\"Sáb.\"),\"\")","v":"Qui."},"Sex.","Sáb.","Dom.","Seg.","Ter.","Qua.","Qui.","Sex.","Sáb.","Dom.","Seg.","Ter.","Qua.","Qui.","Sex.","Sáb.","Dom.","Seg.","Ter.","Qua.","Qui.","Sex.","Sáb.","Dom.","Seg.","Ter.","Qua.","Qui.","Sex.",null,"T","PFL",{"$f":"IF(AI8=$DI$8,AM8,IF(AI8=$DI$9,AM8,IF(AI8=$DI$10,AL8,)))","v":0},{"$f":"IF($AK$4=$DH$8,AU8,IF($AK$4=$DH$9,AV8,IF($AK$4=$DH$10,AW8,IF($AK$4=$DH$11,AO8,IF($AK$4=$DH$12,AP8,IF($AK$4=$DH$13,AQ8,IF($AK$4=$DH$14,AR8,IF($AK$4=$DH$15,AS8,IF($AK$4=$DH$16,AT8,\"\")))))))))","v":0},{"$f":"IF(AI8=$DI$8,AL8,IF(AI8=$DI$9,AM9+AL8,IF(AI8=$DI$10,IF(AI9=$DI$10,AM9+AL8,AL8),)))","v":0},25,{"$f":"COUNTIF($C$10:$AG$13,$AJ8)","v":0},{"$f":"COUNTIF($C$17:$AG$20,$AJ8)","v":0},{"$f":"COUNTIF($C$24:$AG$27,$AJ8)","v":0},{"$f":"COUNTIF($C$31:$AG$34,$AJ8)","v":0},{"$f":"COUNTIF($C$38:$AG$41,$AJ8)","v":0},{"$f":"COUNTIF($C$45:$AG$48,$AJ8)","v":0},{"$f":"SUM(AO8:AT8)","v":0},{"$f":"'Jan-Jun 2024'!AV8","v":0},{"$f":"'Jan-Jun 2024'!AU8+'Jul-Dez 2024'!AU8+'Jan-Jun 2025'!AU8","v":0},null,"M","IGO",{"$f":"IF(AY8=$DI$8,BC8,IF(AY8=$DI$9,BC8,IF(AY8=$DI$10,BB8,)))","v":0},{"$f":"IF($AK$4=$DH$8,BK8,IF($AK$4=$DH$9,BL8,IF($AK$4=$DH$10,BM8,IF($AK$4=$DH$11,BE8,IF($AK$4=$DH$12,BF8,IF($AK$4=$DH$13,BG8,IF($AK$4=$DH$14,BH8,IF($AK$4=$DH$15,BI8,IF($AK$4=$DH$16,BJ8,\"\")))))))))","v":0},{"$f":"IF(AY8=$DI$8,BB8,IF(AY8=$DI$9,BC9+BB8,IF(AY8=$DI$10,IF(AY9=$DI$10,BC9+BB8,BB8),)))","v":0},25,{"$f":"COUNTIF($C$10:$AG$13,$AZ8)","v":0},{"$f":"COUNTIF($C$17:$AG$20,$AZ8)","v":0},{"$f":"COUNTIF($C$24:$AG$27,$AZ8)","v":0},{"$f":"COUNTIF($C$31:$AG$34,$AZ8)","v":0},{"$f":"COUNTIF($C$38:$AG$41,$AZ8)","v":0},{"$f":"COUNTIF($C$45:$AG$48,$AZ8)","v":0},{"$f":"SUM(BE8:BJ8)","v":0},{"$f":"'Jan-Jun 2024'!BL8","v":0},{"$f":"'Jan-Jun 2024'!BK8+'Jul-Dez 2024'!BK8+'Jan-Jun 2025'!BK8","v":0},{"$nulls":3},{"$f":"IF(BO8=$DI$8,BS8,IF(BO8=$DI$9,BS8,IF(BO8=$DI$10,BR8,)))","v":0},{"$f":"IF($AK$4=$DH$8,CA8,IF($AK$4=$DH$9,CB8,IF($AK$4=$DH$10,CC8,IF($AK$4=$DH$11,BU8,IF($AK$4=$DH$12,BV8,IF($AK$4=$DH$13,BW8,IF($AK$4=$DH$14,BX8,IF($AK$4=$DH$15,BY8,IF($AK$4=$DH$16,BZ8,\"\")))))))))","v":0},{"$f":"IF(BO8=$DI$8,BR8,IF(BO8=$DI$9,BS9+BR8,IF(BO8=$DI$10,IF(BO9=$DI$10,BS9+BR8,BR8),)))","v":0},null,{"$f":"COUNTIF($C$10:$AG$13,$BP8)","v":0},{"$f":"COUNTIF($C$17:$AG$20,$BP8)","v":0},{"$f":"COUNTIF($C$24:$AG$27,$BP8)","v":0},{"$f":"COUNTIF($C$31:$AG$34,$BP8)","v":0},{"$f":"COUNTIF($C$38:$AG$41,$BP8)","v":0},{"$f":"COUNTIF($C$45:$AG$48,$BP8)","v":0},{"$f":"SUM(BU8:BZ8)","v":0},{"$f":"'Jan-Jun 2024'!CB8","v":0},{"$f":"'Jan-Jun 2024'!CA8+'Jul-Dez 2024'!CA8+'Jan-Jun 2025'!CA8","v":0},{"$nulls":30},"SF","M"]
[null,null,{"$f":"A8","v":"2025-01-01"},{"$f":"IF(C9=\"\",\"\",IF(DAY(C9)<DAY(EOMONTH(C9,0)),C9+1,\"\"))","v":"2025-01-02"},{"$f":"IF(D9=\"\",\"\",IF(DAY(D9)<DAY(EOMONTH(D9,0)),D9+1,\"\"))","v":"2025-01-03"},"2025-01-04","2025-01-05","2025-01-06",{"$f":"IF(H9=\"\",\"\",IF(DAY(H9)<DAY(EOMONTH(H9,0)),H9+1,\"\"))","v":"2025-01-07"},{"$f":"IF(I9=\"\",\"\",IF(DAY(I9)<DAY(EOMONTH(I9,0)),I9+1,\"\"))","v":"2025-01-08"},"2025-01-09","2025-01-10","2025-01-11","2025-01-12","2025-01-13",{"$f":"IF(O9=\"\",\"\",IF(DAY(O9)<DAY(EOMONTH(O9,0)),O9+1,\"\"))","v":"2025-01-14"},{"$f":"IF(P9=\"\",\"\",IF(DAY(P9)<DAY(EOMONTH(P9,0)),P9+1,\"\"))","v":"2025-01-15"},"2025-01-16","2025-01-17","2025-01-18","2025-01-19","2025-01-20",{"$f":"IF(V9=\"\",\"\",IF(DAY(V9)<DAY(EOMONTH(V9,0)),V9+1,\"\"))","v":"2025-01-21"},{"$f":"IF(W9=\"\",\"\",IF(DAY(W9)<DAY(EOMONTH(W9,0)),W9+1,\"\"))","v":"2025-01-22"},"2025-01-23","2025-01-24","2025-01-25","2025-01-26","2025-01-27",{"$f":"IF(AC9=\"\",\"\",IF(DAY(AC9)<DAY(EOMONTH(AC9,0)),AC9+1,\"\"))","v":"2025-01-28"},{"$f":"IF(AD9=\"\",\"\",IF(DAY(AD9)<DAY(EOMONTH(AD9,0)),AD9+1,\"\"))","v":"2025-01-29"},"2025-01-30","2025-01-31",null,"P","PFL1",{"$f":"IF(AI9=$DI$8,AM9,IF(AI9=$DI$9,AM9,IF(AI9=$DI$10,AL9,)))","v":0},0,{"$f":"IF(AI9=$DI$8,AL9,IF(AI9=$DI$9,AM10+AL9,IF(AI9=$DI$10,IF(AI10=$DI$10,AM10+AL9,AL9),)))","v":0},7,{"$f":"COUNTIF($C$10:$AG$13,$AJ9)","v":0},{"$f":"COUNTIF($C$17:$AG$20,$AJ9)","v":0},{"$f":"COUNTIF($C$24:$AG$27,$AJ9)","v":0},{"$f":"COUNTIF($C$31:$AG$34,$AJ9)","v":0},{"$f":"COUNTIF($C$38:$AG$41,$AJ9)","v":0},{"$f":"COUNTIF($C$45:$AG$48,$AJ9)","v":0},{"$f":"SUM(AO9:AT9)","v":0},{"$f":"'Jan-Jun 2024'!AV9","v":0},{"$f":"'Jan-Jun 2024'!AU9+'Jul-Dez 2024'!AU9+'Jan-Jun 2025'!AU9","v":0},{"$nulls":3},{"$f":"IF(AY9=$DI$8,BC9,IF(AY9=$DI$9,BC9,IF(AY9=$DI$10,BB9,)))","v":0},0,{"$f":"IF(AY9=$DI$8,BB9,IF(AY9=$DI$9,BC10+BB9,IF(AY9=$DI$10,IF(AY10=$DI$10,BC10+BB9,BB9),)))","v":0},null,{"$f":"COUNTIF($C$10:$AG$13,$AZ9)","v":0},{"$f":"COUNTIF($C$17:$AG$20,$AZ9)","v":0},{"$f":"COUNTIF($C$24:$AG$27,$AZ9)","v":0},{"$f":"COUNTIF($C$31:$AG$34,$AZ9)","v":0},{"$f":"COUNTIF($C$38:$AG$41,$AZ9)","v":0},{"$f":"COUNTIF($C$45:$AG$48,$AZ9)","v":0},{"$f":"SUM(BE9:BJ9)","v":0},{"$f":"'Jan-Jun 2024'!BL9","v":0},{"$f":"'Jan-Jun 2024'!BK9+'Jul-Dez 2024'!BK9+'Jan-Jun 2025'!BK9","v":0},{"$nulls":3},{"$f":"IF(BO9=$DI$8,BS9,IF(BO9=$DI$9,BS9,IF(BO9=$DI$10,BR9,)))","v":0},0,{"$f":"IF(BO9=$DI$8,BR9,IF(BO9=$DI$9,BS10+BR9,IF(BO9=$DI$10,IF(BO10=$DI$10,BS10+BR9,BR9),)))","v":0},null,{"$f":"COUNTIF($C$10:$AG$13,$BP9)","v":0},{"$f":"COUNTIF($C$17:$AG$20,$BP9)","v":0},{"$f":"COUNTIF($C$24:$AG$27,$BP9)","v":0},{"$f":"COUNTIF($C$31:$AG$34,$BP9)","v":0},{"$f":"COUNTIF($C$38:$AG$41,$BP9)","v":0},{"$f":"COUNTIF($C$45:$AG$48,$BP9)","v":0},{"$f":"SUM(BU9:BZ9)","v":0},{"$f":"'Jan-Jun 2024'!CB9","v":0},{"$f":"'Jan-Jun 2024'!CA9+'Jul-Dez 2024'!CA9+'Jan-Jun 2025'!CA9","v":0},{"$nulls":30},"ST","T"]
["19h20 - 20h10",{"$nulls":33},"P","PFL2",0,0,0,18,0,0,0,0,0,0,0,{"$f":"'Jan-Jun 2024'!AV10","v":0},{"$f":"'Jan-Jun 2024'!AU10+'Jul-Dez 2024'!AU10+'Jan-Jun 2025'!AU10","v":0},{"$nulls":3},0,0,0,null,0,0,0,0,0,0,0,{"$f":"'Jan-Jun 2024'!BL10","v":0},{"$f":"'Jan-Jun 2024'!BK10+'Jul-Dez 2024'!BK10+'Jan-Jun 2025'!BK10","v":0},{"$nulls":3},0,0,0,null,0,0,0,0,0,0,0,{"$f":"'Jan-Jun 2024'!CB10","v":0},{"$f":"'Jan-Jun 2024'!CA10+'Jul-Dez 2024'!CA10+'Jan-Jun 2025'!CA10","v":0},{"$nulls":30},"SA","P"]
["20h10 - 21h00",null,"Ano",{"$nulls":33},0,0,0,null,0,0,0,0,0,0,0,{"$f":"'Jan-Jun 2024'!AV11","v":0},{"$f":"'Jan-Jun 2024'!AU11+'Jul-Dez 2024'!AU11+'Jan-Jun 2025'!AU11","v":0},null,"M","GMQ",0,0,0,25,0,0,0,0,0,0,0,{"$f":"'Jan-Jun 2024'!BL11","v":0},{"$f":"'Jan-Jun 2024'!BK11+'Jul-Dez 2024'!BK11+'Jan-Jun 2025'!BK11","v":0},{"$nulls":3},0,0,0,null,0,0,0,0,0,0,0,{"$f":"'Jan-Jun 2024'!CB11","v":0},{"$f":"'Jan-Jun 2024'!CA11+'Jul-Dez 2024'!CA11+'Jan-Jun 2025'!CA11","v":0},{"$nulls":30},{"$f":"TEXT(A8,\"mmm\")","v":"jan"}]
["21h20 - 22h10",null,"Novo",{"$nulls":31},"T","PCC",0,0,0,25,0,0,0,0,0,0,0,{"$f":"'Jan-Jun 2024'!AV12","v":0},{"$f":"'Jan-Jun 2024'!AU12+'Jul-Dez 2024'!AU12+'Jan-Jun 2025'!AU12","v":0},{"$nulls":3},0,0,0,null,0,0,0,0,0,0,0,{"$f":"'Jan-Jun 2024'!BL12","v":0},{"$f":"'Jan-Jun 2024'!BK12+'Jul-Dez 2024'!BK12+'Jan-Jun 2025'!BK12","v":0},{"$nulls":3},0,0,0,null,0,0,0,0,0,0,0,{"$f":"'Jan-Jun 2024'!CB12","v":0},{"$f":"'Jan-Jun 2024'!CA12+'Jul-Dez 2024'!CA12+'Jan-Jun 2025'!CA12","v":0},{"$nulls":30},{"$f":"TEXT(A15,\"mmm\")","v":"fev"}]
["22h10 - 23h00",{"$nulls":33},"P","PCC1",0,0,0,7,0,0,0,0,0,0,0,{"$f":"'Jan-Jun 2024'!AV13","v":0},{"$f":"'Jan-Jun 2024'!AU13+'Jul-Dez 2024'!AU13+'Jan-Jun 2025'!AU13","v":0},{"$nulls":3},0,0,0,null,0,0,0,0,0,0,0,{"$f":"'Jan-Jun 2024'!BL13","v":0},{"$f":"'Jan-Jun 2024'!BK13+'Jul-Dez 2024'!BK13+'Jan-Jun 2025'!BK13","v":0},{"$nulls":3},0,0,0,null,0,0,0,0,0,0,0,{"$f":"'Jan-Jun 2024'!CB13","v":0},{"$f":"'Jan-Jun 2024'!CA13+'Jul-Dez 2024'!CA13+'Jan-Jun 2025'!CA13","v":0},{"$nulls":30},{"$f":"TEXT(A22,\"mmm\")","v":"mar"}]
[{"$nulls":34},"P","PCC2",0,0,0,18,0,0,0,0,0,0,0,{"$f":"'Jan-Jun 2024'!AV14","v":0},{"$f":"'Jan-Jun 2024'!AU14+'Jul-Dez 2024'!AU14+'Jan-Jun 2025'!AU14","v":0},null,"M","SGQ",0,0,0,25,0,0,0,0,0,0,0,{"$f":"'Jan-Jun 2024'!BL14","v":0},{"$f":"'Jan-Jun 2024'!BK14+'Jul-Dez 2024'!BK14+'Jan-Jun 2025'!BK14","v":0},{"$nulls":3},0,0,0,null,0,0,0,0,0,0,0,{"$f":"'Jan-Jun 2024'!CB14","v":0},{"$f":"'Jan-Jun 2024'!CA14+'Jul-Dez 2024'!CA14+'Jan-Jun 2025'!CA14","v":0},{"$nulls":30},{"$f":"TEXT(A29,\"mmm\")","v":"abr"}]
[{"$f":"A8+DAY(EOMONTH(A8,0))","v":"2025-02-01"},null,{"$f":"IF(C16<>\"\",CHOOSE(WEEKDAY(C16,1),\"Dom.\",\"Seg.\",\"Ter.\",\"Qua.\",\"Qui.\",\"Sex.\",\"Sáb.\"),\"\")","v":"Sáb."},{"$f":"IF(D16<>\"\",CHOOSE(WEEKDAY(D16,1),\"Dom.\",\"Seg.\",\"Ter.\",\"Qua.\",\"Qui.\",\"Sex.\",\"Sáb.\"),\"\")","v":"Dom."},"Seg.","Ter.","Qua.","Qui.","Sex.","Sáb.","Dom.","Seg.","Ter.","Qua.","Qui.","Sex.","Sáb.","Dom.","Seg.","Ter.","Qua.","Qui.","Sex.","Sáb.","Dom.","Seg.","Ter.","Qua.","Qui.","Sex.","","","",{"$nulls":3},0,0,0,null,0,0,0,0,0,0,0,{"$f":"'Jan-Jun 2024'!AV15","v":0},{"$f":"'Jan-Jun 2024'!AU15+'Jul-Dez 2024'!AU15+'Jan-Jun 2025'!AU15","v":0},{"$nulls":3},0,0,0,null,0,0,0,0,0,0,0,{"$f":"'Jan-Jun 2024'!BL15","v":0},{"$f":"'Jan-Jun 2024'!BK15+'Jul-Dez 2024'!BK15+'Jan-Jun 2025'!BK15","v":0},{"$nulls":3},0,0,0,null,0,0,0,0,0,0,0,{"$f":"'Jan-Jun 2024'!CB15","v":0},{"$f":"'Jan-Jun 2024'!CA15+'Jul-Dez 2024'!CA15+'Jan-Jun 2025'!CA15","v":0},{"$nulls":30},{"$f":"TEXT(A36,\"mmm\")","v":"mai"}]
[null,null,{"$f":"A15","v":"2025-02-01"},{"$f":"IF(C16=\"\",\"\",IF(DAY(C16)<DAY(EOMONTH(C16,0)),C16+1,\"\"))","v":"2025-02-02"},"2025-02-03","2025-02-04","2025-02-05","2025-02-06","2025-02-07","2025-02-08","2025-02-09","2025-02-10","2025-02-11","2025-02-12","2025-02-13","2025-02-14","2025-02-15","2025-02-16","2025-02-17","2025-02-18","2025-02-19","2025-02-20","2025-02-21","2025-02-22","2025-02-23","2025-02-24","2025-02-25","2025-02-26","2025-02-27","2025-02-28","","","",null,"M","PAA",0,0,0,25,0,0,0,0,0,0,0,{"$f":"'Jan-Jun 2024'!AV16","v":0},{"$f":"'Jan-Jun 2024'!AU16+'Jul-Dez 2024'!AU16+'Jan-Jun 2025'!AU16","v":0},{"$nulls":3},0,0,0,null,0,0,0,0,0,0,0,{"$f":"'Jan-Jun 2024'!BL16","v":0},{"$f":"'Jan-Jun 2024'!BK16+'Jul-Dez 2024'!BK16+'Jan-Jun 2025'!BK16","v":0},{"$nulls":3},0,0,0,null,0,0,0,0,0,0,0,{"$f":"'Jan-Jun 2024'!CB16","v":0},{"$f":"'Jan-Jun 2024'!CA16+'Jul-Dez 2024'!CA16+'Jan-Jun 2025'!CA16","v":0},{"$nulls":30},{"$f":"TEXT(A43,\"mmm\")","v":"jun"}]
["19h20 - 20h10",{"$nulls":33},"M","IME",0,0,0,50,0,0,0,0,0,0,0,{"$f":"'Jan-Jun 2024'!AV17","v":0},{"$f":"'Jan-Jun 2024'!AU17+'Jul-Dez 2024'!AU17+'Jan-Jun 2025'!AU17","v":0},null,"M","ASHST",0,0,0,25,0,0,0,0,0,0,0,{"$f":"'Jan-Jun 2024'!BL17","v":0},{"$f":"'Jan-Jun 2024'!BK17+'Jul-Dez 2024'!BK17+'Jan-Jun 2025'!BK17","v":0},{"$nulls":3},0,0,0,null,0,0,0,0,0,0,0,{"$f":"'Jan-Jun 2024'!CB17","v":0},{"$f":"'Jan-Jun 2024'!CA17+'Jul-Dez 2024'!CA17+'Jan-Jun 2025'!CA17","v":0}]
["20h10 - 21h00",{"$nulls":33},"M","ELE",0,0,0,50,0,0,0,0,0,0,0,{"$f":"'Jan-Jun 2024'!AV18","v":0},{"$f":"'Jan-Jun 2024'!AU18+'Jul-Dez 2024'!AU18+'Jan-Jun 2025'!AU18","v":0},null,"T","DT",0,0,0,25,0,0,0,0,0,0,0,{"$f":"'Jan-Jun 2024'!BL18","v":0},{"$f":"'Jan-Jun 2024'!BK18+'Jul-Dez 2024'!BK18+'Jan-Jun 2025'!BK18","v":0},{"$nulls":3},0,0,0,null,0,0,0,0,0,0,0,{"$f":"'Jan-Jun 2024'!CB18","v":0},{"$f":"'Jan-Jun 2024'!CA18+'Jul-Dez 2024'!CA18+'Jan-Jun 2025'!CA18","v":0}]
["21h20 - 22h10",{"$nulls":33},"M","CP",0,0,0,25,0,0,0,0,0,0,0,{"$f":"'Jan-Jun 2024'!AV19","v":0},{"$f":"'Jan-Jun 2024'!AU19+'Jul-Dez 2024'!AU19+'Jan-Jun 2025'!AU19","v":0},{"$nulls":3},0,0,0,null,0,0,0,0,0,0,0,{"$f":"'Jan-Jun 2024'!BL19","v":0},{"$f":"'Jan-Jun 2024'!BK19+'Jul-Dez 2024'!BK19+'Jan-Jun 2025'!BK19","v":0},{"$nulls":3},0,0,0,null,0,0,0,0,0,0,0,{"$f":"'Jan-Jun 2024'!CB19","v":0},{"$f":"'Jan-Jun 2024'!CA19+'Jul-Dez 2024'!CA19+'Jan-Jun 2025'!CA19","v":0}]
["22h10 - 23h00",{"$nulls":35},0,0,0,null,0,0,0,0,0,0,0,{"$f":"'Jan-Jun 2024'!AV20","v":0},{"$f":"'Jan-Jun 2024'!AU20+'Jul-Dez 2024'!AU20+'Jan-Jun 2025'!AU20","v":0},{"$nulls":3},0,0,0,null,0,0,0,0,0,0,0,{"$f":"'Jan-Jun 2024'!BL20","v":0},{"$f":"'Jan-Jun 2024'!BK20+'Jul-Dez 2024'!BK20+'Jan-Jun 2025'!BK20","v":0},{"$nulls":3},0,0,0,null,0,0,0,0,0,0,0,{"$f":"'Jan-Jun 2024'!CB20","v":0},{"$f":"'Jan-Jun 2024'!CA20+'Jul-Dez 2024'!CA20+'Jan-Jun 2025'!CA20","v":0}]
[{"$nulls":36},0,0,0,null,0,0,0,0,0,0,0,{"$f":"'Jan-Jun 2024'!AV21","v":0},{"$f":"'Jan-Jun 2024'!AU21+'Jul-Dez 2024'!AU21+'Jan-Jun 2025'!AU21","v":0},{"$nulls":3},0,0,0,null,0,0,0,0,0,0,0,{"$f":"'Jan-Jun 2024'!BL21","v":0},{"$f":"'Jan-Jun 2024'!BK21+'Jul-Dez 2024'!BK21+'Jan-Jun 2025'!BK21","v":0},{"$nulls":3},0,0,0,null,0,0,0,0,0,0,0,{"$f":"'Jan-Jun 2024'!CB21","v":0},{"$f":"'Jan-Jun 2024'!CA21+'Jul-Dez 2024'!CA21+'Jan-Jun 2025'!CA21","v":0}]
[{"$f":"A15+DAY(EOMONTH(A15,0))","v":"2025-03-01"},null,{"$f":"IF(C23<>\"\",CHOOSE(WEEKDAY(C23,1),\"Dom.\",\"Seg.\",\"Ter.\",\"Qua.\",\"Qui.\",\"Sex.\",\"Sáb.\"),\"\")","v":"Sáb."},{"$f":"IF(D23<>\"\",CHOOSE(WEEKDAY(D23,1),\"Dom.\",\"Seg.\",\"Ter.\",\"Qua.\",\"Qui.\",\"Sex.\",\"Sáb.\"),\"\")","v":"Dom."},"Seg.","Ter.","Qua.","Qui.","Sex.","Sáb.","Dom.","Seg.","Ter.","Qua.","Qui.","Sex.","Sáb.","Dom.","Seg.","Ter.","Qua.","Qui.","Sex.","Sáb.","Dom.","Seg.","Ter.","Qua.","Qui.","Sex.","Sáb.","Dom.","Seg.",{"$nulls":3},0,0,0,null,0,0,0,0,0,0,0,{"$f":"'Jan-Jun 2024'!AV22","v":0},{"$f":"'Jan-Jun 2024'!AU22+'Jul-Dez 2024'!AU22+'Jan-Jun 2025'!AU22","v":0},null,"M","ICS",0,0,0,25,0,0,0,0,0,0,0,{"$f":"'Jan-Jun 2024'!BL22","v":0},{"$f":"'Jan-Jun 2024'!BK22+'Jul-Dez 2024'!BK22+'Jan-Jun 2025'!BK22","v":0},{"$nulls":3},0,0,0,null,0,0,0,0,0,0,0,{"$f":"'Jan-Jun 2024'!CB22","v":0},{"$f":"'Jan-Jun 2024'!CA22+'Jul-Dez 2024'!CA22+'Jan-Jun 2025'!CA22","v":0}]
[null,null,{"$f":"A22","v":"2025-03-01"},{"$f":"IF(C23=\"\",\"\",IF(DAY(C23)<DAY(EOMONTH(C23,0)),C23+1,\"\"))","v":"2025-03-02"},"2025-03-03","2025-03-04","2025-03-05","2025-03-06","2025-03-07",{"$f":"IF(I23=\"\",\"\",IF(DAY(I23)<DAY(EOMONTH(I23,0)),I23+1,\"\"))","v":"2025-03-08"},{"$f":"IF(J23=\"\",\"\",IF(DAY(J23)<DAY(EOMONTH(J23,0)),J23+1,\"\"))","v":"2025-03-09"},"2025-03-10","2025-03-11","2025-03-12","2025-03-13","2025-03-14",{"$f":"IF(P23=\"\",\"\",IF(DAY(P23)<DAY(EOMONTH(P23,0)),P23+1,\"\"))","v":"2025-03-15"},{"$f":"IF(Q23=\"\",\"\",IF(DAY(Q23)<DAY(EOMONTH(Q23,0)),Q23+1,\"\"))","v":"2025-03-16"},"2025-03-17","2025-03-18","2025-03-19","2025-03-20","2025-03-21",{"$f":"IF(W23=\"\",\"\",IF(DAY(W23)<DAY(EOMONTH(W23,0)),W23+1,\"\"))","v":"2025-03-22"},{"$f":"IF(X23=\"\",\"\",IF(DAY(X23)<DAY(EOMONTH(X23,0)),X23+1,\"\"))","v":"2025-03-23"},"2025-03-24","2025-03-25","2025-03-26","2025-03-27","2025-03-28",{"$f":"IF(AD23=\"\",\"\",IF(DAY(AD23)<DAY(EOMONTH(AD23,0)),AD23+1,\"\"))","v":"2025-03-29"},{"$f":"IF(AE23=\"\",\"\",IF(DAY(AE23)<DAY(EOMONTH(AE23,0)),AE23+1,\"\"))","v":"2025-03-30"},"2025-03-31",null,"M","CH",0,0,0,25,0,0,0,0,0,0,0,{"$f":"'Jan-Jun 2024'!AV23","v":0},{"$f":"'Jan-Jun 2024'!AU23+'Jul-Dez 2024'!AU23+'Jan-Jun 2025'!AU23","v":0},{"$nulls":3},0,0,0,null,0,0,0,0,0,0,0,{"$f":"'Jan-Jun 2024'!BL23","v":0},{"$f":"'Jan-Jun 2024'!BK23+'Jul-Dez 2024'!BK23+'Jan-Jun 2025'!BK23","v":0},{"$nulls":3},0,0,0,null,0,0,0,0,0,0,0,{"$f":"'Jan-Jun 2024'!CB23","v":0},{"$f":"'Jan-Jun 2024'!CA23+'Jul-Dez 2024'!CA23+'Jan-Jun 2025'!CA23","v":0}]
["19h20 - 20h10",{"$nulls":33},"M","CLP",0,0,0,50,0,0,0,0,0,0,0,{"$f":"'Jan-Jun 2024'!AV24","v":0},{"$f":"'Jan-Jun 2024'!AU24+'Jul-Dez 2024'!AU24+'Jan-Jun 2025'!AU24","v":0},{"$nulls":3},0,0,0,null,0,0,0,0,0,0,0,{"$f":"'Jan-Jun 2024'!BL24","v":0},{"$f":"'Jan-Jun 2024'!BK24+'Jul-Dez 2024'!BK24+'Jan-Jun 2025'!BK24","v":0},{"$nulls":3},0,0,0,null,0,0,0,0,0,0,0,{"$f":"'Jan-Jun 2024'!CB24","v":0},{"$f":"'Jan-Jun 2024'!CA24+'Jul-Dez 2024'!CA24+'Jan-Jun 2025'!CA24","v":0}]
["20h10 - 21h00",{"$nulls":4},"Entrudo",{"$nulls":30},0,0,0,null,0,0,0,0,0,0,0,{"$f":"'Jan-Jun 2024'!AV25","v":0},{"$f":"'Jan-Jun 2024'!AU25+'Jul-Dez 2024'!AU25+'Jan-Jun 2025'!AU25","v":0},{"$nulls":3},0,0,0,null,0,0,0,0,0,0,0,{"$f":"'Jan-Jun 2024'!BL25","v":0},{"$f":"'Jan-Jun 2024'!BK25+'Jul-Dez 2024'!BK25+'Jan-Jun 2025'!BK25","v":0},{"$nulls":3},0,0,0,null,0,0,0,0,0,0,0,{"$f":"'Jan-Jun 2024'!CB25","v":0},{"$f":"'Jan-Jun 2024'!CA25+'Jul-Dez 2024'!CA25+'Jan-Jun 2025'!CA25","v":0}]
["21h20 - 22h10",{"$nulls":35},0,0,0,null,0,0,0,0,0,0,0,{"$f":"'Jan-Jun 2024'!AV26","v":0},{"$f":"'Jan-Jun 2024'!AU26+'Jul-Dez 2024'!AU26+'Jan-Jun 2025'!AU26","v":0},{"$nulls":3},0,0,0,null,0,0,0,0,0,0,0,{"$f":"'Jan-Jun 2024'!BL26","v":0},{"$f":"'Jan-Jun 2024'!BK26+'Jul-Dez 2024'!BK26+'Jan-Jun 2025'!BK26","v":0},{"$nulls":3},0,0,0,null,0,0,0,0,0,0,0,{"$f":"'Jan-Jun 2024'!CB26","v":0},{"$f":"'Jan-Jun 2024'!CA26+'Jul-Dez 2024'!CA26+'Jan-Jun 2025'!CA26","v":0}]
["22h10 - 23h00",{"$nulls":35},0,0,0,null,0,0,0,0,0,0,0,{"$f":"'Jan-Jun 2024'!AV27","v":0},{"$f":"'Jan-Jun 2024'!AU27+'Jul-Dez 2024'!AU27+'Jan-Jun 2025'!AU27","v":0},{"$nulls":3},0,0,0,null,0,0,0,0,0,0,0,{"$f":"'Jan-Jun 2024'!BL27","v":0},{"$f":"'Jan-Jun 2024'!BK27+'Jul-Dez 2024'!BK27+'Jan-Jun 2025'!BK27","v":0},{"$nulls":3},0,0,0,null,0,0,0,0,0,0,0,{"$f":"'Jan-Jun 2024'!CB27","v":0},{"$f":"'Jan-Jun 2024'!CA27+'Jul-Dez 2024'!CA27+'Jan-Jun 2025'!CA27","v":0}]
[{"$nulls":34},"M","DCM",0,0,0,50,0,0,0,0,0,0,0,{"$f":"'Jan-Jun 2024'!AV28","v":0},{"$f":"'Jan-Jun 2024'!AU28+'Jul-Dez 2024'!AU28+'Jan-Jun 2025'!AU28","v":0},{"$nulls":3},0,0,0,null,0,0,0,0,0,0,0,{"$f":"'Jan-Jun 2024'!BL28","v":0},{"$f":"'Jan-Jun 2024'!BK28+'Jul-Dez 2024'!BK28+'Jan-Jun 2025'!BK28","v":0},{"$nulls":3},0,0,0,null,0,0,0,0,0,0,0,{"$f":"'Jan-Jun 2024'!CB28","v":0},{"$f":"'Jan-Jun 2024'!CA28+'Jul-Dez 2024'!CA28+'Jan-Jun 2025'!CA28","v":0}]
[{"$f":"A22+DAY(EOMONTH(A22,0))","v":"2025-04-01"},null,{"$f":"IF(C30<>\"\",CHOOSE(WEEKDAY(C30,1),\"Dom.\",\"Seg.\",\"Ter.\",\"Qua.\",\"Qui.\",\"Sex.\",\"Sáb.\"),\"\")","v":"Ter."},{"$f":"IF(D30<>\"\",CHOOSE(WEEKDAY(D30,1),\"Dom.\",\"Seg.\",\"Ter.\",\"Qua.\",\"Qui.\",\"Sex.\",\"Sáb.\"),\"\")","v":"Qua."},"Qui.","Sex.","Sáb.","Dom.","Seg.","Ter.","Qua.","Qui.","Sex.","Sáb.","Dom.","Seg.","Ter.","Qua.","Qui.","Sex.","Sáb.","Dom.","Seg.","Ter.","Qua.","Qui.","Sex.","Sáb.","Dom.","Seg.","Ter.","Qua.","",null,"M","CM",0,0,0,50,0,0,0,0,0,0,0,{"$f":"'Jan-Jun 2024'!AV29","v":0},{"$f":"'Jan-Jun 2024'!AU29+'Jul-Dez 2024'!AU29+'Jan-Jun 2025'!AU29","v":0},{"$nulls":3},0,0,0,null,0,0,0,0,0,0,0,{"$f":"'Jan-Jun 2024'!BL29","v":0},{"$f":"'Jan-Jun 2024'!BK29+'Jul-Dez 2024'!BK29+'Jan-Jun 2025'!BK29","v":0},{"$nulls":3},0,0,0,null,0,0,0,0,0,0,0,{"$f":"'Jan-Jun 2024'!CB29","v":0},{"$f":"'Jan-Jun 2024'!CA29+'Jul-Dez 2024'!CA29+'Jan-Jun 2025'!CA29","v":0}]
[null,null,{"$f":"A29","v":"2025-04-01"},{"$f":"IF(C30=\"\",\"\",IF(DAY(C30)<DAY(EOMONTH(C30,0)),C30+1,\"\"))","v":"2025-04-02"},"2025-04-03","2025-04-04","2025-04-05","2025-04-06","2025-04-07","2025-04-08","2025-04-09","2025-04-10","2025-04-11","2025-04-12",{"$f":"IF(N30=\"\",\"\",IF(DAY(N30)<DAY(EOMONTH(N30,0)),N30+1,\"\"))","v":"2025-04-13"},{"$f":"IF(O30=\"\",\"\",IF(DAY(O30)<DAY(EOMONTH(O30,0)),O30+1,\"\"))","v":"2025-04-14"},"2025-04-15","2025-04-16","2025-04-17","2025-04-18","2025-04-19",{"$f":"IF(U30=\"\",\"\",IF(DAY(U30)<DAY(EOMONTH(U30,0)),U30+1,\"\"))","v":"2025-04-20"},{"$f":"IF(V30=\"\",\"\",IF(DAY(V30)<DAY(EOMONTH(V30,0)),V30+1,\"\"))","v":"2025-04-21"},"2025-04-22","2025-04-23","2025-04-24","2025-04-25","2025-04-26",{"$f":"IF(AB30=\"\",\"\",IF(DAY(AB30)<DAY(EOMONTH(AB30,0)),AB30+1,\"\"))","v":"2025-04-27"},{"$f":"IF(AC30=\"\",\"\",IF(DAY(AC30)<DAY(EOMONTH(AC30,0)),AC30+1,\"\"))","v":"2025-04-28"},"2025-04-29","2025-04-30","",null,"M","SD",0,0,0,50,0,0,0,0,0,0,0,{"$f":"'Jan-Jun 2024'!AV30","v":0},{"$f":"'Jan-Jun 2024'!AU30+'Jul-Dez 2024'!AU30+'Jan-Jun 2025'!AU30","v":0},{"$nulls":3},0,0,0,null,0,0,0,0,0,0,0,{"$f":"'Jan-Jun 2024'!BL30","v":0},{"$f":"'Jan-Jun 2024'!BK30+'Jul-Dez 2024'!BK30+'Jan-Jun 2025'!BK30","v":0},{"$nulls":3},0,0,0,null,0,0,0,0,0,0,0,{"$f":"'Jan-Jun 2024'!CB30","v":0},{"$f":"'Jan-Jun 2024'!CA30+'Jul-Dez 2024'!CA30+'Jan-Jun 2025'!CA30","v":0}]
["19h20 - 20h10",{"$nulls":18},"Sexta",{"$nulls":14},"M","OEM",0,0,0,50,0,0,0,0,0,0,0,{"$f":"'Jan-Jun 2024'!AV31","v":0},{"$f":"'Jan-Jun 2024'!AU31+'Jul-Dez 2024'!AU31+'Jan-Jun 2025'!AU31","v":0},{"$nulls":3},0,0,0,null,0,0,0,0,0,0,0,{"$f":"'Jan-Jun 2024'!BL31","v":0},{"$f":"'Jan-Jun 2024'!BK31+'Jul-Dez 2024'!BK31+'Jan-Jun 2025'!BK31","v":0},{"$nulls":3},0,0,0,null,0,0,0,0,0,0,0,{"$f":"'Jan-Jun 2024'!CB31","v":0},{"$f":"'Jan-Jun 2024'!CA31+'Jul-Dez 2024'!CA31+'Jan-Jun 2025'!CA31","v":0}]
["20h10 - 21h00",{"$nulls":18},"Feira",null,"Pascoa",{"$nulls":4},"Liberd.",{"$nulls":7},"M","IP",0,0,0,50,0,0,0,0,0,0,0,{"$f":"'Jan-Jun 2024'!AV32","v":0},{"$f":"'Jan-Jun 2024'!AU32+'Jul-Dez 2024'!AU32+'Jan-Jun 2025'!AU32","v":0},null,"M","EG",0,0,0,50,0,0,0,0,0,0,0,{"$f":"'Jan-Jun 2024'!BL32","v":0},{"$f":"'Jan-Jun 2024'!BK32+'Jul-Dez 2024'!BK32+'Jan-Jun 2025'!BK32","v":0},{"$nulls":3},0,0,0,null,0,0,0,0,0,0,0,{"$f":"'Jan-Jun 2024'!CB32","v":0},{"$f":"'Jan-Jun 2024'!CA32+'Jul-Dez 2024'!CA32+'Jan-Jun 2025'!CA32","v":0}]
["21h20 - 22h10",{"$nulls":18},"Santa",{"$nulls":16},0,0,0,null,0,0,0,0,0,0,0,{"$f":"'Jan-Jun 2024'!AV33","v":0},{"$f":"'Jan-Jun 2024'!AU33+'Jul-Dez 2024'!AU33+'Jan-Jun 2025'!AU33","v":0},{"$nulls":3},0,0,0,null,0,0,0,0,0,0,0,{"$f":"'Jan-Jun 2024'!BL33","v":0},{"$f":"'Jan-Jun 2024'!BK33+'Jul-Dez 2024'!BK33+'Jan-Jun 2025'!BK33","v":0},{"$nulls":3},0,0,0,null,0,0,0,0,0,0,0,{"$f":"'Jan-Jun 2024'!CB33","v":0},{"$f":"'Jan-Jun 2024'!CA33+'Jul-Dez 2024'!CA33+'Jan-Jun 2025'!CA33","v":0}]
["22h10 - 23h00",{"$nulls":33},"M","ELP",0,0,0,50,0,0,0,0,0,0,0,{"$f":"'Jan-Jun 2024'!AV34","v":0},{"$f":"'Jan-Jun 2024'!AU34+'Jul-Dez 2024'!AU34+'Jan-Jun 2025'!AU34","v":0},null,"M","IGE",0,0,0,60,0,0,0,0,0,0,0,{"$f":"'Jan-Jun 2024'!BL34","v":0},{"$f":"'Jan-Jun 2024'!BK34+'Jul-Dez 2024'!BK34+'Jan-Jun 2025'!BK34","v":0},{"$nulls":3},0,0,0,null,0,0,0,0,0,0,0,{"$f":"'Jan-Jun 2024'!CB34","v":0},{"$f":"'Jan-Jun 2024'!CA34+'Jul-Dez 2024'!CA34+'Jan-Jun 2025'!CA34","v":0}]
[{"$nulls":36},0,0,0,null,0,0,0,0,0,0,0,{"$f":"'Jan-Jun 2024'!AV35","v":0},{"$f":"'Jan-Jun 2024'!AU35+'Jul-Dez 2024'!AU35+'Jan-Jun 2025'!AU35","v":0},{"$nulls":3},0,0,0,null,0,0,0,0,0,0,0,{"$f":"'Jan-Jun 2024'!BL35","v":0},{"$f":"'Jan-Jun 2024'!BK35+'Jul-Dez 2024'!BK35+'Jan-Jun 2025'!BK35","v":0},{"$nulls":3},0,0,0,null,0,0,0,0,0,0,0,{"$f":"'Jan-Jun 2024'!CB35","v":0},{"$f":"'Jan-Jun 2024'!CA35+'Jul-Dez 2024'!CA35+'Jan-Jun 2025'!CA35","v":0}]
[{"$f":"A29+DAY(EOMONTH(A29,0))","v":"2025-05-01"},null,{"$f":"IF(C37<>\"\",CHOOSE(WEEKDAY(C37,1),\"Dom.\",\"Seg.\",\"Ter.\",\"Qua.\",\"Qui.\",\"Sex.\",\"Sáb.\"),\"\")","v":"Qui."},{"$f":"IF(D37<>\"\",CHOOSE(WEEKDAY(D37,1),\"Dom.\",\"Seg.\",\"Ter.\",\"Qua.\",\"Qui.\",\"Sex.\",\"Sáb.\"),\"\")","v":"Sex."},"Sáb.","Dom.","Seg.","Ter.","Qua.","Qui.","Sex.","Sáb.","Dom.","Seg.","Ter.","Qua.","Qui.","Sex.","Sáb.","Dom.","Seg.","Ter.","Qua.","Qui.","Sex.","Sáb.","Dom.","Seg.","Ter.","Qua.","Qui.","Sex.","Sáb.",{"$nulls":3},0,0,0,null,0,0,0,0,0,0,0,{"$f":"'Jan-Jun 2024'!AV36","v":0},{"$f":"'Jan-Jun 2024'!AU36+'Jul-Dez 2024'!AU36+'Jan-Jun 2025'!AU36","v":0},{"$nulls":3},0,0,0,null,0,0,0,0,0,0,0,{"$f":"'Jan-Jun 2024'!BL36","v":0},{"$f":"'Jan-Jun 2024'!BK36+'Jul-Dez 2024'!BK36+'Jan-Jun 2025'!BK36","v":0},{"$nulls":3},0,0,0,null,0,0,0,0,0,0,0,{"$f":"'Jan-Jun 2024'!CB36","v":0},{"$f":"'Jan-Jun 2024'!CA36+'Jul-Dez 2024'!CA36+'Jan-Jun 2025'!CA36","v":0}]
[null,null,{"$f":"A36","v":"2025-05-01"},{"$f":"IF(C37=\"\",\"\",IF(DAY(C37)<DAY(EOMONTH(C37,0)),C37+1,\"\"))","v":"2025-05-02"},{"$f":"IF(D37=\"\",\"\",IF(DAY(D37)<DAY(EOMONTH(D37,0)),D37+1,\"\"))","v":"2025-05-03"},{"$f":"IF(E37=\"\",\"\",IF(DAY(E37)<DAY(EOMONTH(E37,0)),E37+1,\"\"))","v":"2025-05-04"},"2025-05-05","2025-05-06","2025-05-07","2025-05-08","2025-05-09",{"$f":"IF(K37=\"\",\"\",IF(DAY(K37)<DAY(EOMONTH(K37,0)),K37+1,\"\"))","v":"2025-05-10"},{"$f":"IF(L37=\"\",\"\",IF(DAY(L37)<DAY(EOMONTH(L37,0)),L37+1,\"\"))","v":"2025-05-11"},"2025-05-12","2025-05-13","2025-05-14","2025-05-15","2025-05-16",{"$f":"IF(R37=\"\",\"\",IF(DAY(R37)<DAY(EOMONTH(R37,0)),R37+1,\"\"))","v":"2025-05-17"},{"$f":"IF(S37=\"\",\"\",IF(DAY(S37)<DAY(EOMONTH(S37,0)),S37+1,\"\"))","v":"2025-05-18"},"2025-05-19","2025-05-20","2025-05-21","2025-05-22","2025-05-23",{"$f":"IF(Y37=\"\",\"\",IF(DAY(Y37)<DAY(EOMONTH(Y37,0)),Y37+1,\"\"))","v":"2025-05-24"},{"$f":"IF(Z37=\"\",\"\",IF(DAY(Z37)<DAY(EOMONTH(Z37,0)),Z37+1,\"\"))","v":"2025-05-25"},"2025-05-26","2025-05-27","2025-05-28","2025-05-29",{"$f":"IF(AE37=\"\",\"\",IF(DAY(AE37)<DAY(EOMONTH(AE37,0)),AE37+1,\"\"))","v":"2025-05-30"},"2025-05-31",{"$nulls":3},0,0,0,null,0,0,0,0,0,0,0,{"$f":"'Jan-Jun 2024'!AV37","v":0},{"$f":"'Jan-Jun 2024'!AU37+'Jul-Dez 2024'!AU37+'Jan-Jun 2025'!AU37","v":0},{"$nulls":3},0,0,0,null,0,0,0,0,0,0,0,{"$f":"'Jan-Jun 2024'!BL37","v":0},{"$f":"'Jan-Jun 2024'!BK37+'Jul-Dez 2024'!BK37+'Jan-Jun 2025'!BK37","v":0},{"$nulls":3},0,0,0,null,0,0,0,0,0,0,0,{"$f":"'Jan-Jun 2024'!CB37","v":0},{"$f":"'Jan-Jun 2024'!CA37+'Jul-Dez 2024'!CA37+'Jan-Jun 2025'!CA37","v":0}]
["19h20 - 20h10",{"$nulls":33},"M","MM",0,0,0,50,0,0,0,0,0,0,0,{"$f":"'Jan-Jun 2024'!AV38","v":0},{"$f":"'Jan-Jun 2024'!AU38+'Jul-Dez 2024'!AU38+'Jan-Jun 2025'!AU38","v":0},{"$nulls":3},0,0,0,null,0,0,0,0,0,0,0,{"$f":"'Jan-Jun 2024'!BL38","v":0},{"$f":"'Jan-Jun 2024'!BK38+'Jul-Dez 2024'!BK38+'Jan-Jun 2025'!BK38","v":0},{"$nulls":3},0,0,0,null,0,0,0,0,0,0,0,{"$f":"'Jan-Jun 2024'!CB38","v":0},{"$f":"'Jan-Jun 2024'!CA38+'Jul-Dez 2024'!CA38+'Jan-Jun 2025'!CA38","v":0}]
["20h10 - 21h00",null,"Trab.",{"$nulls":31},"M","ROB",0,0,0,50,0,0,0,0,0,0,0,{"$f":"'Jan-Jun 2024'!AV39","v":0},{"$f":"'Jan-Jun 2024'!AU39+'Jul-Dez 2024'!AU39+'Jan-Jun 2025'!AU39","v":0},{"$nulls":3},0,0,0,null,0,0,0,0,0,0,0,{"$f":"'Jan-Jun 2024'!BL39","v":0},{"$f":"'Jan-Jun 2024'!BK39+'Jul-Dez 2024'!BK39+'Jan-Jun 2025'!BK39","v":0},{"$nulls":3},0,0,0,null,0,0,0,0,0,0,0,{"$f":"'Jan-Jun 2024'!CB39","v":0},{"$f":"'Jan-Jun 2024'!CA39+'Jul-Dez 2024'!CA39+'Jan-Jun 2025'!CA39","v":0}]
["21h20 - 22h10",{"$nulls":35},0,0,0,null,0,0,0,0,0,0,0,{"$f":"'Jan-Jun 2024'!AV40","v":0},{"$f":"'Jan-Jun 2024'!AU40+'Jul-Dez 2024'!AU40+'Jan-Jun 2025'!AU40","v":0},{"$nulls":3},0,0,0,null,0,0,0,0,0,0,0,{"$f":"'Jan-Jun 2024'!BL40","v":0},{"$f":"'Jan-Jun 2024'!BK40+'Jul-Dez 2024'!BK40+'Jan-Jun 2025'!BK40","v":0},{"$nulls":3},0,0,0,null,0,0,0,0,0,0,0,{"$f":"'Jan-Jun 2024'!CB40","v":0},{"$f":"'Jan-Jun 2024'!CA40+'Jul-Dez 2024'!CA40+'Jan-Jun 2025'!CA40","v":0}]
["22h10 - 23h00",{"$nulls":35},0,0,0,null,0,0,0,0,0,0,0,{"$f":"'Jan-Jun 2024'!AV41","v":0},{"$f":"'Jan-Jun 2024'!AU41+'Jul-Dez 2024'!AU41+'Jan-Jun 2025'!AU41","v":0},{"$nulls":3},0,0,0,null,0,0,0,0,0,0,0,{"$f":"'Jan-Jun 2024'!BL41","v":0},{"$f":"'Jan-Jun 2024'!BK41+'Jul-Dez 2024'!BK41+'Jan-Jun 2025'!BK41","v":0},{"$nulls":3},0,0,0,null,0,0,0,0,0,0,0,{"$f":"'Jan-Jun 2024'!CB41","v":0},{"$f":"'Jan-Jun 2024'!CA41+'Jul-Dez 2024'!CA41+'Jan-Jun 2025'!CA41","v":0}]
[{"$nulls":36},0,0,0,null,0,0,0,0,0,0,0,{"$f":"'Jan-Jun 2024'!AV42","v":0},{"$f":"'Jan-Jun 2024'!AU42+'Jul-Dez 2024'!AU42+'Jan-Jun 2025'!AU42","v":0},{"$nulls":3},0,0,0,null,0,0,0,0,0,0,0,{"$f":"'Jan-Jun 2024'!BL42","v":0},{"$f":"'Jan-Jun 2024'!BK42+'Jul-Dez 2024'!BK42+'Jan-Jun 2025'!BK42","v":0},{"$nulls":3},0,0,0,null,0,0,0,0,0,0,0,{"$f":"'Jan-Jun 2024'!CB42","v":0},{"$f":"'Jan-Jun 2024'!CA42+'Jul-Dez 2024'!CA42+'Jan-Jun 2025'!CA42","v":0}]
[{"$f":"A36+DAY(EOMONTH(A36,0))","v":"2025-06-01"},null,{"$f":"IF(C44<>\"\",CHOOSE(WEEKDAY(C44,1),\"Dom.\",\"Seg.\",\"Ter.\",\"Qua.\",\"Qui.\",\"Sex.\",\"Sáb.\"),\"\")","v":"Dom."},{"$f":"IF(D44<>\"\",CHOOSE(WEEKDAY(D44,1),\"Dom.\",\"Seg.\",\"Ter.\",\"Qua.\",\"Qui.\",\"Sex.\",\"Sáb.\"),\"\")","v":"Seg."},"Ter.","Qua.","Qui.","Sex.","Sáb.","Dom.","Seg.","Ter.","Qua.","Qui.","Sex.","Sáb.","Dom.","Seg.","Ter.","Qua.","Qui.","Sex.","Sáb.","Dom.","Seg.","Ter.","Qua.","Qui.","Sex.","Sáb.","Dom.","Seg.","",null,"T","MET",0,0,0,50,0,0,0,0,0,0,0,{"$f":"'Jan-Jun 2024'!AV43","v":0},{"$f":"'Jan-Jun 2024'!AU43+'Jul-Dez 2024'!AU43+'Jan-Jun 2025'!AU43","v":0},{"$nulls":3},0,0,0,null,0,0,0,0,0,0,0,{"$f":"'Jan-Jun 2024'!BL43","v":0},{"$f":"'Jan-Jun 2024'!BK43+'Jul-Dez 2024'!BK43+'Jan-Jun 2025'!BK43","v":0},{"$nulls":3},0,0,0,null,0,0,0,0,0,0,0,{"$f":"'Jan-Jun 2024'!CB43","v":0},{"$f":"'Jan-Jun 2024'!CA43+'Jul-Dez 2024'!CA43+'Jan-Jun 2025'!CA43","v":0}]
[null,null,{"$f":"A43","v":"2025-06-01"},{"$f":"IF(C44=\"\",\"\",IF(DAY(C44)<DAY(EOMONTH(C44,0)),C44+1,\"\"))","v":"2025-06-02"},"2025-06-03","2025-06-04","2025-06-05","2025-06-06","2025-06-07",{"$f":"IF(I44=\"\",\"\",IF(DAY(I44)<DAY(EOMONTH(I44,0)),I44+1,\"\"))","v":"2025-06-08"},{"$f":"IF(J44=\"\",\"\",IF(DAY(J44)<DAY(EOMONTH(J44,0)),J44+1,\"\"))","v":"2025-06-09"},"2025-06-10","2025-06-11","2025-06-12","2025-06-13","2025-06-14",{"$f":"IF(P44=\"\",\"\",IF(DAY(P44)<DAY(EOMONTH(P44,0)),P44+1,\"\"))","v":"2025-06-15"},{"$f":"IF(Q44=\"\",\"\",IF(DAY(Q44)<DAY(EOMONTH(Q44,0)),Q44+1,\"\"))","v":"2025-06-16"},"2025-06-17","2025-06-18","2025-06-19","2025-06-20","2025-06-21","2025-06-22","2025-06-23","2025-06-24","2025-06-25","2025-06-26","2025-06-27","2025-06-28","2025-06-29","2025-06-30","",null,"P","MET1",0,0,0,26,0,0,0,0,0,0,0,{"$f":"'Jan-Jun 2024'!AV44","v":0},{"$f":"'Jan-Jun 2024'!AU44+'Jul-Dez 2024'!AU44+'Jan-Jun 2025'!AU44","v":0},{"$nulls":3},0,0,0,null,0,0,0,0,0,0,0,{"$f":"'Jan-Jun 2024'!BL44","v":0},{"$f":"'Jan-Jun 2024'!BK44+'Jul-Dez 2024'!BK44+'Jan-Jun 2025'!BK44","v":0},{"$nulls":3},0,0,0,null,0,0,0,0,0,0,0,{"$f":"'Jan-Jun 2024'!CB44","v":0},{"$f":"'Jan-Jun 2024'!CA44+'Jul-Dez 2024'!CA44+'Jan-Jun 2025'!CA44","v":0}]
["19h20 - 20h10",{"$nulls":10},"Dia",{"$nulls":8},"Corpo",{"$nulls":13},"P","MET2",0,0,0,24,0,0,0,0,0,0,0,{"$f":"'Jan-Jun 2024'!AV45","v":0},{"$f":"'Jan-Jun 2024'!AU45+'Jul-Dez 2024'!AU45+'Jan-Jun 2025'!AU45","v":0},{"$nulls":3},0,0,0,null,0,0,0,0,0,0,0,{"$f":"'Jan-Jun 2024'!BL45","v":0},{"$f":"'Jan-Jun 2024'!BK45+'Jul-Dez 2024'!BK45+'Jan-Jun 2025'!BK45","v":0},{"$nulls":3},0,0,0,null,0,0,0,0,0,0,0,{"$f":"'Jan-Jun 2024'!CB45","v":0},{"$f":"'Jan-Jun 2024'!CA45+'Jul-Dez 2024'!CA45+'Jan-Jun 2025'!CA45","v":0}]
["20h10 - 21h00",{"$nulls":10},"de",{"$nulls":8},"de",{"$nulls":13},"P","MET3",0,0,0,0,0,0,0,0,0,0,0,{"$f":"'Jan-Jun 2024'!AV46","v":0},{"$f":"'Jan-Jun 2024'!AU46+'Jul-Dez 2024'!AU46+'Jan-Jun 2025'!AU46","v":0},{"$nulls":3},0,0,0,null,0,0,0,0,0,0,0,{"$f":"'Jan-Jun 2024'!BL46","v":0},{"$f":"'Jan-Jun 2024'!BK46+'Jul-Dez 2024'!BK46+'Jan-Jun 2025'!BK46","v":0},{"$nulls":3},0,0,{"$f":"IF(BO46=$DI$8,BR46,IF(BO46=$DI$9,BS47+BR46,IF(BO46=$DI$10,IF(BO47=$DI$10,BS47+BR46,BR46),)))","v":0},null,0,0,0,0,0,0,0,{"$f":"'Jan-Jun 2024'!CB46","v":0},{"$f":"'Jan-Jun 2024'!CA46+'Jul-Dez 2024'!CA46+'Jan-Jun 2025'!CA46","v":0}]
["21h20 - 22h10",{"$nulls":10},"Port.",{"$nulls":8},"Deus",{"$nulls":15},0,0,0,null,0,0,0,0,0,0,0,{"$f":"'Jan-Jun 2024'!AV47","v":0},{"$f":"'Jan-Jun 2024'!AU47+'Jul-Dez 2024'!AU47+'Jan-Jun 2025'!AU47","v":0},{"$nulls":3},0,0,0,null,0,0,0,0,0,0,0,{"$f":"'Jan-Jun 2024'!BL47","v":0},{"$f":"'Jan-Jun 2024'!BK47+'Jul-Dez 2024'!BK47+'Jan-Jun 2025'!BK47","v":0},{"$nulls":3},0,0,0,null,0,0,0,0,0,0,0,{"$f":"'Jan-Jun 2024'!CB47","v":0},{"$f":"'Jan-Jun 2024'!CA47+'Jul-Dez 2024'!CA47+'Jan-Jun 2025'!CA47","v":0}]
["22h10 - 23h00",{"$nulls":35},0,0,0,null,0,0,0,0,0,0,0,{"$f":"'Jan-Jun 2024'!AV48","v":0},{"$f":"'Jan-Jun 2024'!AU48+'Jul-Dez 2024'!AU48+'Jan-Jun 2025'!AU48","v":0},{"$nulls":3},0,0,0,null,0,0,0,0,0,0,0,{"$f":"'Jan-Jun 2024'!BL48","v":0},{"$f":"'Jan-Jun 2024'!BK48+'Jul-Dez 2024'!BK48+'Jan-Jun 2025'!BK48","v":0},{"$nulls":3},0,0,0,null,0,0,0,0,0,0,0,{"$f":"'Jan-Jun 2024'!CB48","v":0},{"$f":"'Jan-Jun 2024'!CA48+'Jul-Dez 2024'!CA48+'Jan-Jun 2025'!CA48","v":0}]
[null,"UFCD","Módulo",{"$nulls":6},"Cód.","H","Formador",null,null,"Ini.","Fim",null,"Componente",null,null,"Módulo",{"$nulls":6},"H","Formador",null,null,"Ini.","Fim",null,"M","CNC",0,0,0,50,0,0,0,0,0,0,0,{"$f":"'Jan-Jun 2024'!AV49","v":0},{"$f":"'Jan-Jun 2024'!AU49+'Jul-Dez 2024'!AU49+'Jan-Jun 2025'!AU49","v":0},{"$nulls":3},0,0,0,null,0,0,0,0,0,0,0,{"$f":"'Jan-Jun 2024'!BL49","v":0},{"$f":"'Jan-Jun 2024'!BK49+'Jul-Dez 2024'!BK49+'Jan-Jun 2025'!BK49","v":0},{"$nulls":3},0,0,0,null,0,0,0,0,0,0,0,{"$f":"'Jan-Jun 2024'!CB49","v":0},{"$f":"'Jan-Jun 2024'!CA49+'Jul-Dez 2024'!CA49+'Jan-Jun 2025'!CA49","v":0}]
["Formação Geral e Científica\n",5146,"IGO","Introdução à Gestão das Organizações",{"$nulls":5},"B153",25,"Filipa Norte",{"$nulls":5},"Formação Tecnologica",6407,"PFL","Processos de Fundição / Ligação",{"$nulls":5},"D333",25,"Pedro Santos",{"$nulls":5},"M","CAM",0,0,0,50,0,0,0,0,0,0,0,{"$f":"'Jan-Jun 2024'!AV50","v":0},{"$f":"'Jan-Jun 2024'!AU50+'Jul-Dez 2024'!AU50+'Jan-Jun 2025'!AU50","v":0},{"$nulls":3},0,0,0,null,0,0,0,0,0,0,0,{"$f":"'Jan-Jun 2024'!BL50","v":0},{"$f":"'Jan-Jun 2024'!BK50+'Jul-Dez 2024'!BK50+'Jan-Jun 2025'!BK50","v":0},{"$nulls":3},0,0,0,null,0,0,0,0,0,0,0,{"$f":"'Jan-Jun 2024'!CB50","v":0},{"$f":"'Jan-Jun 2024'!CA50+'Jul-Dez 2024'!CA50+'Jan-Jun 2025'!CA50","v":0}]
[null,5152,"GMQ","Gestão e Motivação para a Qualidade",{"$nulls":5},"B155",25,"Luís Ferreira",{"$nulls":6},6408,"PCC","Processos de Conformação / Corte",{"$nulls":5},"D334",25,"Pedro Santos",{"$nulls":5},"M","PAC",0,0,0,50,0,0,0,0,0,0,0,{"$f":"'Jan-Jun 2024'!AV51","v":0},{"$f":"'Jan-Jun 2024'!AU51+'Jul-Dez 2024'!AU51+'Jan-Jun 2025'!AU51","v":0},{"$nulls":3},0,0,0,null,0,0,0,0,0,0,0,{"$f":"'Jan-Jun 2024'!BL51","v":0},{"$f":"'Jan-Jun 2024'!BK51+'Jul-Dez 2024'!BK51+'Jan-Jun 2025'!BK51","v":0},{"$nulls":3},0,0,0,null,0,0,0,0,0,0,0,{"$f":"'Jan-Jun 2024'!CB51","v":0},{"$f":"'Jan-Jun 2024'!CA51+'Jul-Dez 2024'!CA51+'Jan-Jun 2025'!CA51","v":0}]
[null,5149,"SGQ","Sistama de Gestão da Qualidade ISO 9001",{"$nulls":5},"F369",25,"Luís Ferreira",{"$nulls":6},6409,"PAA","Processos por Arranque de Apara",{"$nulls":5},"C588",25,"Miguel Franco",{"$nulls":7},0,0,0,null,0,0,0,0,0,0,0,{"$f":"'Jan-Jun 2024'!AV52","v":0},{"$f":"'Jan-Jun 2024'!AU52+'Jul-Dez 2024'!AU52+'Jan-Jun 2025'!AU52","v":0},{"$nulls":3},0,0,0,null,0,0,0,0,0,0,0,{"$f":"'Jan-Jun 2024'!BL52","v":0},{"$f":"'Jan-Jun 2024'!BK52+'Jul-Dez 2024'!BK52+'Jan-Jun 2025'!BK52","v":0},{"$nulls":3},0,0,0,null,0,0,0,0,0,0,0,{"$f":"'Jan-Jun 2024'!CB52","v":0},{"$f":"'Jan-Jun 2024'!CA52+'Jul-Dez 2024'!CA52+'Jan-Jun 2025'!CA52","v":0}]
[null,349,"ASHST","Ambiente, Segurança, Higiene e Saúde no Trabalho",{"$nulls":5},"F423",25,"António Maltez",{"$nulls":6},6410,"IME","Instalação de Máquinas Elétricas",{"$nulls":5},"K252",50,"Emanuel Serrano",{"$nulls":7},0,0,0,null,0,0,0,0,0,0,0,{"$f":"'Jan-Jun 2024'!AV53","v":0},{"$f":"'Jan-Jun 2024'!AU53+'Jul-Dez 2024'!AU53+'Jan-Jun 2025'!AU53","v":0},{"$nulls":3},0,0,0,null,0,0,0,0,0,0,0,{"$f":"'Jan-Jun 2024'!BL53","v":0},{"$f":"'Jan-Jun 2024'!BK53+'Jul-Dez 2024'!BK53+'Jan-Jun 2025'!BK53","v":0},{"$nulls":3},0,0,0,null,0,0,0,0,0,0,0,{"$f":"'Jan-Jun 2024'!CB53","v":0},{"$f":"'Jan-Jun 2024'!CA53+'Jul-Dez 2024'!CA53+'Jan-Jun 2025'!CA53","v":0}]
[null,5653,"DT","Direito do Trabalho",{"$nulls":5},"B154",25,"Natasha Esteves",{"$nulls":6},6411,"ELE","Eletrónica",{"$nulls":5},"K253",50,"Marco Martinho",{"$nulls":7},0,0,0,null,0,0,0,0,0,0,0,{"$f":"'Jan-Jun 2024'!AV54","v":0},{"$f":"'Jan-Jun 2024'!AU54+'Jul-Dez 2024'!AU54+'Jan-Jun 2025'!AU54","v":0},{"$nulls":3},0,0,0,null,0,0,0,0,0,0,0,{"$f":"'Jan-Jun 2024'!BL54","v":0},{"$f":"'Jan-Jun 2024'!BK54+'Jul-Dez 2024'!BK54+'Jan-Jun 2025'!BK54","v":0},{"$nulls":3},0,0,0,null,0,0,0,0,0,0,0,{"$f":"'Jan-Jun 2024'!CB54","v":0},{"$f":"'Jan-Jun 2024'!CA54+'Jul-Dez 2024'!CA54+'Jan-Jun 2025'!CA54","v":0}]
[null,5768,"ICS","Inglês em Contexto Socioprofissional",{"$nulls":5},"L046",25,"Helena Abelho",{"$nulls":6},6412,"CP","Circuitos Pneumáticos",{"$nulls":5},"E329",25,"Vítor Caetano",{"$nulls":7},0,0,0,null,0,0,0,0,0,0,0,{"$f":"'Jan-Jun 2024'!AV55","v":0},{"$f":"'Jan-Jun 2024'!AU55+'Jul-Dez 2024'!AU55+'Jan-Jun 2025'!AU55","v":0},{"$nulls":3},0,0,0,null,0,0,0,0,0,0,0,{"$f":"'Jan-Jun 2024'!BL55","v":0},{"$f":"'Jan-Jun 2024'!BK55+'Jul-Dez 2024'!BK55+'Jan-Jun 2025'!BK55","v":0},{"$nulls":3},0,0,0,null,0,0,0,0,0,0,0,{"$f":"'Jan-Jun 2024'!CB55","v":0},{"$f":"'Jan-Jun 2024'!CA55+'Jul-Dez 2024'!CA55+'Jan-Jun 2025'!CA55","v":0}]
[{"$nulls":18},6413,"CH","Circuitos Óleo-Hidráulicos",{"$nulls":5},"E330",25,"Vítor Caetano",{"$nulls":7},0,0,0,null,0,0,0,0,0,0,0,{"$f":"'Jan-Jun 2024'!AV56","v":0},{"$f":"'Jan-Jun 2024'!AU56+'Jul-Dez 2024'!AU56+'Jan-Jun 2025'!AU56","v":0},{"$nulls":3},0,0,0,null,0,0,0,0,0,0,0,{"$f":"'Jan-Jun 2024'!BL56","v":0},{"$f":"'Jan-Jun 2024'!BK56+'Jul-Dez 2024'!BK56+'Jan-Jun 2025'!BK56","v":0},{"$nulls":3},0,0,0,null,0,0,0,0,0,0,0,{"$f":"'Jan-Jun 2024'!CB56","v":0},{"$f":"'Jan-Jun 2024'!CA56+'Jul-Dez 2024'!CA56+'Jan-Jun 2025'!CA56","v":0}]
[{"$nulls":18},6414,"CLP","Controladores Lógicos Programáveis",{"$nulls":5},"C589",50,"Rafael Matos",{"$nulls":7},0,0,0,null,0,0,0,0,0,0,0,{"$f":"'Jan-Jun 2024'!AV57","v":0},{"$f":"'Jan-Jun 2024'!AU57+'Jul-Dez 2024'!AU57+'Jan-Jun 2025'!AU57","v":0},{"$nulls":3},0,0,0,null,0,0,0,0,0,0,0,{"$f":"'Jan-Jun 2024'!BL57","v":0},{"$f":"'Jan-Jun 2024'!BK57+'Jul-Dez 2024'!BK57+'Jan-Jun 2025'!BK57","v":0},{"$nulls":3},0,0,0,null,0,0,0,0,0,0,0,{"$f":"'Jan-Jun 2024'!CB57","v":0},{"$f":"'Jan-Jun 2024'!CA57+'Jul-Dez 2024'!CA57+'Jan-Jun 2025'!CA57","v":0}]
[{"$nulls":18},6415,"DCM","Desenho de Construções Mecânicas",{"$nulls":5},"A438",50,"Luís Carvalho",{"$nulls":7},0,0,0,null,0,0,0,0,0,0,0,{"$f":"'Jan-Jun 2024'!AV58","v":0},{"$f":"'Jan-Jun 2024'!AU58+'Jul-Dez 2024'!AU58+'Jan-Jun 2025'!AU58","v":0},{"$nulls":3},0,0,0,null,0,0,0,0,0,0,0,{"$f":"'Jan-Jun 2024'!BL58","v":0},{"$f":"'Jan-Jun 2024'!BK58+'Jul-Dez 2024'!BK58+'Jan-Jun 2025'!BK58","v":0},{"$nulls":3},0,0,0,null,0,0,0,0,0,0,0,{"$f":"'Jan-Jun 2024'!CB58","v":0},{"$f":"'Jan-Jun 2024'!CA58+'Jul-Dez 2024'!CA58+'Jan-Jun 2025'!CA58","v":0}]
[{"$nulls":18},6416,"CM","Ciência dos Materiais",{"$nulls":5},"C590",50,"Luís Carvalho",{"$nulls":5},"M","APF",0,0,0,25,0,0,0,0,0,0,0,{"$f":"'Jan-Jun 2024'!AV59","v":0},{"$f":"'Jan-Jun 2024'!AU59+'Jul-Dez 2024'!AU59+'Jan-Jun 2025'!AU59","v":0},{"$nulls":3},0,0,0,null,0,0,0,0,0,0,0,{"$f":"'Jan-Jun 2024'!BL59","v":0},{"$f":"'Jan-Jun 2024'!BK59+'Jul-Dez 2024'!BK59+'Jan-Jun 2025'!BK59","v":0},{"$nulls":3},0,0,0,null,0,0,0,0,0,0,0,{"$f":"'Jan-Jun 2024'!CB59","v":0},{"$f":"'Jan-Jun 2024'!CA59+'Jul-Dez 2024'!CA59+'Jan-Jun 2025'!CA59","v":0}]
[{"$nulls":18},6417,"SD","Sistemas Digitais",{"$nulls":5},"I159",50,"Rafael Matos",{"$nulls":7},0,0,0,null,0,0,0,0,0,0,0,{"$f":"'Jan-Jun 2024'!AV60","v":0},{"$f":"'Jan-Jun 2024'!AU60+'Jul-Dez 2024'!AU60+'Jan-Jun 2025'!AU60","v":0},{"$nulls":3},0,0,0,null,0,0,0,0,0,0,0,{"$f":"'Jan-Jun 2024'!BL60","v":0},{"$f":"'Jan-Jun 2024'!BK60+'Jul-Dez 2024'!BK60+'Jan-Jun 2025'!BK60","v":0},{"$nulls":3},0,0,0,null,0,0,0,0,0,0,0,{"$f":"'Jan-Jun 2024'!CB60","v":0},{"$f":"'Jan-Jun 2024'!CA60+'Jul-Dez 2024'!CA60+'Jan-Jun 2025'!CA60","v":0}]
[{"$nulls":18},6418,"OEM","Órgãos e Elementos de Máquinas",{"$nulls":5},"C591",50,"Luís Carvalho",{"$nulls":7},0,0,0,null,0,0,0,0,0,0,0,{"$f":"'Jan-Jun 2024'!AV61","v":0},{"$f":"'Jan-Jun 2024'!AU61+'Jul-Dez 2024'!AU61+'Jan-Jun 2025'!AU61","v":0},{"$nulls":3},0,0,0,null,0,0,0,0,0,0,0,{"$f":"'Jan-Jun 2024'!BL61","v":0},{"$f":"'Jan-Jun 2024'!BK61+'Jul-Dez 2024'!BK61+'Jan-Jun 2025'!BK61","v":0},{"$nulls":3},0,0,0,null,0,0,0,0,0,0,0,{"$f":"'Jan-Jun 2024'!CB61","v":0},{"$f":"'Jan-Jun 2024'!CA61+'Jul-Dez 2024'!CA61+'Jan-Jun 2025'!CA61","v":0}]
[null,null,"EG","Eletricidade Geral",{"$nulls":5},"K264",50,"Rafael Matos",{"$nulls":6},6419,"IP","Introdução à Programação",{"$nulls":5},"I160",50,"Vítor Caetano",{"$nulls":7},0,0,0,null,0,0,0,0,0,0,0,{"$f":"'Jan-Jun 2024'!AV62","v":0},{"$f":"'Jan-Jun 2024'!AU62+'Jul-Dez 2024'!AU62+'Jan-Jun 2025'!AU62","v":0},{"$nulls":3},0,0,0,null,0,0,0,0,0,0,0,{"$f":"'Jan-Jun 2024'!BL62","v":0},{"$f":"'Jan-Jun 2024'!BK62+'Jul-Dez 2024'!BK62+'Jan-Jun 2025'!BK62","v":0},{"$nulls":3},0,0,0,null,0,0,0,0,0,0,0,{"$f":"'Jan-Jun 2024'!CB62","v":0},{"$f":"'Jan-Jun 2024'!CA62+'Jul-Dez 2024'!CA62+'Jan-Jun 2025'!CA62","v":0}]
[{"$nulls":18},6420,"ELP","Eletrónica de Potência - Fundamentos",{"$nulls":5},"K254",50,"Marco Martinho",{"$nulls":7},0,0,0,null,0,0,0,0,0,0,0,{"$f":"'Jan-Jun 2024'!AV63","v":0},{"$f":"'Jan-Jun 2024'!AU63+'Jul-Dez 2024'!AU63+'Jan-Jun 2025'!AU63","v":0},{"$nulls":3},0,0,0,null,0,0,0,0,0,0,0,{"$f":"'Jan-Jun 2024'!BL63","v":0},{"$f":"'Jan-Jun 2024'!BK63+'Jul-Dez 2024'!BK63+'Jan-Jun 2025'!BK63","v":0},{"$nulls":3},0,0,0,null,0,0,0,0,0,0,0,{"$f":"'Jan-Jun 2024'!CB63","v":0},{"$f":"'Jan-Jun 2024'!CA63+'Jul-Dez 2024'!CA63+'Jan-Jun 2025'!CA63","v":0}]
[null,null,"IGE","Inteligência Emocional e Gestão Emocional",{"$nulls":6},60,"Marta Leal",{"$nulls":6},6421,"MM","Microprocessadores / Microcontroladores",{"$nulls":5},"I161",50,"Marco Martinho",{"$nulls":7},0,0,0,null,0,0,0,0,0,0,0,{"$f":"'Jan-Jun 2024'!AV64","v":0},{"$f":"'Jan-Jun 2024'!AU64+'Jul-Dez 2024'!AU64+'Jan-Jun 2025'!AU64","v":0},{"$nulls":3},0,0,0,null,0,0,0,0,0,0,0,{"$f":"'Jan-Jun 2024'!BL64","v":0},{"$f":"'Jan-Jun 2024'!BK64+'Jul-Dez 2024'!BK64+'Jan-Jun 2025'!BK64","v":0},{"$nulls":3},0,0,0,null,0,0,0,0,0,0,0,{"$f":"'Jan-Jun 2024'!CB64","v":0},{"$f":"'Jan-Jun 2024'!CA64+'Jul-Dez 2024'!CA64+'Jan-Jun 2025'!CA64","v":0}]
[{"$nulls":18},5134,"ROB","Robótica - Fundamentos",{"$nulls":5},"E331",50,"Marco Martinho",{"$nulls":7},0,0,0,null,0,0,0,0,0,0,0,{"$f":"'Jan-Jun 2024'!AV65","v":0},{"$f":"'Jan-Jun 2024'!AU65+'Jul-Dez 2024'!AU65+'Jan-Jun 2025'!AU65","v":0},{"$nulls":3},0,0,0,null,0,0,0,0,0,0,0,{"$f":"'Jan-Jun 2024'!BL65","v":0},{"$f":"'Jan-Jun 2024'!BK65+'Jul-Dez 2024'!BK65+'Jan-Jun 2025'!BK65","v":0},{"$nulls":3},0,0,0,null,0,0,0,0,0,0,0,{"$f":"'Jan-Jun 2024'!CB65","v":0},{"$f":"'Jan-Jun 2024'!CA65+'Jul-Dez 2024'!CA65+'Jan-Jun 2025'!CA65","v":0}]
[{"$nulls":18},6422,"MET","Metrologia por Coordenadas",{"$nulls":5},"C592",50,"Miguel Franco",{"$nulls":7},0,0,0,null,0,0,0,0,0,0,0,{"$f":"'Jan-Jun 2024'!AV66","v":0},{"$f":"'Jan-Jun 2024'!AU66+'Jul-Dez 2024'!AU66+'Jan-Jun 2025'!AU66","v":0},{"$nulls":3},0,0,0,null,0,0,0,0,0,0,0,{"$f":"'Jan-Jun 2024'!BL66","v":0},{"$f":"'Jan-Jun 2024'!BK66+'Jul-Dez 2024'!BK66+'Jan-Jun 2025'!BK66","v":0},{"$nulls":3},0,0,0,null,0,0,0,0,0,0,0,{"$f":"'Jan-Jun 2024'!CB66","v":0},{"$f":"'Jan-Jun 2024'!CA66+'Jul-Dez 2024'!CA66+'Jan-Jun 2025'!CA66","v":0}]
[{"$nulls":18},6423,"CNC","CNC - Comando Numérico por Computador",{"$nulls":5},"C593",50,"Miguel Paulo",{"$nulls":7},0,0,0,null,0,0,0,0,0,0,0,{"$f":"'Jan-Jun 2024'!AV67","v":0},{"$f":"'Jan-Jun 2024'!AU67+'Jul-Dez 2024'!AU67+'Jan-Jun 2025'!AU67","v":0},{"$nulls":3},0,0,0,null,0,0,0,0,0,0,0,{"$f":"'Jan-Jun 2024'!BL67","v":0},{"$f":"'Jan-Jun 2024'!BK67+'Jul-Dez 2024'!BK67+'Jan-Jun 2025'!BK67","v":0},{"$nulls":3},0,0,0,null,0,0,0,0,0,0,0,{"$f":"'Jan-Jun 2024'!CB67","v":0},{"$f":"'Jan-Jun 2024'!CA67+'Jul-Dez 2024'!CA67+'Jan-Jun 2025'!CA67","v":0}]
[null,null,"Salas:",null,"SEG","TER","QUA","QUI","SEX",{"$nulls":9},6424,"CAM","CAM - Fabricação Assistida por Computador",{"$nulls":5},"C594",50,"João Franco",{"$nulls":7},0,0,0,null,0,0,0,0,0,0,0,{"$f":"'Jan-Jun 2024'!AV68","v":0},{"$f":"'Jan-Jun 2024'!AU68+'Jul-Dez 2024'!AU68+'Jan-Jun 2025'!AU68","v":0},{"$nulls":3},0,0,0,null,0,0,0,0,0,0,0,{"$f":"'Jan-Jun 2024'!BL68","v":0},{"$f":"'Jan-Jun 2024'!BK68+'Jul-Dez 2024'!BK68+'Jan-Jun 2025'!BK68","v":0},{"$nulls":3},0,0,0,null,0,0,0,0,0,0,0,{"$f":"'Jan-Jun 2024'!CB68","v":0},{"$f":"'Jan-Jun 2024'!CA68+'Jul-Dez 2024'!CA68+'Jan-Jun 2025'!CA68","v":0}]
[{"$nulls":18},6425,"PAC","Projecto Assistido por Computador",{"$nulls":5},"A434",50,"João Catarino",{"$nulls":7},0,0,0,null,0,0,0,0,0,0,0,{"$f":"'Jan-Jun 2024'!AV69","v":0},{"$f":"'Jan-Jun 2024'!AU69+'Jul-Dez 2024'!AU69+'Jan-Jun 2025'!AU69","v":0},{"$nulls":3},0,0,0,null,0,0,0,0,0,0,0,{"$f":"'Jan-Jun 2024'!BL69","v":0},{"$f":"'Jan-Jun 2024'!BK69+'Jul-Dez 2024'!BK69+'Jan-Jun 2025'!BK69","v":0},{"$nulls":3},0,0,0,null,0,0,0,0,0,0,0,{"$f":"'Jan-Jun 2024'!CB69","v":0},{"$f":"'Jan-Jun 2024'!CA69+'Jul-Dez 2024'!CA69+'Jan-Jun 2025'!CA69","v":0}]
[{"$nulls":17},"Estágio",null,"PCT","Prática em Contexto Trabalho",{"$nulls":5},"K259",560,"Tutores",{"$nulls":7},0,0,0,null,0,0,0,0,0,0,0,{"$f":"'Jan-Jun 2024'!AV70","v":0},{"$f":"'Jan-Jun 2024'!AU70+'Jul-Dez 2024'!AU70+'Jan-Jun 2025'!AU70","v":0},{"$nulls":3},0,0,0,null,0,0,0,0,0,0,0,{"$f":"'Jan-Jun 2024'!BL70","v":0},{"$f":"'Jan-Jun 2024'!BK70+'Jul-Dez 2024'!BK70+'Jan-Jun 2025'!BK70","v":0},{"$nulls":3},0,0,0,null,0,0,0,0,0,0,0,{"$f":"'Jan-Jun 2024'!CB70","v":0},{"$f":"'Jan-Jun 2024'!CA70+'Jul-Dez 2024'!CA70+'Jan-Jun 2025'!CA70","v":0}]
[null,null,"R. Quantitativas:",{"$nulls":14},"Projecto Final",null,"APF","Acompanhamento ao Projeto Final",{"$nulls":6},16,"Orientadores",{"$nulls":7},0,0,0,null,0,0,0,0,0,0,0,{"$f":"'Jan-Jun 2024'!AV71","v":0},{"$f":"'Jan-Jun 2024'!AU71+'Jul-Dez 2024'!AU71+'Jan-Jun 2025'!AU71","v":0},{"$nulls":3},0,0,0,null,0,0,0,0,0,0,0,{"$f":"'Jan-Jun 2024'!BL71","v":0},{"$f":"'Jan-Jun 2024'!BK71+'Jul-Dez 2024'!BK71+'Jan-Jun 2025'!BK71","v":0},{"$nulls":3},0,0,0,null,0,0,0,0,0,0,0,{"$f":"'Jan-Jun 2024'!CB71","v":0},{"$f":"'Jan-Jun 2024'!CA71+'Jul-Dez 2024'!CA71+'Jan-Jun 2025'!CA71","v":0}]
[{"$nulls":19},"PFI","Projecto Final Integrado - Apresentação e Discussão",{"$nulls":7},"Júri",{"$nulls":7},0,{"$f":"IF($AK$4=$DH$8,AU72,IF($AK$4=$DH$9,AV72,IF($AK$4=$DH$10,AW72,IF($AK$4=$DH$11,AO72,IF($AK$4=$DH$12,AP72,IF($AK$4=$DH$13,AQ72,IF($AK$4=$DH$14,AR72,IF($AK$4=$DH$15,AS72,IF($AK$4=$DH$16,AT72,\"\")))))))))","v":0},0,null,0,0,0,0,0,0,0,{"$f":"'Jan-Jun 2024'!AV72","v":0},{"$f":"'Jan-Jun 2024'!AU72+'Jul-Dez 2024'!AU72+'Jan-Jun 2025'!AU72","v":0},{"$nulls":3},0,{"$f":"IF($AK$4=$DH$8,BK72,IF($AK$4=$DH$9,BL72,IF($AK$4=$DH$10,BM72,IF($AK$4=$DH$11,BE72,IF($AK$4=$DH$12,BF72,IF($AK$4=$DH$13,BG72,IF($AK$4=$DH$14,BH72,IF($AK$4=$DH$15,BI72,IF($AK$4=$DH$16,BJ72,\"\")))))))))","v":0},0,null,0,0,0,0,0,0,0,{"$f":"'Jan-Jun 2024'!BL72","v":0},{"$f":"'Jan-Jun 2024'!BK72+'Jul-Dez 2024'!BK72+'Jan-Jun 2025'!BK72","v":0},{"$nulls":3},0,{"$f":"IF($AK$4=$DH$8,CA72,IF($AK$4=$DH$9,CB72,IF($AK$4=$DH$10,CC72,IF($AK$4=$DH$11,BU72,IF($AK$4=$DH$12,BV72,IF($AK$4=$DH$13,BW72,IF($AK$4=$DH$14,BX72,IF($AK$4=$DH$15,BY72,IF($AK$4=$DH$16,BZ72,\"\")))))))))","v":0},0,null,0,0,0,0,0,0,0,{"$f":"'Jan-Jun 2024'!CB72","v":0},{"$f":"'Jan-Jun 2024'!CA72+'Jul-Dez 2024'!CA72+'Jan-Jun 2025'!CA72","v":0}]
[{"$nulls":36},{"$f":"IF(AI73=$DI$8,AM73,IF(AI73=$DI$9,AM73,IF(AI73=$DI$10,AL73,)))","v":0},0,{"$f":"IF(AI73=$DI$8,AL73,IF(AI73=$DI$9,AM74+AL73,IF(AI73=$DI$10,IF(AI74=$DI$10,AM74+AL73,AL73),)))","v":0},null,{"$f":"COUNTIF($C$10:$AG$13,$AJ73)","v":0},{"$f":"COUNTIF($C$17:$AG$20,$AJ73)","v":0},{"$f":"COUNTIF($C$24:$AG$27,$AJ73)","v":0},{"$f":"COUNTIF($C$31:$AG$34,$AJ73)","v":0},{"$f":"COUNTIF($C$38:$AG$41,$AJ73)","v":0},{"$f":"COUNTIF($C$45:$AG$48,$AJ73)","v":0},{"$f":"SUM(AO73:AT73)","v":0},{"$f":"'Jan-Jun 2024'!AV73","v":0},{"$f":"'Jan-Jun 2024'!AU73+'Jul-Dez 2024'!AU73+'Jan-Jun 2025'!AU73","v":0},{"$nulls":3},{"$f":"IF(AY73=$DI$8,BC73,IF(AY73=$DI$9,BC73,IF(AY73=$DI$10,BB73,)))","v":0},0,{"$f":"IF(AY73=$DI$8,BB73,IF(AY73=$DI$9,BC74+BB73,IF(AY73=$DI$10,IF(AY74=$DI$10,BC74+BB73,BB73),)))","v":0},null,{"$f":"COUNTIF($C$10:$AG$13,$AZ73)","v":0},{"$f":"COUNTIF($C$17:$AG$20,$AZ73)","v":0},{"$f":"COUNTIF($C$24:$AG$27,$AZ73)","v":0},{"$f":"COUNTIF($C$31:$AG$34,$AZ73)","v":0},{"$f":"COUNTIF($C$38:$AG$41,$AZ73)","v":0},{"$f":"COUNTIF($C$45:$AG$48,$AZ73)","v":0},{"$f":"SUM(BE73:BJ73)","v":0},{"$f":"'Jan-Jun 2024'!BL73","v":0},{"$f":"'Jan-Jun 2024'!BK73+'Jul-Dez 2024'!BK73+'Jan-Jun 2025'!BK73","v":0},{"$nulls":3},{"$f":"IF(BO73=$DI$8,BS73,IF(BO73=$DI$9,BS73,IF(BO73=$DI$10,BR73,)))","v":0},0,{"$f":"IF(BO73=$DI$8,BR73,IF(BO73=$DI$9,BS74+BR73,IF(BO73=$DI$10,IF(BO74=$DI$10,BS74+BR73,BR73),)))","v":0},null,{"$f":"COUNTIF($C$10:$AG$13,$BP73)","v":0},{"$f":"COUNTIF($C$17:$AG$20,$BP73)","v":0},{"$f":"COUNTIF($C$24:$AG$27,$BP73)","v":0},{"$f":"COUNTIF($C$31:$AG$34,$BP73)","v":0},{"$f":"COUNTIF($C$38:$AG$41,$BP73)","v":0},{"$f":"COUNTIF($C$45:$AG$48,$BP73)","v":0},{"$f":"SUM(BU73:BZ73)","v":0},{"$f":"'Jan-Jun 2024'!CB73","v":0},{"$f":"'Jan-Jun 2024'!CA73+'Jul-Dez 2024'!CA73+'Jan-Jun 2025'!CA73","v":0}]
[]
[{"$nulls":36},{"$f":"SUMIF(AI8:AI73,\"=M\",AK8:AK73)+SUMIF(AI8:AI73,\"=T\",AK8:AK73)","v":0},null,null,{"$f":"SUMIF(AI8:AI73,\"=M\",AN8:AN73)+SUMIF(AI8:AI73,\"=T\",AN8:AN73)","v":900},{"$nulls":12},{"$f":"SUMIF(AY8:AY73,\"=M\",BA8:BA73)+SUMIF(AY8:AY73,\"=T\",BA8:BA73)","v":0},null,null,{"$f":"SUMIF(AY8:AY73,\"=M\",BD8:BD73)+SUMIF(AY8:AY73,\"=T\",BD8:BD73)","v":260},{"$nulls":12},{"$f":"SUMIF(BO8:BO73,\"=M\",BQ8:BQ73)+SUMIF(BO8:BO73,\"=T\",BQ8:BQ73)","v":0},null,null,{"$f":"SUMIF(BO8:BO73,\"=M\",BT8:BT73)+SUMIF(BO8:BO73,\"=T\",BT8:BT73)","v":0}]
[{"$nulls":34},"Totais",null,{"$f":"AK75+BA75+BQ75","v":0},null,null,{"$f":"AN75+BD75+BT75","v":1160}]

{"sheet":"Jul-Dez 2025","index":4,"n_rows":76,"n_cols":113,"rows_kept":76,"merged":[[0,25,0,32],[0,34,2,39],[0,40,6,40],[0,41,6,41],[0,42,6,42],[0,43,6,43],[0,44,6,44],[0,45,6,45],[0,46,6,46],[0,47,6,47],[0,48,6,48],[0,50,2,55],[0,56,6,56],[0,57,6,57],[0,58,6,58],[0,59,6,59],[0,60,6,60],[0,61,6,61],[0,62,6,62],[0,63,6,63],[0,64,6,64],[0,66,2,71],[0,72,6,72],[0,73,6,73],[0,74,6,74],[0,75,6,75],[0,76,6,76],[0,77,6,77],[0,78,6,78],[0,79,6,79],[0,80,6,80],[0,111,6,111],[0,112,6,112],[1,25,1,32],[2,25,2,32],[3,25,3,32],[3,34,6,34],[3,35,6,35],[3,36,6,36],[3,37,6,37],[3,38,6,38],[3,39,6,39],[3,50,6,50],[3,51,6,51],[3,52,6,52],[3,53,6,53],[3,54,6,54],[3,55,6,55],[3,66,6,66],[3,67,6,67],[3,68,6,68],[3,69,6,69],[3,70,6,70],[3,71,6,71],[4,0,4,2],[4,3,4,9],[4,10,4,13],[4,14,4,21],[4,22,4,26],[4,27,4,29],[4,30,4,32],[5,0,5,2],[5,3,5,9],[5,10,5,13],[5,14,5,21],[5,22,5,26],[5,27,5,29],[5,30,5,32],[6,0,6,2],[6,3,6,9],[6,10,6,13],[6,14,6,21],[6,22,6,26],[6,27,6,29],[6,30,6,32],[7,0,8,1],[9,0,9,1],[10,0,10,1],[11,0,11,1],[12,0,12,1],[14,0,15,1],[16,0,16,1],[17,0,17,1],[18,0,18,1],[19,0,19,1],[21,0,22,1],[23,0,23,1],[24,0,24,1],[25,0,25,1],[26,0,26,1],[28,0,29,1],[30,0,30,1],[31,0,31,1],[32,0,32,1],[33,0,33,1],[35,0,36,1],[37,0,37,1],[38,0,38,1],[39,0,39,1],[40,0,40,1],[42,0,43,1],[44,0,44,1],[45,0,45,1],[46,0,46,1],[47,0,47,1],[48,2,48,8],[48,11,48,13],[48,17,48,19],[48,20,48,25],[48,28,48,30],[49,0,54,0],[49,3,49,8],[49,11,49,13],[49,17,68,17],[49,20,49,25],[49,28,49,30],[50,3,50,8],[50,11,50,13],[50,20,50,25],[50,28,50,30],[51,3,51,8],[51,11,51,13],[51,20,51,25],[51,28,51,30],[52,3,52,8],[52,11,52,13],[52,20,52,25],[52,28,52,30],[53,3,53,8],[53,11,53,13],[53,20,53,25],[53,28,53,30],[54,3,54,8],[54,11,54,13],[54,20,54,25],[54,28,54,30],[55,20,55,25],[55,28,55,30],[56,3,56,9],[56,20,56,25],[56,28,56,30],[57,4,57,9],[57,20,57,25],[57,28,57,30],[58,4,58,9],[58,20,58,25],[58,28,58,30],[59,4,59,9],[59,20,59,25],[59,28,59,30],[60,20,60,25],[60,28,60,30],[61,3,61,8],[61,20,61,25],[61,28,61,30],[62,20,62,25],[62,28,62,30],[63,3,63,8],[63,20,63,25],[63,28,63,30],[64,20,64,25],[64,28,64,30],[65,20,65,25],[65,28,65,30],[66,20,66,25],[66,28,66,30],[67,2,68,3],[67,20,67,25],[67,28,67,30],[68,20,68,25],[68,28,68,30],[69,20,69,25],[69,28,69,30],[70,4,70,5],[70,6,70,7],[70,8,70,9],[70,17,71,17],[70,20,70,25],[70,28,70,30],[71,20,71,25],[71,28,71,30],[75,34,75,35]]}
[{"$nulls":40},{"$f":"TEXT(#REF!,\"mmm\")","v":{"$error":"#REF!"}},{"$f":"TEXT($A$11,\"mmm\")","v":"20h10 - 21h00"},{"$f":"TEXT($A$18,\"mmm\")","v":"20h10 - 21h00"},{"$f":"TEXT($A$25,\"mmm\")","v":"20h10 - 21h00"},{"$f":"TEXT($A$32,\"mmm\")","v":"20h10 - 21h00"},{"$f":"TEXT($A$39,\"mmm\")","v":"20h10 - 21h00"},"Total  Folha","Total Global","Total  Acum.",{"$nulls":7},{"$f":"TEXT(#REF!,\"mmm\")","v":{"$error":"#REF!"}},{"$f":"TEXT($A$11,\"mmm\")","v":"20h10 - 21h00"},{"$f":"TEXT($A$18,\"mmm\")","v":"20h10 - 21h00"},{"$f":"TEXT($A$25,\"mmm\")","v":"20h10 - 21h00"},{"$f":"TEXT($A$32,\"mmm\")","v":"20h10 - 21h00"},{"$f":"TEXT($A$39,\"mmm\")","v":"20h10 - 21h00"},"Total  Folha","Total Global","Total  Acum.",{"$nulls":7},{"$f":"TEXT(#REF!,\"mmm\")","v":{"$error":"#REF!"}},{"$f":"TEXT($A$11,\"mmm\")","v":"20h10 - 21h00"},{"$f":"TEXT($A$18,\"mmm\")","v":"20h10 - 21h00"},{"$f":"TEXT($A$25,\"mmm\")","v":"20h10 - 21h00"},{"$f":"TEXT($A$32,\"mmm\")","v":"20h10 - 21h00"},{"$f":"TEXT($A$39,\"mmm\")","v":"20h10 - 21h00"},"Total  Folha","Total Global","Total  Acum.",{"$nulls":30},"tipo_soma","tipo_contador"]
[{"$nulls":25},"Director(a):"]
[{"$nulls":25},"(Cristina Botas)"]
[{"$nulls":34},"Tipo","Módulo","ST","Origem","Cálculo","Objetivo",{"$nulls":10},"Tipo","Módulo",{"$f":"AK4","v":"ST"},"Origem","Cálculo","Objetivo",{"$nulls":10},"Tipo","Módulo",{"$f":"AK4","v":"ST"},"Origem","Cálculo","Objetivo"]
["MODALIDADE:",null,null,"CET - Tecnologia Mecatrónica",{"$nulls":6},"CODÍGO DA AÇÃO:",{"$nulls":3},66406,{"$nulls":12},"       U.O.:",null,null,"Torres Vedras"]
["PLANEAMENTO:",null,null,"Vítor Caetano",{"$nulls":6},"SAÍDA PROFISSIONAL: Técnico/a Especialista em Mecatrónica",{"$nulls":3},"Técnico/a Especialista em Mecatrónica",{"$nulls":12},"DATA INÍCIO:",null,null,"2022-11-15"]
["COORDENADOR:",{"$nulls":9},"DURAÇÃO:",{"$nulls":3},"1560 H",{"$nulls":12},"DATA FIM  (previsto):"]
["2025-07-01",null,{"$f":"IF(C9<>\"\",CHOOSE(WEEKDAY(C9,1),\"Dom.\",\"Seg.\",\"Ter.\",\"Qua.\",\"Qui.\",\"Sex.\",\"Sáb.\"),\"\")","v":"Ter."},{"$f":"IF(D9<>\"\",CHOOSE(WEEKDAY(D9,1),\"Dom.\",\"Seg.\",\"Ter.\",\"Qua.\",\"Qui.\",\"Sex.\",\"Sáb.\"),\"\")","v":"Qua."},"Qui.","Sex.","Sáb.","Dom.","Seg.","Ter.","Qua.","Qui.","Sex.","Sáb.","Dom.","Seg.","Ter.","Qua.","Qui.","Sex.","Sáb.","Dom.","Seg.","Ter.","Qua.","Qui.","Sex.","Sáb.","Dom.","Seg.","Ter.","Qua.","Qui.",null,"T","PFL",{"$f":"IF(AI8=$DI$8,AM8,IF(AI8=$DI$9,AM8,IF(AI8=$DI$10,AL8,)))","v":0},{"$f":"IF($AK$4=$DH$8,AU8,IF($AK$4=$DH$9,AV8,IF($AK$4=$DH$10,AW8,IF($AK$4=$DH$11,AO8,IF($AK$4=$DH$12,AP8,IF($AK$4=$DH$13,AQ8,IF($AK$4=$DH$14,AR8,IF($AK$4=$DH$15,AS8,IF($AK$4=$DH$16,AT8,\"\")))))))))","v":0},{"$f":"IF(AI8=$DI$8,AL8,IF(AI8=$DI$9,AM9+AL8,IF(AI8=$DI$10,IF(AI9=$DI$10,AM9+AL8,AL8),)))","v":0},25,{"$f":"COUNTIF($C$10:$AG$13,$AJ8)","v":0},{"$f":"COUNTIF($C$17:$AG$20,$AJ8)","v":0},{"$f":"COUNTIF($C$24:$AG$27,$AJ8)","v":0},{"$f":"COUNTIF($C$31:$AG$34,$AJ8)","v":0},{"$f":"COUNTIF($C$38:$AG$41,$AJ8)","v":0},{"$f":"COUNTIF($C$45:$AG$48,$AJ8)","v":0},{"$f":"SUM(AO8:AT8)","v":0},{"$f":"'Jan-Jun 2024'!AV8","v":0},{"$f":"'Jan-Jun 2024'!AU8+'Jul-Dez 2024'!AU8+'Jan-Jun 2025'!AU8+'Jul-Dez 2025'!AU8","v":0},null,"M","IGO",{"$f":"IF(AY8=$DI$8,BC8,IF(AY8=$DI$9,BC8,IF(AY8=$DI$10,BB8,)))","v":0},{"$f":"IF($AK$4=$DH$8,BK8,IF($AK$4=$DH$9,BL8,IF($AK$4=$DH$10,BM8,IF($AK$4=$DH$11,BE8,IF($AK$4=$DH$12,BF8,IF($AK$4=$DH$13,BG8,IF($AK$4=$DH$14,BH8,IF($AK$4=$DH$15,BI8,IF($AK$4=$DH$16,BJ8,\"\")))))))))","v":0},{"$f":"IF(AY8=$DI$8,BB8,IF(AY8=$DI$9,BC9+BB8,IF(AY8=$DI$10,IF(AY9=$DI$10,BC9+BB8,BB8),)))","v":0},25,{"$f":"COUNTIF($C$10:$AG$13,$AZ8)","v":0},{"$f":"COUNTIF($C$17:$AG$20,$AZ8)","v":0},{"$f":"COUNTIF($C$24:$AG$27,$AZ8)","v":0},{"$f":"COUNTIF($C$31:$AG$34,$AZ8)","v":0},{"$f":"COUNTIF($C$38:$AG$41,$AZ8)","v":0},{"$f":"COUNTIF($C$45:$AG$48,$AZ8)","v":0},{"$f":"SUM(BE8:BJ8)","v":0},{"$f":"'Jan-Jun 2024'!BL8","v":0},{"$f":"'Jan-Jun 2024'!BK8+'Jul-Dez 2024'!BK8+'Jan-Jun 2025'!BK8+'Jul-Dez 2025'!BK8","v":0},{"$nulls":3},{"$f":"IF(BO8=$DI$8,BS8,IF(BO8=$DI$9,BS8,IF(BO8=$DI$10,BR8,)))","v":0},{"$f":"IF($AK$4=$DH$8,CA8,IF($AK$4=$DH$9,CB8,IF($AK$4=$DH$10,CC8,IF($AK$4=$DH$11,BU8,IF($AK$4=$DH$12,BV8,IF($AK$4=$DH$13,BW8,IF($AK$4=$DH$14,BX8,IF($AK$4=$DH$15,BY8,IF($AK$4=$DH$16,BZ8,\"\")))))))))","v":0},{"$f":"IF(BO8=$DI$8,BR8,IF(BO8=$DI$9,BS9+BR8,IF(BO8=$DI$10,IF(BO9=$DI$10,BS9+BR8,BR8),)))","v":0},null,{"$f":"COUNTIF($C$10:$AG$13,$BP8)","v":0},{"$f":"COUNTIF($C$17:$AG$20,$BP8)","v":0},{"$f":"COUNTIF($C$24:$AG$27,$BP8)","v":0},{"$f":"COUNTIF($C$31:$AG$34,$BP8)","v":0},{"$f":"COUNTIF($C$38:$AG$41,$BP8)","v":0},{"$f":"COUNTIF($C$45:$AG$48,$BP8)","v":0},{"$f":"SUM(BU8:BZ8)","v":0},{"$f":"'Jan-Jun 2024'!CB8","v":0},{"$f":"'Jan-Jun 2024'!CA8+'Jul-Dez 2024'!CA8+'Jan-Jun 2025'!CA8+'Jul-Dez 2025'!CA8","v":0},{"$nulls":30},"SF","M"]
[null,null,{"$f":"A8","v":"2025-07-01"},{"$f":"IF(C9=\"\",\"\",IF(DAY(C9)<DAY(EOMONTH(C9,0)),C9+1,\"\"))","v":"2025-07-02"},{"$f":"IF(D9=\"\",\"\",IF(DAY(D9)<DAY(EOMONTH(D9,0)),D9+1,\"\"))","v":"2025-07-03"},"2025-07-04","2025-07-05","2025-07-06",{"$f":"IF(H9=\"\",\"\",IF(DAY(H9)<DAY(EOMONTH(H9,0)),H9+1,\"\"))","v":"2025-07-07"},{"$f":"IF(I9=\"\",\"\",IF(DAY(I9)<DAY(EOMONTH(I9,0)),I9+1,\"\"))","v":"2025-07-08"},{"$f":"IF(J9=\"\",\"\",IF(DAY(J9)<DAY(EOMONTH(J9,0)),J9+1,\"\"))","v":"2025-07-09"},{"$f":"IF(K9=\"\",\"\",IF(DAY(K9)<DAY(EOMONTH(K9,0)),K9+1,\"\"))","v":"2025-07-10"},"2025-07-11",{"$f":"IF(M9=\"\",\"\",IF(DAY(M9)<DAY(EOMONTH(M9,0)),M9+1,\"\"))","v":"2025-07-12"},{"$f":"IF(N9=\"\",\"\",IF(DAY(N9)<DAY(EOMONTH(N9,0)),N9+1,\"\"))","v":"2025-07-13"},{"$f":"IF(O9=\"\",\"\",IF(DAY(O9)<DAY(EOMONTH(O9,0)),O9+1,\"\"))","v":"2025-07-14"},{"$f":"IF(P9=\"\",\"\",IF(DAY(P9)<DAY(EOMONTH(P9,0)),P9+1,\"\"))","v":"2025-07-15"},{"$f":"IF(Q9=\"\",\"\",IF(DAY(Q9)<DAY(EOMONTH(Q9,0)),Q9+1,\"\"))","v":"2025-07-16"},{"$f":"IF(R9=\"\",\"\",IF(DAY(R9)<DAY(EOMONTH(R9,0)),R9+1,\"\"))","v":"2025-07-17"},"2025-07-18",{"$f":"IF(T9=\"\",\"\",IF(DAY(T9)<DAY(EOMONTH(T9,0)),T9+1,\"\"))","v":"2025-07-19"},{"$f":"IF(U9=\"\",\"\",IF(DAY(U9)<DAY(EOMONTH(U9,0)),U9+1,\"\"))","v":"2025-07-20"},{"$f":"IF(V9=\"\",\"\",IF(DAY(V9)<DAY(EOMONTH(V9,0)),V9+1,\"\"))","v":"2025-07-21"},{"$f":"IF(W9=\"\",\"\",IF(DAY(W9)<DAY(EOMONTH(W9,0)),W9+1,\"\"))","v":"2025-07-22"},{"$f":"IF(X9=\"\",\"\",IF(DAY(X9)<DAY(EOMONTH(X9,0)),X9+1,\"\"))","v":"2025-07-23"},{"$f":"IF(Y9=\"\",\"\",IF(DAY(Y9)<DAY(EOMONTH(Y9,0)),Y9+1,\"\"))","v":"2025-07-24"},"2025-07-25",{"$f":"IF(AA9=\"\",\"\",IF(DAY(AA9)<DAY(EOMONTH(AA9,0)),AA9+1,\"\"))","v":"2025-07-26"},{"$f":"IF(AB9=\"\",\"\",IF(DAY(AB9)<DAY(EOMONTH(AB9,0)),AB9+1,\"\"))","v":"2025-07-27"},{"$f":"IF(AC9=\"\",\"\",IF(DAY(AC9)<DAY(EOMONTH(AC9,0)),AC9+1,\"\"))","v":"2025-07-28"},{"$f":"IF(AD9=\"\",\"\",IF(DAY(AD9)<DAY(EOMONTH(AD9,0)),AD9+1,\"\"))","v":"2025-07-29"},{"$f":"IF(AE9=\"\",\"\",IF(DAY(AE9)<DAY(EOMONTH(AE9,0)),AE9+1,\"\"))","v":"2025-07-30"},{"$f":"IF(AF9=\"\",\"\",IF(DAY(AF9)<DAY(EOMONTH(AF9,0)),AF9+1,\"\"))","v":"2025-07-31"},null,"P","PFL1",{"$f":"IF(AI9=$DI$8,AM9,IF(AI9=$DI$9,AM9,IF(AI9=$DI$10,AL9,)))","v":0},0,{"$f":"IF(AI9=$DI$8,AL9,IF(AI9=$DI$9,AM10+AL9,IF(AI9=$DI$10,IF(AI10=$DI$10,AM10+AL9,AL9),)))","v":0},7,{"$f":"COUNTIF($C$10:$AG$13,$AJ9)","v":0},{"$f":"COUNTIF($C$17:$AG$20,$AJ9)","v":0},{"$f":"COUNTIF($C$24:$AG$27,$AJ9)","v":0},{"$f":"COUNTIF($C$31:$AG$34,$AJ9)","v":0},{"$f":"COUNTIF($C$38:$AG$41,$AJ9)","v":0},{"$f":"COUNTIF($C$45:$AG$48,$AJ9)","v":0},{"$f":"SUM(AO9:AT9)","v":0},{"$f":"'Jan-Jun 2024'!AV9","v":0},{"$f":"'Jan-Jun 2024'!AU9+'Jul-Dez 2024'!AU9+'Jan-Jun 2025'!AU9+'Jul-Dez 2025'!AU9","v":0},{"$nulls":3},{"$f":"IF(AY9=$DI$8,BC9,IF(AY9=$DI$9,BC9,IF(AY9=$DI$10,BB9,)))","v":0},0,{"$f":"IF(AY9=$DI$8,BB9,IF(AY9=$DI$9,BC10+BB9,IF(AY9=$DI$10,IF(AY10=$DI$10,BC10+BB9,BB9),)))","v":0},null,{"$f":"COUNTIF($C$10:$AG$13,$AZ9)","v":0},{"$f":"COUNTIF($C$17:$AG$20,$AZ9)","v":0},{"$f":"COUNTIF($C$24:$AG$27,$AZ9)","v":0},{"$f":"COUNTIF($C$31:$AG$34,$AZ9)","v":0},{"$f":"COUNTIF($C$38:$AG$41,$AZ9)","v":0},{"$f":"COUNTIF($C$45:$AG$48,$AZ9)","v":0},{"$f":"SUM(BE9:BJ9)","v":0},{"$f":"'Jan-Jun 2024'!BL9","v":0},{"$f":"'Jan-Jun 2024'!BK9+'Jul-Dez 2024'!BK9+'Jan-Jun 2025'!BK9+'Jul-Dez 2025'!BK9","v":0},{"$nulls":3},{"$f":"IF(BO9=$DI$8,BS9,IF(BO9=$DI$9,BS9,IF(BO9=$DI$10,BR9,)))","v":0},0,{"$f":"IF(BO9=$DI$8,BR9,IF(BO9=$DI$9,BS10+BR9,IF(BO9=$DI$10,IF(BO10=$DI$10,BS10+BR9,BR9),)))","v":0},null,{"$f":"COUNTIF($C$10:$AG$13,$BP9)","v":0},{"$f":"COUNTIF($C$17:$AG$20,$BP9)","v":0},{"$f":"COUNTIF($C$24:$AG$27,$BP9)","v":0},{"$f":"COUNTIF($C$31:$AG$34,$BP9)","v":0},{"$f":"COUNTIF($C$38:$AG$41,$BP9)","v":0},{"$f":"COUNTIF($C$45:$AG$48,$BP9)","v":0},{"$f":"SUM(BU9:BZ9)","v":0},{"$f":"'Jan-Jun 2024'!CB9","v":0},{"$f":"'Jan-Jun 2024'!CA9+'Jul-Dez 2024'!CA9+'Jan-Jun 2025'!CA9+'Jul-Dez 2025'!CA9","v":0},{"$nulls":30},"ST","T"]
["19h20 - 20h10",{"$nulls":33},"P","PFL2",0,0,0,18,0,0,0,0,0,0,0,{"$f":"'Jan-Jun 2024'!AV10","v":0},{"$f":"'Jan-Jun 2024'!AU10+'Jul-Dez 2024'!AU10+'Jan-Jun 2025'!AU10+'Jul-Dez 2025'!AU10","v":0},{"$nulls":3},0,0,0,null,0,0,0,0,0,0,0,{"$f":"'Jan-Jun 2024'!BL10","v":0},{"$f":"'Jan-Jun 2024'!BK10+'Jul-Dez 2024'!BK10+'Jan-Jun 2025'!BK10+'Jul-Dez 2025'!BK10","v":0},{"$nulls":3},0,0,0,null,0,0,0,0,0,0,0,{"$f":"'Jan-Jun 2024'!CB10","v":0},{"$f":"'Jan-Jun 2024'!CA10+'Jul-Dez 2024'!CA10+'Jan-Jun 2025'!CA10+'Jul-Dez 2025'!CA10","v":0},{"$nulls":30},"SA","P"]
["20h10 - 21h00",{"$nulls":35},0,0,0,null,0,0,0,0,0,0,0,{"$f":"'Jan-Jun 2024'!AV11","v":0},{"$f":"'Jan-Jun 2024'!AU11+'Jul-Dez 2024'!AU11+'Jan-Jun 2025'!AU11+'Jul-Dez 2025'!AU11","v":0},null,"M","GMQ",0,0,0,25,0,0,0,0,0,0,0,{"$f":"'Jan-Jun 2024'!BL11","v":0},{"$f":"'Jan-Jun 2024'!BK11+'Jul-Dez 2024'!BK11+'Jan-Jun 2025'!BK11+'Jul-Dez 2025'!BK11","v":0},{"$nulls":3},0,0,0,null,0,0,0,0,0,0,0,{"$f":"'Jan-Jun 2024'!CB11","v":0},{"$f":"'Jan-Jun 2024'!CA11+'Jul-Dez 2024'!CA11+'Jan-Jun 2025'!CA11+'Jul-Dez 2025'!CA11","v":0},{"$nulls":30},{"$f":"TEXT(A8,\"mmm\")","v":"jul"}]
["21h20 - 22h10",{"$nulls":33},"T","PCC",0,0,0,25,0,0,0,0,0,0,0,{"$f":"'Jan-Jun 2024'!AV12","v":0},{"$f":"'Jan-Jun 2024'!AU12+'Jul-Dez 2024'!AU12+'Jan-Jun 2025'!AU12+'Jul-Dez 2025'!AU12","v":0},{"$nulls":3},0,0,0,null,0,0,0,0,0,0,0,{"$f":"'Jan-Jun 2024'!BL12","v":0},{"$f":"'Jan-Jun 2024'!BK12+'Jul-Dez 2024'!BK12+'Jan-Jun 2025'!BK12+'Jul-Dez 2025'!BK12","v":0},{"$nulls":3},0,0,0,null,0,0,0,0,0,0,0,{"$f":"'Jan-Jun 2024'!CB12","v":0},{"$f":"'Jan-Jun 2024'!CA12+'Jul-Dez 2024'!CA12+'Jan-Jun 2025'!CA12+'Jul-Dez 2025'!CA12","v":0},{"$nulls":30},{"$f":"TEXT(A15,\"mmm\")","v":"ago"}]
["22h10 - 23h00",{"$nulls":33},"P","PCC1",0,0,0,7,0,0,0,0,0,0,0,{"$f":"'Jan-Jun 2024'!AV13","v":0},{"$f":"'Jan-Jun 2024'!AU13+'Jul-Dez 2024'!AU13+'Jan-Jun 2025'!AU13+'Jul-Dez 2025'!AU13","v":0},{"$nulls":3},0,0,0,null,0,0,0,0,0,0,0,{"$f":"'Jan-Jun 2024'!BL13","v":0},{"$f":"'Jan-Jun 2024'!BK13+'Jul-Dez 2024'!BK13+'Jan-Jun 2025'!BK13+'Jul-Dez 2025'!BK13","v":0},{"$nulls":3},0,0,0,null,0,0,0,0,0,0,0,{"$f":"'Jan-Jun 2024'!CB13","v":0},{"$f":"'Jan-Jun 2024'!CA13+'Jul-Dez 2024'!CA13+'Jan-Jun 2025'!CA13+'Jul-Dez 2025'!CA13","v":0},{"$nulls":30},{"$f":"TEXT(A22,\"mmm\")","v":"set"}]
[{"$nulls":34},"P","PCC2",0,0,0,18,0,0,0,0,0,0,0,{"$f":"'Jan-Jun 2024'!AV14","v":0},{"$f":"'Jan-Jun 2024'!AU14+'Jul-Dez 2024'!AU14+'Jan-Jun 2025'!AU14+'Jul-Dez 2025'!AU14","v":0},null,"M","SGQ",0,0,0,25,0,0,0,0,0,0,0,{"$f":"'Jan-Jun 2024'!BL14","v":0},{"$f":"'Jan-Jun 2024'!BK14+'Jul-Dez 2024'!BK14+'Jan-Jun 2025'!BK14+'Jul-Dez 2025'!BK14","v":0},{"$nulls":3},0,0,0,null,0,0,0,0,0,0,0,{"$f":"'Jan-Jun 2024'!CB14","v":0},{"$f":"'Jan-Jun 2024'!CA14+'Jul-Dez 2024'!CA14+'Jan-Jun 2025'!CA14+'Jul-Dez 2025'!CA14","v":0},{"$nulls":30},{"$f":"TEXT(A29,\"mmm\")","v":"out"}]
[{"$f":"A8+DAY(EOMONTH(A8,0))","v":"2025-08-01"},null,{"$f":"IF(C16<>\"\",CHOOSE(WEEKDAY(C16,1),\"Dom.\",\"Seg.\",\"Ter.\",\"Qua.\",\"Qui.\",\"Sex.\",\"Sáb.\"),\"\")","v":"Sex."},{"$f":"IF(D16<>\"\",CHOOSE(WEEKDAY(D16,1),\"Dom.\",\"Seg.\",\"Ter.\",\"Qua.\",\"Qui.\",\"Sex.\",\"Sáb.\"),\"\")","v":"Sáb."},"Dom.","Seg.","Ter.",{"$f":"IF(H16<>\"\",CHOOSE(WEEKDAY(H16,1),\"Dom.\",\"Seg.\",\"Ter.\",\"Qua.\",\"Qui.\",\"Sex.\",\"Sáb.\"),\"\")","v":"Qua."},"Qui.","Sex.","Sáb.","Dom.","Seg.","Ter.","Qua.","Qui.","Sex.","Sáb.","Dom.","Seg.","Ter.","Qua.","Qui.","Sex.","Sáb.","Dom.","Seg.","Ter.","Qua.","Qui.","Sex.","Sáb.","Dom.",{"$nulls":3},0,0,0,null,0,0,0,0,0,0,0,{"$f":"'Jan-Jun 2024'!AV15","v":0},{"$f":"'Jan-Jun 2024'!AU15+'Jul-Dez 2024'!AU15+'Jan-Jun 2025'!AU15+'Jul-Dez 2025'!AU15","v":0},{"$nulls":3},0,0,0,null,0,0,0,0,0,0,0,{"$f":"'Jan-Jun 2024'!BL15","v":0},{"$f":"'Jan-Jun 2024'!BK15+'Jul-Dez 2024'!BK15+'Jan-Jun 2025'!BK15+'Jul-Dez 2025'!BK15","v":0},{"$nulls":3},0,0,0,null,0,0,0,0,0,0,0,{"$f":"'Jan-Jun 2024'!CB15","v":0},{"$f":"'Jan-Jun 2024'!CA15+'Jul-Dez 2024'!CA15+'Jan-Jun 2025'!CA15+'Jul-Dez 2025'!CA15","v":0},{"$nulls":30},{"$f":"TEXT(A36,\"mmm\")","v":"nov"}]
[null,null,{"$f":"A15","v":"2025-08-01"},{"$f":"IF(C16=\"\",\"\",IF(DAY(C16)<DAY(EOMONTH(C16,0)),C16+1,\"\"))","v":"2025-08-02"},{"$f":"IF(D16=\"\",\"\",IF(DAY(D16)<DAY(EOMONTH(D16,0)),D16+1,\"\"))","v":"2025-08-03"},{"$f":"IF(E16=\"\",\"\",IF(DAY(E16)<DAY(EOMONTH(E16,0)),E16+1,\"\"))","v":"2025-08-04"},{"$f":"IF(F16=\"\",\"\",IF(DAY(F16)<DAY(EOMONTH(F16,0)),F16+1,\"\"))","v":"2025-08-05"},{"$f":"IF(G16=\"\",\"\",IF(DAY(G16)<DAY(EOMONTH(G16,0)),G16+1,\"\"))","v":"2025-08-06"},"2025-08-07","2025-08-08",{"$f":"IF(J16=\"\",\"\",IF(DAY(J16)<DAY(EOMONTH(J16,0)),J16+1,\"\"))","v":"2025-08-09"},{"$f":"IF(K16=\"\",\"\",IF(DAY(K16)<DAY(EOMONTH(K16,0)),K16+1,\"\"))","v":"2025-08-10"},{"$f":"IF(L16=\"\",\"\",IF(DAY(L16)<DAY(EOMONTH(L16,0)),L16+1,\"\"))","v":"2025-08-11"},{"$f":"IF(M16=\"\",\"\",IF(DAY(M16)<DAY(EOMONTH(M16,0)),M16+1,\"\"))","v":"2025-08-12"},"2025-08-13","2025-08-14","2025-08-15",{"$f":"IF(Q16=\"\",\"\",IF(DAY(Q16)<DAY(EOMONTH(Q16,0)),Q16+1,\"\"))","v":"2025-08-16"},{"$f":"IF(R16=\"\",\"\",IF(DAY(R16)<DAY(EOMONTH(R16,0)),R16+1,\"\"))","v":"2025-08-17"},{"$f":"IF(S16=\"\",\"\",IF(DAY(S16)<DAY(EOMONTH(S16,0)),S16+1,\"\"))","v":"2025-08-18"},{"$f":"IF(T16=\"\",\"\",IF(DAY(T16)<DAY(EOMONTH(T16,0)),T16+1,\"\"))","v":"2025-08-19"},"2025-08-20","2025-08-21","2025-08-22",{"$f":"IF(X16=\"\",\"\",IF(DAY(X16)<DAY(EOMONTH(X16,0)),X16+1,\"\"))","v":"2025-08-23"},{"$f":"IF(Y16=\"\",\"\",IF(DAY(Y16)<DAY(EOMONTH(Y16,0)),Y16+1,\"\"))","v":"2025-08-24"},{"$f":"IF(Z16=\"\",\"\",IF(DAY(Z16)<DAY(EOMONTH(Z16,0)),Z16+1,\"\"))","v":"2025-08-25"},{"$f":"IF(AA16=\"\",\"\",IF(DAY(AA16)<DAY(EOMONTH(AA16,0)),AA16+1,\"\"))","v":"2025-08-26"},"2025-08-27","2025-08-28","2025-08-29","2025-08-30","2025-08-31",null,"M","PAA",0,0,0,25,0,0,0,0,0,0,0,{"$f":"'Jan-Jun 2024'!AV16","v":0},{"$f":"'Jan-Jun 2024'!AU16+'Jul-Dez 2024'!AU16+'Jan-Jun 2025'!AU16+'Jul-Dez 2025'!AU16","v":0},{"$nulls":3},0,0,0,null,0,0,0,0,0,0,0,{"$f":"'Jan-Jun 2024'!BL16","v":0},{"$f":"'Jan-Jun 2024'!BK16+'Jul-Dez 2024'!BK16+'Jan-Jun 2025'!BK16+'Jul-Dez 2025'!BK16","v":0},{"$nulls":3},0,0,0,null,0,0,0,0,0,0,0,{"$f":"'Jan-Jun 2024'!CB16","v":0},{"$f":"'Jan-Jun 2024'!CA16+'Jul-Dez 2024'!CA16+'Jan-Jun 2025'!CA16+'Jul-Dez 2025'!CA16","v":0},{"$nulls":30},{"$f":"TEXT(A43,\"mmm\")","v":"dez"}]
["19h20 - 20h10",{"$nulls":15},"Assunção",{"$nulls":17},"M","IME",0,0,0,50,0,0,0,0,0,0,0,{"$f":"'Jan-Jun 2024'!AV17","v":0},{"$f":"'Jan-Jun 2024'!AU17+'Jul-Dez 2024'!AU17+'Jan-Jun 2025'!AU17+'Jul-Dez 2025'!AU17","v":0},null,"M","ASHST",0,0,0,25,0,0,0,0,0,0,0,{"$f":"'Jan-Jun 2024'!BL17","v":0},{"$f":"'Jan-Jun 2024'!BK17+'Jul-Dez 2024'!BK17+'Jan-Jun 2025'!BK17+'Jul-Dez 2025'!BK17","v":0},{"$nulls":3},0,0,0,null,0,0,0,0,0,0,0,{"$f":"'Jan-Jun 2024'!CB17","v":0},{"$f":"'Jan-Jun 2024'!CA17+'Jul-Dez 2024'!CA17+'Jan-Jun 2025'!CA17+'Jul-Dez 2025'!CA17","v":0}]
["20h10 - 21h00",{"$nulls":15},"Nossa",{"$nulls":17},"M","ELE",0,0,0,50,0,0,0,0,0,0,0,{"$f":"'Jan-Jun 2024'!AV18","v":0},{"$f":"'Jan-Jun 2024'!AU18+'Jul-Dez 2024'!AU18+'Jan-Jun 2025'!AU18+'Jul-Dez 2025'!AU18","v":0},null,"T","DT",0,0,0,25,0,0,0,0,0,0,0,{"$f":"'Jan-Jun 2024'!BL18","v":0},{"$f":"'Jan-Jun 2024'!BK18+'Jul-Dez 2024'!BK18+'Jan-Jun 2025'!BK18+'Jul-Dez 2025'!BK18","v":0},{"$nulls":3},0,0,0,null,0,0,0,0,0,0,0,{"$f":"'Jan-Jun 2024'!CB18","v":0},{"$f":"'Jan-Jun 2024'!CA18+'Jul-Dez 2024'!CA18+'Jan-Jun 2025'!CA18+'Jul-Dez 2025'!CA18","v":0}]
["21h20 - 22h10",{"$nulls":15},"Senhora",{"$nulls":17},"M","CP",0,0,0,25,0,0,0,0,0,0,0,{"$f":"'Jan-Jun 2024'!AV19","v":0},{"$f":"'Jan-Jun 2024'!AU19+'Jul-Dez 2024'!AU19+'Jan-Jun 2025'!AU19+'Jul-Dez 2025'!AU19","v":0},{"$nulls":3},0,0,0,null,0,0,0,0,0,0,0,{"$f":"'Jan-Jun 2024'!BL19","v":0},{"$f":"'Jan-Jun 2024'!BK19+'Jul-Dez 2024'!BK19+'Jan-Jun 2025'!BK19+'Jul-Dez 2025'!BK19","v":0},{"$nulls":3},0,0,0,null,0,0,0,0,0,0,0,{"$f":"'Jan-Jun 2024'!CB19","v":0},{"$f":"'Jan-Jun 2024'!CA19+'Jul-Dez 2024'!CA19+'Jan-Jun 2025'!CA19+'Jul-Dez 2025'!CA19","v":0}]
["22h10 - 23h00",{"$nulls":35},0,0,0,null,0,0,0,0,0,0,0,{"$f":"'Jan-Jun 2024'!AV20","v":0},{"$f":"'Jan-Jun 2024'!AU20+'Jul-Dez 2024'!AU20+'Jan-Jun 2025'!AU20+'Jul-Dez 2025'!AU20","v":0},{"$nulls":3},0,0,0,null,0,0,0,0,0,0,0,{"$f":"'Jan-Jun 2024'!BL20","v":0},{"$f":"'Jan-Jun 2024'!BK20+'Jul-Dez 2024'!BK20+'Jan-Jun 2025'!BK20+'Jul-Dez 2025'!BK20","v":0},{"$nulls":3},0,0,0,null,0,0,0,0,0,0,0,{"$f":"'Jan-Jun 2024'!CB20","v":0},{"$f":"'Jan-Jun 2024'!CA20+'Jul-Dez 2024'!CA20+'Jan-Jun 2025'!CA20+'Jul-Dez 2025'!CA20","v":0}]
[{"$nulls":36},0,0,0,null,0,0,0,0,0,0,0,{"$f":"'Jan-Jun 2024'!AV21","v":0},{"$f":"'Jan-Jun 2024'!AU21+'Jul-Dez 2024'!AU21+'Jan-Jun 2025'!AU21+'Jul-Dez 2025'!AU21","v":0},{"$nulls":3},0,0,0,null,0,0,0,0,0,0,0,{"$f":"'Jan-Jun 2024'!BL21","v":0},{"$f":"'Jan-Jun 2024'!BK21+'Jul-Dez 2024'!BK21+'Jan-Jun 2025'!BK21+'Jul-Dez 2025'!BK21","v":0},{"$nulls":3},0,0,0,null,0,0,0,0,0,0,0,{"$f":"'Jan-Jun 2024'!CB21","v":0},{"$f":"'Jan-Jun 2024'!CA21+'Jul-Dez 2024'!CA21+'Jan-Jun 2025'!CA21+'Jul-Dez 2025'!CA21","v":0}]
[{"$f":"A15+DAY(EOMONTH(A15,0))","v":"2025-09-01"},null,{"$f":"IF(C23<>\"\",CHOOSE(WEEKDAY(C23,1),\"Dom.\",\"Seg.\",\"Ter.\",\"Qua.\",\"Qui.\",\"Sex.\",\"Sáb.\"),\"\")","v":"Seg."},{"$f":"IF(D23<>\"\",CHOOSE(WEEKDAY(D23,1),\"Dom.\",\"Seg.\",\"Ter.\",\"Qua.\",\"Qui.\",\"Sex.\",\"Sáb.\"),\"\")","v":"Ter."},"Qua.","Qui.","Sex.",{"$f":"IF(H23<>\"\",CHOOSE(WEEKDAY(H23,1),\"Dom.\",\"Seg.\",\"Ter.\",\"Qua.\",\"Qui.\",\"Sex.\",\"Sáb.\"),\"\")","v":"Sáb."},"Dom.","Seg.","Ter.","Qua.","Qui.","Sex.","Sáb.","Dom.","Seg.","Ter.","Qua.","Qui.","Sex.","Sáb.","Dom.","Seg.","Ter.","Qua.","Qui.","Sex.","Sáb.","Dom.","Seg.","Ter.","",{"$nulls":3},0,0,0,null,0,0,0,0,0,0,0,{"$f":"'Jan-Jun 2024'!AV22","v":0},{"$f":"'Jan-Jun 2024'!AU22+'Jul-Dez 2024'!AU22+'Jan-Jun 2025'!AU22+'Jul-Dez 2025'!AU22","v":0},null,"M","ICS",0,0,0,25,0,0,0,0,0,0,0,{"$f":"'Jan-Jun 2024'!BL22","v":0},{"$f":"'Jan-Jun 2024'!BK22+'Jul-Dez 2024'!BK22+'Jan-Jun 2025'!BK22+'Jul-Dez 2025'!BK22","v":0},{"$nulls":3},0,0,0,null,0,0,0,0,0,0,0,{"$f":"'Jan-Jun 2024'!CB22","v":0},{"$f":"'Jan-Jun 2024'!CA22+'Jul-Dez 2024'!CA22+'Jan-Jun 2025'!CA22+'Jul-Dez 2025'!CA22","v":0}]
[null,null,{"$f":"A22","v":"2025-09-01"},{"$f":"IF(C23=\"\",\"\",IF(DAY(C23)<DAY(EOMONTH(C23,0)),C23+1,\"\"))","v":"2025-09-02"},{"$f":"IF(D23=\"\",\"\",IF(DAY(D23)<DAY(EOMONTH(D23,0)),D23+1,\"\"))","v":"2025-09-03"},{"$f":"IF(E23=\"\",\"\",IF(DAY(E23)<DAY(EOMONTH(E23,0)),E23+1,\"\"))","v":"2025-09-04"},{"$f":"IF(F23=\"\",\"\",IF(DAY(F23)<DAY(EOMONTH(F23,0)),F23+1,\"\"))","v":"2025-09-05"},{"$f":"IF(G23=\"\",\"\",IF(DAY(G23)<DAY(EOMONTH(G23,0)),G23+1,\"\"))","v":"2025-09-06"},"2025-09-07","2025-09-08",{"$f":"IF(J23=\"\",\"\",IF(DAY(J23)<DAY(EOMONTH(J23,0)),J23+1,\"\"))","v":"2025-09-09"},{"$f":"IF(K23=\"\",\"\",IF(DAY(K23)<DAY(EOMONTH(K23,0)),K23+1,\"\"))","v":"2025-09-10"},{"$f":"IF(L23=\"\",\"\",IF(DAY(L23)<DAY(EOMONTH(L23,0)),L23+1,\"\"))","v":"2025-09-11"},{"$f":"IF(M23=\"\",\"\",IF(DAY(M23)<DAY(EOMONTH(M23,0)),M23+1,\"\"))","v":"2025-09-12"},"2025-09-13","2025-09-14","2025-09-15",{"$f":"IF(Q23=\"\",\"\",IF(DAY(Q23)<DAY(EOMONTH(Q23,0)),Q23+1,\"\"))","v":"2025-09-16"},{"$f":"IF(R23=\"\",\"\",IF(DAY(R23)<DAY(EOMONTH(R23,0)),R23+1,\"\"))","v":"2025-09-17"},{"$f":"IF(S23=\"\",\"\",IF(DAY(S23)<DAY(EOMONTH(S23,0)),S23+1,\"\"))","v":"2025-09-18"},{"$f":"IF(T23=\"\",\"\",IF(DAY(T23)<DAY(EOMONTH(T23,0)),T23+1,\"\"))","v":"2025-09-19"},"2025-09-20","2025-09-21","2025-09-22",{"$f":"IF(X23=\"\",\"\",IF(DAY(X23)<DAY(EOMONTH(X23,0)),X23+1,\"\"))","v":"2025-09-23"},{"$f":"IF(Y23=\"\",\"\",IF(DAY(Y23)<DAY(EOMONTH(Y23,0)),Y23+1,\"\"))","v":"2025-09-24"},{"$f":"IF(Z23=\"\",\"\",IF(DAY(Z23)<DAY(EOMONTH(Z23,0)),Z23+1,\"\"))","v":"2025-09-25"},{"$f":"IF(AA23=\"\",\"\",IF(DAY(AA23)<DAY(EOMONTH(AA23,0)),AA23+1,\"\"))","v":"2025-09-26"},"2025-09-27","2025-09-28","2025-09-29",{"$f":"IF(AE23=\"\",\"\",IF(DAY(AE23)<DAY(EOMONTH(AE23,0)),AE23+1,\"\"))","v":"2025-09-30"},{"$f":"IF(AF23=\"\",\"\",IF(DAY(AF23)<DAY(EOMONTH(AF23,0)),AF23+1,\"\"))","v":""},null,"M","CH",0,0,0,25,0,0,0,0,0,0,0,{"$f":"'Jan-Jun 2024'!AV23","v":0},{"$f":"'Jan-Jun 2024'!AU23+'Jul-Dez 2024'!AU23+'Jan-Jun 2025'!AU23+'Jul-Dez 2025'!AU23","v":0},{"$nulls":3},0,0,0,null,0,0,0,0,0,0,0,{"$f":"'Jan-Jun 2024'!BL23","v":0},{"$f":"'Jan-Jun 2024'!BK23+'Jul-Dez 2024'!BK23+'Jan-Jun 2025'!BK23+'Jul-Dez 2025'!BK23","v":0},{"$nulls":3},0,0,0,null,0,0,0,0,0,0,0,{"$f":"'Jan-Jun 2024'!CB23","v":0},{"$f":"'Jan-Jun 2024'!CA23+'Jul-Dez 2024'!CA23+'Jan-Jun 2025'!CA23+'Jul-Dez 2025'!CA23","v":0}]
["19h20 - 20h10",{"$nulls":33},"M","CLP",0,0,0,50,0,0,0,0,0,0,0,{"$f":"'Jan-Jun 2024'!AV24","v":0},{"$f":"'Jan-Jun 2024'!AU24+'Jul-Dez 2024'!AU24+'Jan-Jun 2025'!AU24+'Jul-Dez 2025'!AU24","v":0},{"$nulls":3},0,0,0,null,0,0,0,0,0,0,0,{"$f":"'Jan-Jun 2024'!BL24","v":0},{"$f":"'Jan-Jun 2024'!BK24+'Jul-Dez 2024'!BK24+'Jan-Jun 2025'!BK24+'Jul-Dez 2025'!BK24","v":0},{"$nulls":3},0,0,0,null,0,0,0,0,0,0,0,{"$f":"'Jan-Jun 2024'!CB24","v":0},{"$f":"'Jan-Jun 2024'!CA24+'Jul-Dez 2024'!CA24+'Jan-Jun 2025'!CA24+'Jul-Dez 2025'!CA24","v":0}]
["20h10 - 21h00",{"$nulls":35},0,0,0,null,0,0,0,0,0,0,0,{"$f":"'Jan-Jun 2024'!AV25","v":0},{"$f":"'Jan-Jun 2024'!AU25+'Jul-Dez 2024'!AU25+'Jan-Jun 2025'!AU25+'Jul-Dez 2025'!AU25","v":0},{"$nulls":3},0,0,0,null,0,0,0,0,0,0,0,{"$f":"'Jan-Jun 2024'!BL25","v":0},{"$f":"'Jan-Jun 2024'!BK25+'Jul-Dez 2024'!BK25+'Jan-Jun 2025'!BK25+'Jul-Dez 2025'!BK25","v":0},{"$nulls":3},0,0,0,null,0,0,0,0,0,0,0,{"$f":"'Jan-Jun 2024'!CB25","v":0},{"$f":"'Jan-Jun 2024'!CA25+'Jul-Dez 2024'!CA25+'Jan-Jun 2025'!CA25+'Jul-Dez 2025'!CA25","v":0}]
["21h20 - 22h10",{"$nulls":35},0,0,0,null,0,0,0,0,0,0,0,{"$f":"'Jan-Jun 2024'!AV26","v":0},{"$f":"'Jan-Jun 2024'!AU26+'Jul-Dez 2024'!AU26+'Jan-Jun 2025'!AU26+'Jul-Dez 2025'!AU26","v":0},{"$nulls":3},0,0,0,null,0,0,0,0,0,0,0,{"$f":"'Jan-Jun 2024'!BL26","v":0},{"$f":"'Jan-Jun 2024'!BK26+'Jul-Dez 2024'!BK26+'Jan-Jun 2025'!BK26+'Jul-Dez 2025'!BK26","v":0},{"$nulls":3},0,0,0,null,0,0,0,0,0,0,0,{"$f":"'Jan-Jun 2024'!CB26","v":0},{"$f":"'Jan-Jun 2024'!CA26+'Jul-Dez 2024'!CA26+'Jan-Jun 2025'!CA26+'Jul-Dez 2025'!CA26","v":0}]
["22h10 - 23h00",{"$nulls":35},0,0,0,null,0,0,0,0,0,0,0,{"$f":"'Jan-Jun 2024'!AV27","v":0},{"$f":"'Jan-Jun 2024'!AU27+'Jul-Dez 2024'!AU27+'Jan-Jun 2025'!AU27+'Jul-Dez 2025'!AU27","v":0},{"$nulls":3},0,0,0,null,0,0,0,0,0,0,0,{"$f":"'Jan-Jun 2024'!BL27","v":0},{"$f":"'Jan-Jun 2024'!BK27+'Jul-Dez 2024'!BK27+'Jan-Jun 2025'!BK27+'Jul-Dez 2025'!BK27","v":0},{"$nulls":3},0,0,0,null,0,0,0,0,0,0,0,{"$f":"'Jan-Jun 2024'!CB27","v":0},{"$f":"'Jan-Jun 2024'!CA27+'Jul-Dez 2024'!CA27+'Jan-Jun 2025'!CA27+'Jul-Dez 2025'!CA27","v":0}]
[{"$nulls":34},"M","DCM",0,0,0,50,0,0,0,0,0,0,0,{"$f":"'Jan-Jun 2024'!AV28","v":0},{"$f":"'Jan-Jun 2024'!AU28+'Jul-Dez 2024'!AU28+'Jan-Jun 2025'!AU28+'Jul-Dez 2025'!AU28","v":0},{"$nulls":3},0,0,0,null,0,0,0,0,0,0,0,{"$f":"'Jan-Jun 2024'!BL28","v":0},{"$f":"'Jan-Jun 2024'!BK28+'Jul-Dez 2024'!BK28+'Jan-Jun 2025'!BK28+'Jul-Dez 2025'!BK28","v":0},{"$nulls":3},0,0,0,null,0,0,0,0,0,0,0,{"$f":"'Jan-Jun 2024'!CB28","v":0},{"$f":"'Jan-Jun 2024'!CA28+'Jul-Dez 2024'!CA28+'Jan-Jun 2025'!CA28+'Jul-Dez 2025'!CA28","v":0}]
[{"$f":"A22+DAY(EOMONTH(A22,0))","v":"2025-10-01"},null,{"$f":"IF(C30<>\"\",CHOOSE(WEEKDAY(C30,1),\"Dom.\",\"Seg.\",\"Ter.\",\"Qua.\",\"Qui.\",\"Sex.\",\"Sáb.\"),\"\")","v":"Qua."},{"$f":"IF(D30<>\"\",CHOOSE(WEEKDAY(D30,1),\"Dom.\",\"Seg.\",\"Ter.\",\"Qua.\",\"Qui.\",\"Sex.\",\"Sáb.\"),\"\")","v":"Qui."},"Sex.","Sáb.","Dom.","Seg.","Ter.","Qua.","Qui.","Sex.","Sáb.","Dom.","Seg.","Ter.","Qua.","Qui.","Sex.","Sáb.","Dom.","Seg.","Ter.","Qua.","Qui.","Sex.","Sáb.","Dom.","Seg.","Ter.","Qua.","Qui.","Sex.",null,"M","CM",0,0,0,50,0,0,0,0,0,0,0,{"$f":"'Jan-Jun 2024'!AV29","v":0},{"$f":"'Jan-Jun 2024'!AU29+'Jul-Dez 2024'!AU29+'Jan-Jun 2025'!AU29+'Jul-Dez 2025'!AU29","v":0},{"$nulls":3},0,0,0,null,0,0,0,0,0,0,0,{"$f":"'Jan-Jun 2024'!BL29","v":0},{"$f":"'Jan-Jun 2024'!BK29+'Jul-Dez 2024'!BK29+'Jan-Jun 2025'!BK29+'Jul-Dez 2025'!BK29","v":0},{"$nulls":3},0,0,0,null,0,0,0,0,0,0,0,{"$f":"'Jan-Jun 2024'!CB29","v":0},{"$f":"'Jan-Jun 2024'!CA29+'Jul-Dez 2024'!CA29+'Jan-Jun 2025'!CA29+'Jul-Dez 2025'!CA29","v":0}]
[null,null,{"$f":"A29","v":"2025-10-01"},{"$f":"IF(C30=\"\",\"\",IF(DAY(C30)<DAY(EOMONTH(C30,0)),C30+1,\"\"))","v":"2025-10-02"},"2025-10-03","2025-10-04","2025-10-05",{"$f":"IF(G30=\"\",\"\",IF(DAY(G30)<DAY(EOMONTH(G30,0)),G30+1,\"\"))","v":"2025-10-06"},{"$f":"IF(H30=\"\",\"\",IF(DAY(H30)<DAY(EOMONTH(H30,0)),H30+1,\"\"))","v":"2025-10-07"},{"$f":"IF(I30=\"\",\"\",IF(DAY(I30)<DAY(EOMONTH(I30,0)),I30+1,\"\"))","v":"2025-10-08"},{"$f":"IF(J30=\"\",\"\",IF(DAY(J30)<DAY(EOMONTH(J30,0)),J30+1,\"\"))","v":"2025-10-09"},"2025-10-10","2025-10-11","2025-10-12",{"$f":"IF(N30=\"\",\"\",IF(DAY(N30)<DAY(EOMONTH(N30,0)),N30+1,\"\"))","v":"2025-10-13"},{"$f":"IF(O30=\"\",\"\",IF(DAY(O30)<DAY(EOMONTH(O30,0)),O30+1,\"\"))","v":"2025-10-14"},{"$f":"IF(P30=\"\",\"\",IF(DAY(P30)<DAY(EOMONTH(P30,0)),P30+1,\"\"))","v":"2025-10-15"},{"$f":"IF(Q30=\"\",\"\",IF(DAY(Q30)<DAY(EOMONTH(Q30,0)),Q30+1,\"\"))","v":"2025-10-16"},"2025-10-17","2025-10-18","2025-10-19",{"$f":"IF(U30=\"\",\"\",IF(DAY(U30)<DAY(EOMONTH(U30,0)),U30+1,\"\"))","v":"2025-10-20"},{"$f":"IF(V30=\"\",\"\",IF(DAY(V30)<DAY(EOMONTH(V30,0)),V30+1,\"\"))","v":"2025-10-21"},{"$f":"IF(W30=\"\",\"\",IF(DAY(W30)<DAY(EOMONTH(W30,0)),W30+1,\"\"))","v":"2025-10-22"},"2025-10-23","2025-10-24","2025-10-25","2025-10-26",{"$f":"IF(AB30=\"\",\"\",IF(DAY(AB30)<DAY(EOMONTH(AB30,0)),AB30+1,\"\"))","v":"2025-10-27"},{"$f":"IF(AC30=\"\",\"\",IF(DAY(AC30)<DAY(EOMONTH(AC30,0)),AC30+1,\"\"))","v":"2025-10-28"},"2025-10-29","2025-10-30","2025-10-31",null,"M","SD",0,0,0,50,0,0,0,0,0,0,0,{"$f":"'Jan-Jun 2024'!AV30","v":0},{"$f":"'Jan-Jun 2024'!AU30+'Jul-Dez 2024'!AU30+'Jan-Jun 2025'!AU30+'Jul-Dez 2025'!AU30","v":0},{"$nulls":3},0,0,0,null,0,0,0,0,0,0,0,{"$f":"'Jan-Jun 2024'!BL30","v":0},{"$f":"'Jan-Jun 2024'!BK30+'Jul-Dez 2024'!BK30+'Jan-Jun 2025'!BK30+'Jul-Dez 2025'!BK30","v":0},{"$nulls":3},0,0,0,null,0,0,0,0,0,0,0,{"$f":"'Jan-Jun 2024'!CB30","v":0},{"$f":"'Jan-Jun 2024'!CA30+'Jul-Dez 2024'!CA30+'Jan-Jun 2025'!CA30+'Jul-Dez 2025'!CA30","v":0}]
["19h20 - 20h10",{"$nulls":33},"M","OEM",0,0,0,50,0,0,0,0,0,0,0,{"$f":"'Jan-Jun 2024'!AV31","v":0},{"$f":"'Jan-Jun 2024'!AU31+'Jul-Dez 2024'!AU31+'Jan-Jun 2025'!AU31+'Jul-Dez 2025'!AU31","v":0},{"$nulls":3},0,0,0,null,0,0,0,0,0,0,0,{"$f":"'Jan-Jun 2024'!BL31","v":0},{"$f":"'Jan-Jun 2024'!BK31+'Jul-Dez 2024'!BK31+'Jan-Jun 2025'!BK31+'Jul-Dez 2025'!BK31","v":0},{"$nulls":3},0,0,0,null,0,0,0,0,0,0,0,{"$f":"'Jan-Jun 2024'!CB31","v":0},{"$f":"'Jan-Jun 2024'!CA31+'Jul-Dez 2024'!CA31+'Jan-Jun 2025'!CA31+'Jul-Dez 2025'!CA31","v":0}]
["20h10 - 21h00",{"$nulls":5},"Repúb.",{"$nulls":27},"M","IP",0,0,0,50,0,0,0,0,0,0,0,{"$f":"'Jan-Jun 2024'!AV32","v":0},{"$f":"'Jan-Jun 2024'!AU32+'Jul-Dez 2024'!AU32+'Jan-Jun 2025'!AU32+'Jul-Dez 2025'!AU32","v":0},null,"M","EG",0,0,0,50,0,0,0,0,0,0,0,{"$f":"'Jan-Jun 2024'!BL32","v":0},{"$f":"'Jan-Jun 2024'!BK32+'Jul-Dez 2024'!BK32+'Jan-Jun 2025'!BK32+'Jul-Dez 2025'!BK32","v":0},{"$nulls":3},0,0,0,null,0,0,0,0,0,0,0,{"$f":"'Jan-Jun 2024'!CB32","v":0},{"$f":"'Jan-Jun 2024'!CA32+'Jul-Dez 2024'!CA32+'Jan-Jun 2025'!CA32+'Jul-Dez 2025'!CA32","v":0}]
["21h20 - 22h10",{"$nulls":35},0,0,0,null,0,0,0,0,0,0,0,{"$f":"'Jan-Jun 2024'!AV33","v":0},{"$f":"'Jan-Jun 2024'!AU33+'Jul-Dez 2024'!AU33+'Jan-Jun 2025'!AU33+'Jul-Dez 2025'!AU33","v":0},{"$nulls":3},0,0,0,null,0,0,0,0,0,0,0,{"$f":"'Jan-Jun 2024'!BL33","v":0},{"$f":"'Jan-Jun 2024'!BK33+'Jul-Dez 2024'!BK33+'Jan-Jun 2025'!BK33+'Jul-Dez 2025'!BK33","v":0},{"$nulls":3},0,0,0,null,0,0,0,0,0,0,0,{"$f":"'Jan-Jun 2024'!CB33","v":0},{"$f":"'Jan-Jun 2024'!CA33+'Jul-Dez 2024'!CA33+'Jan-Jun 2025'!CA33+'Jul-Dez 2025'!CA33","v":0}]
["22h10 - 23h00",{"$nulls":33},"M","ELP",0,0,0,50,0,0,0,0,0,0,0,{"$f":"'Jan-Jun 2024'!AV34","v":0},{"$f":"'Jan-Jun 2024'!AU34+'Jul-Dez 2024'!AU34+'Jan-Jun 2025'!AU34+'Jul-Dez 2025'!AU34","v":0},null,"M","IGE",0,0,0,60,0,0,0,0,0,0,0,{"$f":"'Jan-Jun 2024'!BL34","v":0},{"$f":"'Jan-Jun 2024'!BK34+'Jul-Dez 2024'!BK34+'Jan-Jun 2025'!BK34+'Jul-Dez 2025'!BK34","v":0},{"$nulls":3},0,0,0,null,0,0,0,0,0,0,0,{"$f":"'Jan-Jun 2024'!CB34","v":0},{"$f":"'Jan-Jun 2024'!CA34+'Jul-Dez 2024'!CA34+'Jan-Jun 2025'!CA34+'Jul-Dez 2025'!CA34","v":0}]
[{"$nulls":36},0,0,0,null,0,0,0,0,0,0,0,{"$f":"'Jan-Jun 2024'!AV35","v":0},{"$f":"'Jan-Jun 2024'!AU35+'Jul-Dez 2024'!AU35+'Jan-Jun 2025'!AU35+'Jul-Dez 2025'!AU35","v":0},{"$nulls":3},0,0,0,null,0,0,0,0,0,0,0,{"$f":"'Jan-Jun 2024'!BL35","v":0},{"$f":"'Jan-Jun 2024'!BK35+'Jul-Dez 2024'!BK35+'Jan-Jun 2025'!BK35+'Jul-Dez 2025'!BK35","v":0},{"$nulls":3},0,0,0,null,0,0,0,0,0,0,0,{"$f":"'Jan-Jun 2024'!CB35","v":0},{"$f":"'Jan-Jun 2024'!CA35+'Jul-Dez 2024'!CA35+'Jan-Jun 2025'!CA35+'Jul-Dez 2025'!CA35","v":0}]
[{"$f":"A29+DAY(EOMONTH(A29,0))","v":"2025-11-01"},null,{"$f":"IF(C37<>\"\",CHOOSE(WEEKDAY(C37,1),\"Dom.\",\"Seg.\",\"Ter.\",\"Qua.\",\"Qui.\",\"Sex.\",\"Sáb.\"),\"\")","v":"Sáb."},{"$f":"IF(D37<>\"\",CHOOSE(WEEKDAY(D37,1),\"Dom.\",\"Seg.\",\"Ter.\",\"Qua.\",\"Qui.\",\"Sex.\",\"Sáb.\"),\"\")","v":"Dom."},"Seg.","Ter.","Qua.","Qui.","Sex.","Sáb.","Dom.","Seg.","Ter.","Qua.","Qui.","Sex.","Sáb.","Dom.","Seg.","Ter.","Qua.","Qui.","Sex.","Sáb.","Dom.","Seg.","Ter.","Qua.","Qui.","Sex.","Sáb.","Dom.","",{"$nulls":3},0,0,0,null,0,0,0,0,0,0,0,{"$f":"'Jan-Jun 2024'!AV36","v":0},{"$f":"'Jan-Jun 2024'!AU36+'Jul-Dez 2024'!AU36+'Jan-Jun 2025'!AU36+'Jul-Dez 2025'!AU36","v":0},{"$nulls":3},0,0,0,null,0,0,0,0,0,0,0,{"$f":"'Jan-Jun 2024'!BL36","v":0},{"$f":"'Jan-Jun 2024'!BK36+'Jul-Dez 2024'!BK36+'Jan-Jun 2025'!BK36+'Jul-Dez 2025'!BK36","v":0},{"$nulls":3},0,0,0,null,0,0,0,0,0,0,0,{"$f":"'Jan-Jun 2024'!CB36","v":0},{"$f":"'Jan-Jun 2024'!CA36+'Jul-Dez 2024'!CA36+'Jan-Jun 2025'!CA36+'Jul-Dez 2025'!CA36","v":0}]
[null,null,{"$f":"A36","v":"2025-11-01"},{"$f":"IF(C37=\"\",\"\",IF(DAY(C37)<DAY(EOMONTH(C37,0)),C37+1,\"\"))","v":"2025-11-02"},"2025-11-03",{"$f":"IF(E37=\"\",\"\",IF(DAY(E37)<DAY(EOMONTH(E37,0)),E37+1,\"\"))","v":"2025-11-04"},{"$f":"IF(F37=\"\",\"\",IF(DAY(F37)<DAY(EOMONTH(F37,0)),F37+1,\"\"))","v":"2025-11-05"},{"$f":"IF(G37=\"\",\"\",IF(DAY(G37)<DAY(EOMONTH(G37,0)),G37+1,\"\"))","v":"2025-11-06"},{"$f":"IF(H37=\"\",\"\",IF(DAY(H37)<DAY(EOMONTH(H37,0)),H37+1,\"\"))","v":"2025-11-07"},"2025-11-08","2025-11-09","2025-11-10",{"$f":"IF(L37=\"\",\"\",IF(DAY(L37)<DAY(EOMONTH(L37,0)),L37+1,\"\"))","v":"2025-11-11"},{"$f":"IF(M37=\"\",\"\",IF(DAY(M37)<DAY(EOMONTH(M37,0)),M37+1,\"\"))","v":"2025-11-12"},{"$f":"IF(N37=\"\",\"\",IF(DAY(N37)<DAY(EOMONTH(N37,0)),N37+1,\"\"))","v":"2025-11-13"},{"$f":"IF(O37=\"\",\"\",IF(DAY(O37)<DAY(EOMONTH(O37,0)),O37+1,\"\"))","v":"2025-11-14"},"2025-11-15","2025-11-16","2025-11-17",{"$f":"IF(S37=\"\",\"\",IF(DAY(S37)<DAY(EOMONTH(S37,0)),S37+1,\"\"))","v":"2025-11-18"},{"$f":"IF(T37=\"\",\"\",IF(DAY(T37)<DAY(EOMONTH(T37,0)),T37+1,\"\"))","v":"2025-11-19"},{"$f":"IF(U37=\"\",\"\",IF(DAY(U37)<DAY(EOMONTH(U37,0)),U37+1,\"\"))","v":"2025-11-20"},"2025-11-21","2025-11-22","2025-11-23","2025-11-24",{"$f":"IF(Z37=\"\",\"\",IF(DAY(Z37)<DAY(EOMONTH(Z37,0)),Z37+1,\"\"))","v":"2025-11-25"},{"$f":"IF(AA37=\"\",\"\",IF(DAY(AA37)<DAY(EOMONTH(AA37,0)),AA37+1,\"\"))","v":"2025-11-26"},{"$f":"IF(AB37=\"\",\"\",IF(DAY(AB37)<DAY(EOMONTH(AB37,0)),AB37+1,\"\"))","v":"2025-11-27"},{"$f":"IF(AC37=\"\",\"\",IF(DAY(AC37)<DAY(EOMONTH(AC37,0)),AC37+1,\"\"))","v":"2025-11-28"},"2025-11-29","2025-11-30","",{"$nulls":3},0,0,0,null,0,0,0,0,0,0,0,{"$f":"'Jan-Jun 2024'!AV37","v":0},{"$f":"'Jan-Jun 2024'!AU37+'Jul-Dez 2024'!AU37+'Jan-Jun 2025'!AU37+'Jul-Dez 2025'!AU37","v":0},{"$nulls":3},0,0,0,null,0,0,0,0,0,0,0,{"$f":"'Jan-Jun 2024'!BL37","v":0},{"$f":"'Jan-Jun 2024'!BK37+'Jul-Dez 2024'!BK37+'Jan-Jun 2025'!BK37+'Jul-Dez 2025'!BK37","v":0},{"$nulls":3},0,0,0,null,0,0,0,0,0,0,0,{"$f":"'Jan-Jun 2024'!CB37","v":0},{"$f":"'Jan-Jun 2024'!CA37+'Jul-Dez 2024'!CA37+'Jan-Jun 2025'!CA37+'Jul-Dez 2025'!CA37","v":0}]
["19h20 - 20h10",{"$nulls":33},"M","MM",0,0,0,50,0,0,0,0,0,0,0,{"$f":"'Jan-Jun 2024'!AV38","v":0},{"$f":"'Jan-Jun 2024'!AU38+'Jul-Dez 2024'!AU38+'Jan-Jun 2025'!AU38+'Jul-Dez 2025'!AU38","v":0},{"$nulls":3},0,0,0,null,0,0,0,0,0,0,0,{"$f":"'Jan-Jun 2024'!BL38","v":0},{"$f":"'Jan-Jun 2024'!BK38+'Jul-Dez 2024'!BK38+'Jan-Jun 2025'!BK38+'Jul-Dez 2025'!BK38","v":0},{"$nulls":3},0,0,0,null,0,0,0,0,0,0,0,{"$f":"'Jan-Jun 2024'!CB38","v":0},{"$f":"'Jan-Jun 2024'!CA38+'Jul-Dez 2024'!CA38+'Jan-Jun 2025'!CA38+'Jul-Dez 2025'!CA38","v":0}]
["20h10 - 21h00",null,"Todos",{"$nulls":9},"São",{"$nulls":21},"M","ROB",0,0,0,50,0,0,0,0,0,0,0,{"$f":"'Jan-Jun 2024'!AV39","v":0},{"$f":"'Jan-Jun 2024'!AU39+'Jul-Dez 2024'!AU39+'Jan-Jun 2025'!AU39+'Jul-Dez 2025'!AU39","v":0},{"$nulls":3},0,0,0,null,0,0,0,0,0,0,0,{"$f":"'Jan-Jun 2024'!BL39","v":0},{"$f":"'Jan-Jun 2024'!BK39+'Jul-Dez 2024'!BK39+'Jan-Jun 2025'!BK39+'Jul-Dez 2025'!BK39","v":0},{"$nulls":3},0,0,0,null,0,0,0,0,0,0,0,{"$f":"'Jan-Jun 2024'!CB39","v":0},{"$f":"'Jan-Jun 2024'!CA39+'Jul-Dez 2024'!CA39+'Jan-Jun 2025'!CA39+'Jul-Dez 2025'!CA39","v":0}]
["21h20 - 22h10",null,"Santos",{"$nulls":9},"Marti.",{"$nulls":23},0,0,0,null,0,0,0,0,0,0,0,{"$f":"'Jan-Jun 2024'!AV40","v":0},{"$f":"'Jan-Jun 2024'!AU40+'Jul-Dez 2024'!AU40+'Jan-Jun 2025'!AU40+'Jul-Dez 2025'!AU40","v":0},{"$nulls":3},0,0,0,null,0,0,0,0,0,0,0,{"$f":"'Jan-Jun 2024'!BL40","v":0},{"$f":"'Jan-Jun 2024'!BK40+'Jul-Dez 2024'!BK40+'Jan-Jun 2025'!BK40+'Jul-Dez 2025'!BK40","v":0},{"$nulls":3},0,0,0,null,0,0,0,0,0,0,0,{"$f":"'Jan-Jun 2024'!CB40","v":0},{"$f":"'Jan-Jun 2024'!CA40+'Jul-Dez 2024'!CA40+'Jan-Jun 2025'!CA40+'Jul-Dez 2025'!CA40","v":0}]
["22h10 - 23h00",{"$nulls":35},0,0,0,null,0,0,0,0,0,0,0,{"$f":"'Jan-Jun 2024'!AV41","v":0},{"$f":"'Jan-Jun 2024'!AU41+'Jul-Dez 2024'!AU41+'Jan-Jun 2025'!AU41+'Jul-Dez 2025'!AU41","v":0},{"$nulls":3},0,0,0,null,0,0,0,0,0,0,0,{"$f":"'Jan-Jun 2024'!BL41","v":0},{"$f":"'Jan-Jun 2024'!BK41+'Jul-Dez 2024'!BK41+'Jan-Jun 2025'!BK41+'Jul-Dez 2025'!BK41","v":0},{"$nulls":3},0,0,0,null,0,0,0,0,0,0,0,{"$f":"'Jan-Jun 2024'!CB41","v":0},{"$f":"'Jan-Jun 2024'!CA41+'Jul-Dez 2024'!CA41+'Jan-Jun 2025'!CA41+'Jul-Dez 2025'!CA41","v":0}]
[{"$nulls":36},0,0,0,null,0,0,0,0,0,0,0,{"$f":"'Jan-Jun 2024'!AV42","v":0},{"$f":"'Jan-Jun 2024'!AU42+'Jul-Dez 2024'!AU42+'Jan-Jun 2025'!AU42+'Jul-Dez 2025'!AU42","v":0},{"$nulls":3},0,0,0,null,0,0,0,0,0,0,0,{"$f":"'Jan-Jun 2024'!BL42","v":0},{"$f":"'Jan-Jun 2024'!BK42+'Jul-Dez 2024'!BK42+'Jan-Jun 2025'!BK42+'Jul-Dez 2025'!BK42","v":0},{"$nulls":3},0,0,0,null,0,0,0,0,0,0,0,{"$f":"'Jan-Jun 2024'!CB42","v":0},{"$f":"'Jan-Jun 2024'!CA42+'Jul-Dez 2024'!CA42+'Jan-Jun 2025'!CA42+'Jul-Dez 2025'!CA42","v":0}]
[{"$f":"A36+DAY(EOMONTH(A36,0))","v":"2025-12-01"},null,{"$f":"IF(C44<>\"\",CHOOSE(WEEKDAY(C44,1),\"Dom.\",\"Seg.\",\"Ter.\",\"Qua.\",\"Qui.\",\"Sex.\",\"Sáb.\"),\"\")","v":"Seg."},{"$f":"IF(D44<>\"\",CHOOSE(WEEKDAY(D44,1),\"Dom.\",\"Seg.\",\"Ter.\",\"Qua.\",\"Qui.\",\"Sex.\",\"Sáb.\"),\"\")","v":"Ter."},"Qua.","Qui.","Sex.","Sáb.","Dom.","Seg.","Ter.","Qua.","Qui.","Sex.","Sáb.","Dom.","Seg.","Ter.","Qua.","Qui.","Sex.","Sáb.","Dom.","Seg.","Ter.","Qua.","Qui.","Sex.","Sáb.","Dom.","Seg.","Ter.","Qua.",null,"T","MET",0,0,0,50,0,0,0,0,0,0,0,{"$f":"'Jan-Jun 2024'!AV43","v":0},{"$f":"'Jan-Jun 2024'!AU43+'Jul-Dez 2024'!AU43+'Jan-Jun 2025'!AU43+'Jul-Dez 2025'!AU43","v":0},{"$nulls":3},0,0,0,null,0,0,0,0,0,0,0,{"$f":"'Jan-Jun 2024'!BL43","v":0},{"$f":"'Jan-Jun 2024'!BK43+'Jul-Dez 2024'!BK43+'Jan-Jun 2025'!BK43+'Jul-Dez 2025'!BK43","v":0},{"$nulls":3},0,0,0,null,0,0,0,0,0,0,0,{"$f":"'Jan-Jun 2024'!CB43","v":0},{"$f":"'Jan-Jun 2024'!CA43+'Jul-Dez 2024'!CA43+'Jan-Jun 2025'!CA43+'Jul-Dez 2025'!CA43","v":0}]
[null,null,{"$f":"A43","v":"2025-12-01"},{"$f":"IF(C44=\"\",\"\",IF(DAY(C44)<DAY(EOMONTH(C44,0)),C44+1,\"\"))","v":"2025-12-02"},{"$f":"IF(D44=\"\",\"\",IF(DAY(D44)<DAY(EOMONTH(D44,0)),D44+1,\"\"))","v":"2025-12-03"},{"$f":"IF(E44=\"\",\"\",IF(DAY(E44)<DAY(EOMONTH(E44,0)),E44+1,\"\"))","v":"2025-12-04"},"2025-12-05","2025-12-06","2025-12-07",{"$f":"IF(I44=\"\",\"\",IF(DAY(I44)<DAY(EOMONTH(I44,0)),I44+1,\"\"))","v":"2025-12-08"},{"$f":"IF(J44=\"\",\"\",IF(DAY(J44)<DAY(EOMONTH(J44,0)),J44+1,\"\"))","v":"2025-12-09"},"2025-12-10",{"$f":"IF(L44=\"\",\"\",IF(DAY(L44)<DAY(EOMONTH(L44,0)),L44+1,\"\"))","v":"2025-12-11"},"2025-12-12","2025-12-13","2025-12-14",{"$f":"IF(P44=\"\",\"\",IF(DAY(P44)<DAY(EOMONTH(P44,0)),P44+1,\"\"))","v":"2025-12-15"},{"$f":"IF(Q44=\"\",\"\",IF(DAY(Q44)<DAY(EOMONTH(Q44,0)),Q44+1,\"\"))","v":"2025-12-16"},{"$f":"IF(R44=\"\",\"\",IF(DAY(R44)<DAY(EOMONTH(R44,0)),R44+1,\"\"))","v":"2025-12-17"},{"$f":"IF(S44=\"\",\"\",IF(DAY(S44)<DAY(EOMONTH(S44,0)),S44+1,\"\"))","v":"2025-12-18"},"2025-12-19","2025-12-20","2025-12-21",{"$f":"IF(W44=\"\",\"\",IF(DAY(W44)<DAY(EOMONTH(W44,0)),W44+1,\"\"))","v":"2025-12-22"},{"$f":"IF(X44=\"\",\"\",IF(DAY(X44)<DAY(EOMONTH(X44,0)),X44+1,\"\"))","v":"2025-12-23"},{"$f":"IF(Y44=\"\",\"\",IF(DAY(Y44)<DAY(EOMONTH(Y44,0)),Y44+1,\"\"))","v":"2025-12-24"},{"$f":"IF(Z44=\"\",\"\",IF(DAY(Z44)<DAY(EOMONTH(Z44,0)),Z44+1,\"\"))","v":"2025-12-25"},"2025-12-26","2025-12-27","2025-12-28",{"$f":"IF(AD44=\"\",\"\",IF(DAY(AD44)<DAY(EOMONTH(AD44,0)),AD44+1,\"\"))","v":"2025-12-29"},{"$f":"IF(AE44=\"\",\"\",IF(DAY(AE44)<DAY(EOMONTH(AE44,0)),AE44+1,\"\"))","v":"2025-12-30"},"2025-12-31",null,"P","MET1",0,0,0,26,0,0,0,0,0,0,0,{"$f":"'Jan-Jun 2024'!AV44","v":0},{"$f":"'Jan-Jun 2024'!AU44+'Jul-Dez 2024'!AU44+'Jan-Jun 2025'!AU44+'Jul-Dez 2025'!AU44","v":0},{"$nulls":3},0,0,0,null,0,0,0,0,0,0,0,{"$f":"'Jan-Jun 2024'!BL44","v":0},{"$f":"'Jan-Jun 2024'!BK44+'Jul-Dez 2024'!BK44+'Jan-Jun 2025'!BK44+'Jul-Dez 2025'!BK44","v":0},{"$nulls":3},0,0,0,null,0,0,0,0,0,0,0,{"$f":"'Jan-Jun 2024'!CB44","v":0},{"$f":"'Jan-Jun 2024'!CA44+'Jul-Dez 2024'!CA44+'Jan-Jun 2025'!CA44+'Jul-Dez 2025'!CA44","v":0}]
["19h20 - 20h10",{"$nulls":33},"P","MET2",0,0,0,24,0,0,0,0,0,0,0,{"$f":"'Jan-Jun 2024'!AV45","v":0},{"$f":"'Jan-Jun 2024'!AU45+'Jul-Dez 2024'!AU45+'Jan-Jun 2025'!AU45+'Jul-Dez 2025'!AU45","v":0},{"$nulls":3},0,0,0,null,0,0,0,0,0,0,0,{"$f":"'Jan-Jun 2024'!BL45","v":0},{"$f":"'Jan-Jun 2024'!BK45+'Jul-Dez 2024'!BK45+'Jan-Jun 2025'!BK45+'Jul-Dez 2025'!BK45","v":0},{"$nulls":3},0,0,0,null,0,0,0,0,0,0,0,{"$f":"'Jan-Jun 2024'!CB45","v":0},{"$f":"'Jan-Jun 2024'!CA45+'Jul-Dez 2024'!CA45+'Jan-Jun 2025'!CA45+'Jul-Dez 2025'!CA45","v":0}]
["20h10 - 21h00",null,"Rest.",{"$nulls":6},"Imacu.",{"$nulls":16},"Natal",{"$nulls":7},"P","MET3",0,0,0,0,0,0,0,0,0,0,0,{"$f":"'Jan-Jun 2024'!AV46","v":0},{"$f":"'Jan-Jun 2024'!AU46+'Jul-Dez 2024'!AU46+'Jan-Jun 2025'!AU46+'Jul-Dez 2025'!AU46","v":0},{"$nulls":3},0,0,0,null,0,0,0,0,0,0,0,{"$f":"'Jan-Jun 2024'!BL46","v":0},{"$f":"'Jan-Jun 2024'!BK46+'Jul-Dez 2024'!BK46+'Jan-Jun 2025'!BK46+'Jul-Dez 2025'!BK46","v":0},{"$nulls":3},0,0,{"$f":"IF(BO46=$DI$8,BR46,IF(BO46=$DI$9,BS47+BR46,IF(BO46=$DI$10,IF(BO47=$DI$10,BS47+BR46,BR46),)))","v":0},null,0,0,0,0,0,0,0,{"$f":"'Jan-Jun 2024'!CB46","v":0},{"$f":"'Jan-Jun 2024'!CA46+'Jul-Dez 2024'!CA46+'Jan-Jun 2025'!CA46+'Jul-Dez 2025'!CA46","v":0}]
["21h20 - 22h10",null,"Indep.",{"$nulls":6},"Concei.",{"$nulls":26},0,0,0,null,0,0,0,0,0,0,0,{"$f":"'Jan-Jun 2024'!AV47","v":0},{"$f":"'Jan-Jun 2024'!AU47+'Jul-Dez 2024'!AU47+'Jan-Jun 2025'!AU47+'Jul-Dez 2025'!AU47","v":0},{"$nulls":3},0,0,0,null,0,0,0,0,0,0,0,{"$f":"'Jan-Jun 2024'!BL47","v":0},{"$f":"'Jan-Jun 2024'!BK47+'Jul-Dez 2024'!BK47+'Jan-Jun 2025'!BK47+'Jul-Dez 2025'!BK47","v":0},{"$nulls":3},0,0,0,null,0,0,0,0,0,0,0,{"$f":"'Jan-Jun 2024'!CB47","v":0},{"$f":"'Jan-Jun 2024'!CA47+'Jul-Dez 2024'!CA47+'Jan-Jun 2025'!CA47+'Jul-Dez 2025'!CA47","v":0}]
["22h10 - 23h00",{"$nulls":35},0,0,0,null,0,0,0,0,0,0,0,{"$f":"'Jan-Jun 2024'!AV48","v":0},{"$f":"'Jan-Jun 2024'!AU48+'Jul-Dez 2024'!AU48+'Jan-Jun 2025'!AU48+'Jul-Dez 2025'!AU48","v":0},{"$nulls":3},0,0,0,null,0,0,0,0,0,0,0,{"$f":"'Jan-Jun 2024'!BL48","v":0},{"$f":"'Jan-Jun 2024'!BK48+'Jul-Dez 2024'!BK48+'Jan-Jun 2025'!BK48+'Jul-Dez 2025'!BK48","v":0},{"$nulls":3},0,0,0,null,0,0,0,0,0,0,0,{"$f":"'Jan-Jun 2024'!CB48","v":0},{"$f":"'Jan-Jun 2024'!CA48+'Jul-Dez 2024'!CA48+'Jan-Jun 2025'!CA48+'Jul-Dez 2025'!CA48","v":0}]
[null,"UFCD","Módulo",{"$nulls":6},"Cód.","H","Formador",null,null,"Ini.","Fim",null,"Componente",null,null,"Módulo",{"$nulls":6},"H","Formador",null,null,"Ini.","Fim",null,"M","CNC",0,0,0,50,0,0,0,0,0,0,0,{"$f":"'Jan-Jun 2024'!AV49","v":0},{"$f":"'Jan-Jun 2024'!AU49+'Jul-Dez 2024'!AU49+'Jan-Jun 2025'!AU49+'Jul-Dez 2025'!AU49","v":0},{"$nulls":3},0,0,0,null,0,0,0,0,0,0,0,{"$f":"'Jan-Jun 2024'!BL49","v":0},{"$f":"'Jan-Jun 2024'!BK49+'Jul-Dez 2024'!BK49+'Jan-Jun 2025'!BK49+'Jul-Dez 2025'!BK49","v":0},{"$nulls":3},0,0,0,null,0,0,0,0,0,0,0,{"$f":"'Jan-Jun 2024'!CB49","v":0},{"$f":"'Jan-Jun 2024'!CA49+'Jul-Dez 2024'!CA49+'Jan-Jun 2025'!CA49+'Jul-Dez 2025'!CA49","v":0}]
["Formação Geral e Científica\n",5146,"IGO","Introdução à Gestão das Organizações",{"$nulls":5},"B153",25,"Filipa Norte",{"$nulls":5},"Formação Tecnologica",6407,"PFL","Processos de Fundição / Ligação",{"$nulls":5},"D333",25,"Pedro Santos",{"$nulls":5},"M","CAM",0,0,0,50,0,0,0,0,0,0,0,{"$f":"'Jan-Jun 2024'!AV50","v":0},{"$f":"'Jan-Jun 2024'!AU50+'Jul-Dez 2024'!AU50+'Jan-Jun 2025'!AU50+'Jul-Dez 2025'!AU50","v":0},{"$nulls":3},0,0,0,null,0,0,0,0,0,0,0,{"$f":"'Jan-Jun 2024'!BL50","v":0},{"$f":"'Jan-Jun 2024'!BK50+'Jul-Dez 2024'!BK50+'Jan-Jun 2025'!BK50+'Jul-Dez 2025'!BK50","v":0},{"$nulls":3},0,0,0,null,0,0,0,0,0,0,0,{"$f":"'Jan-Jun 2024'!CB50","v":0},{"$f":"'Jan-Jun 2024'!CA50+'Jul-Dez 2024'!CA50+'Jan-Jun 2025'!CA50+'Jul-Dez 2025'!CA50","v":0}]
[null,5152,"GMQ","Gestão e Motivação para a Qualidade",{"$nulls":5},"B155",25,"Luís Ferreira",{"$nulls":6},6408,"PCC","Processos de Conformação / Corte",{"$nulls":5},"D334",25,"Pedro Santos",{"$nulls":5},"M","PAC",0,0,0,50,0,0,0,0,0,0,0,{"$f":"'Jan-Jun 2024'!AV51","v":0},{"$f":"'Jan-Jun 2024'!AU51+'Jul-Dez 2024'!AU51+'Jan-Jun 2025'!AU51+'Jul-Dez 2025'!AU51","v":0},{"$nulls":3},0,0,0,null,0,0,0,0,0,0,0,{"$f":"'Jan-Jun 2024'!BL51","v":0},{"$f":"'Jan-Jun 2024'!BK51+'Jul-Dez 2024'!BK51+'Jan-Jun 2025'!BK51+'Jul-Dez 2025'!BK51","v":0},{"$nulls":3},0,0,0,null,0,0,0,0,0,0,0,{"$f":"'Jan-Jun 2024'!CB51","v":0},{"$f":"'Jan-Jun 2024'!CA51+'Jul-Dez 2024'!CA51+'Jan-Jun 2025'!CA51+'Jul-Dez 2025'!CA51","v":0}]
[null,5149,"SGQ","Sistama de Gestão da Qualidade ISO 9001",{"$nulls":5},"F369",25,"Luís Ferreira",{"$nulls":6},6409,"PAA","Processos por Arranque de Apara",{"$nulls":5},"C588",25,"Miguel Franco",{"$nulls":7},0,0,0,null,0,0,0,0,0,0,0,{"$f":"'Jan-Jun 2024'!AV52","v":0},{"$f":"'Jan-Jun 2024'!AU52+'Jul-Dez 2024'!AU52+'Jan-Jun 2025'!AU52+'Jul-Dez 2025'!AU52","v":0},{"$nulls":3},0,0,0,null,0,0,0,0,0,0,0,{"$f":"'Jan-Jun 2024'!BL52","v":0},{"$f":"'Jan-Jun 2024'!BK52+'Jul-Dez 2024'!BK52+'Jan-Jun 2025'!BK52+'Jul-Dez 2025'!BK52","v":0},{"$nulls":3},0,0,0,null,0,0,0,0,0,0,0,{"$f":"'Jan-Jun 2024'!CB52","v":0},{"$f":"'Jan-Jun 2024'!CA52+'Jul-Dez 2024'!CA52+'Jan-Jun 2025'!CA52+'Jul-Dez 2025'!CA52","v":0}]
[null,349,"ASHST","Ambiente, Segurança, Higiene e Saúde no Trabalho",{"$nulls":5},"F423",25,"António Maltez",{"$nulls":6},6410,"IME","Instalação de Máquinas Elétricas",{"$nulls":5},"K252",50,"Emanuel Serrano",{"$nulls":7},0,0,0,null,0,0,0,0,0,0,0,{"$f":"'Jan-Jun 2024'!AV53","v":0},{"$f":"'Jan-Jun 2024'!AU53+'Jul-Dez 2024'!AU53+'Jan-Jun 2025'!AU53+'Jul-Dez 2025'!AU53","v":0},{"$nulls":3},0,0,0,null,0,0,0,0,0,0,0,{"$f":"'Jan-Jun 2024'!BL53","v":0},{"$f":"'Jan-Jun 2024'!BK53+'Jul-Dez 2024'!BK53+'Jan-Jun 2025'!BK53+'Jul-Dez 2025'!BK53","v":0},{"$nulls":3},0,0,0,null,0,0,0,0,0,0,0,{"$f":"'Jan-Jun 2024'!CB53","v":0},{"$f":"'Jan-Jun 2024'!CA53+'Jul-Dez 2024'!CA53+'Jan-Jun 2025'!CA53+'Jul-Dez 2025'!CA53","v":0}]
[null,5653,"DT","Direito do Trabalho",{"$nulls":5},"B154",25,"Natasha Esteves",{"$nulls":6},6411,"ELE","Eletrónica",{"$nulls":5},"K253",50,"Marco Martinho",{"$nulls":7},0,0,0,null,0,0,0,0,0,0,0,{"$f":"'Jan-Jun 2024'!AV54","v":0},{"$f":"'Jan-Jun 2024'!AU54+'Jul-Dez 2024'!AU54+'Jan-Jun 2025'!AU54+'Jul-Dez 2025'!AU54","v":0},{"$nulls":3},0,0,0,null,0,0,0,0,0,0,0,{"$f":"'Jan-Jun 2024'!BL54","v":0},{"$f":"'Jan-Jun 2024'!BK54+'Jul-Dez 2024'!BK54+'Jan-Jun 2025'!BK54+'Jul-Dez 2025'!BK54","v":0},{"$nulls":3},0,0,0,null,0,0,0,0,0,0,0,{"$f":"'Jan-Jun 2024'!CB54","v":0},{"$f":"'Jan-Jun 2024'!CA54+'Jul-Dez 2024'!CA54+'Jan-Jun 2025'!CA54+'Jul-Dez 2025'!CA54","v":0}]
[null,5768,"ICS","Inglês em Contexto Socioprofissional",{"$nulls":5},"L046",25,"Helena Abelho",{"$nulls":6},6412,"CP","Circuitos Pneumáticos",{"$nulls":5},"E329",25,"Vítor Caetano",{"$nulls":7},0,0,0,null,0,0,0,0,0,0,0,{"$f":"'Jan-Jun 2024'!AV55","v":0},{"$f":"'Jan-Jun 2024'!AU55+'Jul-Dez 2024'!AU55+'Jan-Jun 2025'!AU55+'Jul-Dez 2025'!AU55","v":0},{"$nulls":3},0,0,0,null,0,0,0,0,0,0,0,{"$f":"'Jan-Jun 2024'!BL55","v":0},{"$f":"'Jan-Jun 2024'!BK55+'Jul-Dez 2024'!BK55+'Jan-Jun 2025'!BK55+'Jul-Dez 2025'!BK55","v":0},{"$nulls":3},0,0,0,null,0,0,0,0,0,0,0,{"$f":"'Jan-Jun 2024'!CB55","v":0},{"$f":"'Jan-Jun 2024'!CA55+'Jul-Dez 2024'!CA55+'Jan-Jun 2025'!CA55+'Jul-Dez 2025'!CA55","v":0}]
[{"$nulls":18},6413,"CH","Circuitos Óleo-Hidráulicos",{"$nulls":5},"E330",25,"Vítor Caetano",{"$nulls":7},0,0,0,null,0,0,0,0,0,0,0,{"$f":"'Jan-Jun 2024'!AV56","v":0},{"$f":"'Jan-Jun 2024'!AU56+'Jul-Dez 2024'!AU56+'Jan-Jun 2025'!AU56+'Jul-Dez 2025'!AU56","v":0},{"$nulls":3},0,0,0,null,0,0,0,0,0,0,0,{"$f":"'Jan-Jun 2024'!BL56","v":0},{"$f":"'Jan-Jun 2024'!BK56+'Jul-Dez 2024'!BK56+'Jan-Jun 2025'!BK56+'Jul-Dez 2025'!BK56","v":0},{"$nulls":3},0,0,0,null,0,0,0,0,0,0,0,{"$f":"'Jan-Jun 2024'!CB56","v":0},{"$f":"'Jan-Jun 2024'!CA56+'Jul-Dez 2024'!CA56+'Jan-Jun 2025'!CA56+'Jul-Dez 2025'!CA56","v":0}]
[{"$nulls":18},6414,"CLP","Controladores Lógicos Programáveis",{"$nulls":5},"C589",50,"Rafael Matos",{"$nulls":7},0,0,0,null,0,0,0,0,0,0,0,{"$f":"'Jan-Jun 2024'!AV57","v":0},{"$f":"'Jan-Jun 2024'!AU57+'Jul-Dez 2024'!AU57+'Jan-Jun 2025'!AU57+'Jul-Dez 2025'!AU57","v":0},{"$nulls":3},0,0,0,null,0,0,0,0,0,0,0,{"$f":"'Jan-Jun 2024'!BL57","v":0},{"$f":"'Jan-Jun 2024'!BK57+'Jul-Dez 2024'!BK57+'Jan-Jun 2025'!BK57+'Jul-Dez 2025'!BK57","v":0},{"$nulls":3},0,0,0,null,0,0,0,0,0,0,0,{"$f":"'Jan-Jun 2024'!CB57","v":0},{"$f":"'Jan-Jun 2024'!CA57+'Jul-Dez 2024'!CA57+'Jan-Jun 2025'!CA57+'Jul-Dez 2025'!CA57","v":0}]
[{"$nulls":18},6415,"DCM","Desenho de Construções Mecânicas",{"$nulls":5},"A438",50,"Luís Carvalho",{"$nulls":7},0,0,0,null,0,0,0,0,0,0,0,{"$f":"'Jan-Jun 2024'!AV58","v":0},{"$f":"'Jan-Jun 2024'!AU58+'Jul-Dez 2024'!AU58+'Jan-Jun 2025'!AU58+'Jul-Dez 2025'!AU58","v":0},{"$nulls":3},0,0,0,null,0,0,0,0,0,0,0,{"$f":"'Jan-Jun 2024'!BL58","v":0},{"$f":"'Jan-Jun 2024'!BK58+'Jul-Dez 2024'!BK58+'Jan-Jun 2025'!BK58+'Jul-Dez 2025'!BK58","v":0},{"$nulls":3},0,0,0,null,0,0,0,0,0,0,0,{"$f":"'Jan-Jun 2024'!CB58","v":0},{"$f":"'Jan-Jun 2024'!CA58+'Jul-Dez 2024'!CA58+'Jan-Jun 2025'!CA58+'Jul-Dez 2025'!CA58","v":0}]
[{"$nulls":18},6416,"CM","Ciência dos Materiais",{"$nulls":5},"C590",50,"Luís Carvalho",{"$nulls":5},"M","APF",0,0,0,25,0,0,0,0,0,0,0,{"$f":"'Jan-Jun 2024'!AV59","v":0},{"$f":"'Jan-Jun 2024'!AU59+'Jul-Dez 2024'!AU59+'Jan-Jun 2025'!AU59+'Jul-Dez 2025'!AU59","v":0},{"$nulls":3},0,0,0,null,0,0,0,0,0,0,0,{"$f":"'Jan-Jun 2024'!BL59","v":0},{"$f":"'Jan-Jun 2024'!BK59+'Jul-Dez 2024'!BK59+'Jan-Jun 2025'!BK59+'Jul-Dez 2025'!BK59","v":0},{"$nulls":3},0,0,0,null,0,0,0,0,0,0,0,{"$f":"'Jan-Jun 2024'!CB59","v":0},{"$f":"'Jan-Jun 2024'!CA59+'Jul-Dez 2024'!CA59+'Jan-Jun 2025'!CA59+'Jul-Dez 2025'!CA59","v":0}]
[{"$nulls":18},6417,"SD","Sistemas Digitais",{"$nulls":5},"I159",50,"Rafael Matos",{"$nulls":7},0,0,0,null,0,0,0,0,0,0,0,{"$f":"'Jan-Jun 2024'!AV60","v":0},{"$f":"'Jan-Jun 2024'!AU60+'Jul-Dez 2024'!AU60+'Jan-Jun 2025'!AU60+'Jul-Dez 2025'!AU60","v":0},{"$nulls":3},0,0,0,null,0,0,0,0,0,0,0,{"$f":"'Jan-Jun 2024'!BL60","v":0},{"$f":"'Jan-Jun 2024'!BK60+'Jul-Dez 2024'!BK60+'Jan-Jun 2025'!BK60+'Jul-Dez 2025'!BK60","v":0},{"$nulls":3},0,0,0,null,0,0,0,0,0,0,0,{"$f":"'Jan-Jun 2024'!CB60","v":0},{"$f":"'Jan-Jun 2024'!CA60+'Jul-Dez 2024'!CA60+'Jan-Jun 2025'!CA60+'Jul-Dez 2025'!CA60","v":0}]
[{"$nulls":18},6418,"OEM","Órgãos e Elementos de Máquinas",{"$nulls":5},"C591",50,"Luís Carvalho",{"$nulls":7},0,0,0,null,0,0,0,0,0,0,0,{"$f":"'Jan-Jun 2024'!AV61","v":0},{"$f":"'Jan-Jun 2024'!AU61+'Jul-Dez 2024'!AU61+'Jan-Jun 2025'!AU61+'Jul-Dez 2025'!AU61","v":0},{"$nulls":3},0,0,0,null,0,0,0,0,0,0,0,{"$f":"'Jan-Jun 2024'!BL61","v":0},{"$f":"'Jan-Jun 2024'!BK61+'Jul-Dez 2024'!BK61+'Jan-Jun 2025'!BK61+'Jul-Dez 2025'!BK61","v":0},{"$nulls":3},0,0,0,null,0,0,0,0,0,0,0,{"$f":"'Jan-Jun 2024'!CB61","v":0},{"$f":"'Jan-Jun 2024'!CA61+'Jul-Dez 2024'!CA61+'Jan-Jun 2025'!CA61+'Jul-Dez 2025'!CA61","v":0}]
[null,null,"EG","Eletricidade Geral",{"$nulls":5},"K264",50,"Rafael Matos",{"$nulls":6},6419,"IP","Introdução à Programação",{"$nulls":5},"I160",50,"Vítor Caetano",{"$nulls":7},0,0,0,null,0,0,0,0,0,0,0,{"$f":"'Jan-Jun 2024'!AV62","v":0},{"$f":"'Jan-Jun 2024'!AU62+'Jul-Dez 2024'!AU62+'Jan-Jun 2025'!AU62+'Jul-Dez 2025'!AU62","v":0},{"$nulls":3},0,0,0,null,0,0,0,0,0,0,0,{"$f":"'Jan-Jun 2024'!BL62","v":0},{"$f":"'Jan-Jun 2024'!BK62+'Jul-Dez 2024'!BK62+'Jan-Jun 2025'!BK62+'Jul-Dez 2025'!BK62","v":0},{"$nulls":3},0,0,0,null,0,0,0,0,0,0,0,{"$f":"'Jan-Jun 2024'!CB62","v":0},{"$f":"'Jan-Jun 2024'!CA62+'Jul-Dez 2024'!CA62+'Jan-Jun 2025'!CA62+'Jul-Dez 2025'!CA62","v":0}]
[{"$nulls":18},6420,"ELP","Eletrónica de Potência - Fundamentos",{"$nulls":5},"K254",50,"Marco Martinho",{"$nulls":7},0,0,0,null,0,0,0,0,0,0,0,{"$f":"'Jan-Jun 2024'!AV63","v":0},{"$f":"'Jan-Jun 2024'!AU63+'Jul-Dez 2024'!AU63+'Jan-Jun 2025'!AU63+'Jul-Dez 2025'!AU63","v":0},{"$nulls":3},0,0,0,null,0,0,0,0,0,0,0,{"$f":"'Jan-Jun 2024'!BL63","v":0},{"$f":"'Jan-Jun 2024'!BK63+'Jul-Dez 2024'!BK63+'Jan-Jun 2025'!BK63+'Jul-Dez 2025'!BK63","v":0},{"$nulls":3},0,0,0,null,0,0,0,0,0,0,0,{"$f":"'Jan-Jun 2024'!CB63","v":0},{"$f":"'Jan-Jun 2024'!CA63+'Jul-Dez 2024'!CA63+'Jan-Jun 2025'!CA63+'Jul-Dez 2025'!CA63","v":0}]
[null,null,"IGE","Inteligência Emocional e Gestão Emocional",{"$nulls":6},60,"Marta Leal",{"$nulls":6},6421,"MM","Microprocessadores / Microcontroladores",{"$nulls":5},"I161",50,"Marco Martinho",{"$nulls":7},0,0,0,null,0,0,0,0,0,0,0,{"$f":"'Jan-Jun 2024'!AV64","v":0},{"$f":"'Jan-Jun 2024'!AU64+'Jul-Dez 2024'!AU64+'Jan-Jun 2025'!AU64+'Jul-Dez 2025'!AU64","v":0},{"$nulls":3},0,0,0,null,0,0,0,0,0,0,0,{"$f":"'Jan-Jun 2024'!BL64","v":0},{"$f":"'Jan-Jun 2024'!BK64+'Jul-Dez 2024'!BK64+'Jan-Jun 2025'!BK64+'Jul-Dez 2025'!BK64","v":0},{"$nulls":3},0,0,0,null,0,0,0,0,0,0,0,{"$f":"'Jan-Jun 2024'!CB64","v":0},{"$f":"'Jan-Jun 2024'!CA64+'Jul-Dez 2024'!CA64+'Jan-Jun 2025'!CA64+'Jul-Dez 2025'!CA64","v":0}]
[{"$nulls":18},5134,"ROB","Robótica - Fundamentos",{"$nulls":5},"E331",50,"Marco Martinho",{"$nulls":7},0,0,0,null,0,0,0,0,0,0,0,{"$f":"'Jan-Jun 2024'!AV65","v":0},{"$f":"'Jan-Jun 2024'!AU65+'Jul-Dez 2024'!AU65+'Jan-Jun 2025'!AU65+'Jul-Dez 2025'!AU65","v":0},{"$nulls":3},0,0,0,null,0,0,0,0,0,0,0,{"$f":"'Jan-Jun 2024'!BL65","v":0},{"$f":"'Jan-Jun 2024'!BK65+'Jul-Dez 2024'!BK65+'Jan-Jun 2025'!BK65+'Jul-Dez 2025'!BK65","v":0},{"$nulls":3},0,0,0,null,0,0,0,0,0,0,0,{"$f":"'Jan-Jun 2024'!CB65","v":0},{"$f":"'Jan-Jun 2024'!CA65+'Jul-Dez 2024'!CA65+'Jan-Jun 2025'!CA65+'Jul-Dez 2025'!CA65","v":0}]
[{"$nulls":18},6422,"MET","Metrologia por Coordenadas",{"$nulls":5},"C592",50,"Miguel Franco",{"$nulls":7},0,0,0,null,0,0,0,0,0,0,0,{"$f":"'Jan-Jun 2024'!AV66","v":0},{"$f":"'Jan-Jun 2024'!AU66+'Jul-Dez 2024'!AU66+'Jan-Jun 2025'!AU66+'Jul-Dez 2025'!AU66","v":0},{"$nulls":3},0,0,0,null,0,0,0,0,0,0,0,{"$f":"'Jan-Jun 2024'!BL66","v":0},{"$f":"'Jan-Jun 2024'!BK66+'Jul-Dez 2024'!BK66+'Jan-Jun 2025'!BK66+'Jul-Dez 2025'!BK66","v":0},{"$nulls":3},0,0,0,null,0,0,0,0,0,0,0,{"$f":"'Jan-Jun 2024'!CB66","v":0},{"$f":"'Jan-Jun 2024'!CA66+'Jul-Dez 2024'!CA66+'Jan-Jun 2025'!CA66+'Jul-Dez 2025'!CA66","v":0}]
[{"$nulls":18},6423,"CNC","CNC - Comando Numérico por Computador",{"$nulls":5},"C593",50,"Miguel Paulo",{"$nulls":7},0,0,0,null,0,0,0,0,0,0,0,{"$f":"'Jan-Jun 2024'!AV67","v":0},{"$f":"'Jan-Jun 2024'!AU67+'Jul-Dez 2024'!AU67+'Jan-Jun 2025'!AU67+'Jul-Dez 2025'!AU67","v":0},{"$nulls":3},0,0,0,null,0,0,0,0,0,0,0,{"$f":"'Jan-Jun 2024'!BL67","v":0},{"$f":"'Jan-Jun 2024'!BK67+'Jul-Dez 2024'!BK67+'Jan-Jun 2025'!BK67+'Jul-Dez 2025'!BK67","v":0},{"$nulls":3},0,0,0,null,0,0,0,0,0,0,0,{"$f":"'Jan-Jun 2024'!CB67","v":0},{"$f":"'Jan-Jun 2024'!CA67+'Jul-Dez 2024'!CA67+'Jan-Jun 2025'!CA67+'Jul-Dez 2025'!CA67","v":0}]
[null,null,"Salas:",null,"SEG","TER","QUA","QUI","SEX",{"$nulls":9},6424,"CAM","CAM - Fabricação Assistida por Computador",{"$nulls":5},"C594",50,"João Franco",{"$nulls":7},0,0,0,null,0,0,0,0,0,0,0,{"$f":"'Jan-Jun 2024'!AV68","v":0},{"$f":"'Jan-Jun 2024'!AU68+'Jul-Dez 2024'!AU68+'Jan-Jun 2025'!AU68+'Jul-Dez 2025'!AU68","v":0},{"$nulls":3},0,0,0,null,0,0,0,0,0,0,0,{"$f":"'Jan-Jun 2024'!BL68","v":0},{"$f":"'Jan-Jun 2024'!BK68+'Jul-Dez 2024'!BK68+'Jan-Jun 2025'!BK68+'Jul-Dez 2025'!BK68","v":0},{"$nulls":3},0,0,0,null,0,0,0,0,0,0,0,{"$f":"'Jan-Jun 2024'!CB68","v":0},{"$f":"'Jan-Jun 2024'!CA68+'Jul-Dez 2024'!CA68+'Jan-Jun 2025'!CA68+'Jul-Dez 2025'!CA68","v":0}]
[{"$nulls":18},6425,"PAC","Projecto Assistido por Computador",{"$nulls":5},"A434",50,"João Catarino",{"$nulls":7},0,0,0,null,0,0,0,0,0,0,0,{"$f":"'Jan-Jun 2024'!AV69","v":0},{"$f":"'Jan-Jun 2024'!AU69+'Jul-Dez 2024'!AU69+'Jan-Jun 2025'!AU69+'Jul-Dez 2025'!AU69","v":0},{"$nulls":3},0,0,0,null,0,0,0,0,0,0,0,{"$f":"'Jan-Jun 2024'!BL69","v":0},{"$f":"'Jan-Jun 2024'!BK69+'Jul-Dez 2024'!BK69+'Jan-Jun 2025'!BK69+'Jul-Dez 2025'!BK69","v":0},{"$nulls":3},0,0,0,null,0,0,0,0,0,0,0,{"$f":"'Jan-Jun 2024'!CB69","v":0},{"$f":"'Jan-Jun 2024'!CA69+'Jul-Dez 2024'!CA69+'Jan-Jun 2025'!CA69+'Jul-Dez 2025'!CA69","v":0}]
[{"$nulls":17},"Estágio",null,"PCT","Prática em Contexto Trabalho",{"$nulls":5},"K259",560,"Tutores",{"$nulls":7},0,0,0,null,0,0,0,0,0,0,0,{"$f":"'Jan-Jun 2024'!AV70","v":0},{"$f":"'Jan-Jun 2024'!AU70+'Jul-Dez 2024'!AU70+'Jan-Jun 2025'!AU70+'Jul-Dez 2025'!AU70","v":0},{"$nulls":3},0,0,0,null,0,0,0,0,0,0,0,{"$f":"'Jan-Jun 2024'!BL70","v":0},{"$f":"'Jan-Jun 2024'!BK70+'Jul-Dez 2024'!BK70+'Jan-Jun 2025'!BK70+'Jul-Dez 2025'!BK70","v":0},{"$nulls":3},0,0,0,null,0,0,0,0,0,0,0,{"$f":"'Jan-Jun 2024'!CB70","v":0},{"$f":"'Jan-Jun 2024'!CA70+'Jul-Dez 2024'!CA70+'Jan-Jun 2025'!CA70+'Jul-Dez 2025'!CA70","v":0}]
[null,null,"R. Quantitativas:",{"$nulls":14},"Projecto Final",null,"APF","Acompanhamento ao Projeto Final",{"$nulls":6},16,"Orientadores",{"$nulls":7},0,0,0,null,0,0,0,0,0,0,0,{"$f":"'Jan-Jun 2024'!AV71","v":0},{"$f":"'Jan-Jun 2024'!AU71+'Jul-Dez 2024'!AU71+'Jan-Jun 2025'!AU71+'Jul-Dez 2025'!AU71","v":0},{"$nulls":3},0,0,0,null,0,0,0,0,0,0,0,{"$f":"'Jan-Jun 2024'!BL71","v":0},{"$f":"'Jan-Jun 2024'!BK71+'Jul-Dez 2024'!BK71+'Jan-Jun 2025'!BK71+'Jul-Dez 2025'!BK71","v":0},{"$nulls":3},0,0,0,null,0,0,0,0,0,0,0,{"$f":"'Jan-Jun 2024'!CB71","v":0},{"$f":"'Jan-Jun 2024'!CA71+'Jul-Dez 2024'!CA71+'Jan-Jun 2025'!CA71+'Jul-Dez 2025'!CA71","v":0}]
[{"$nulls":19},"PFI","Projecto Final Integrado - Apresentação e Discussão",{"$nulls":7},"Júri",{"$nulls":7},0,{"$f":"IF($AK$4=$DH$8,AU72,IF($AK$4=$DH$9,AV72,IF($AK$4=$DH$10,AW72,IF($AK$4=$DH$11,AO72,IF($AK$4=$DH$12,AP72,IF($AK$4=$DH$13,AQ72,IF($AK$4=$DH$14,AR72,IF($AK$4=$DH$15,AS72,IF($AK$4=$DH$16,AT72,\"\")))))))))","v":0},0,null,0,0,0,0,0,0,0,{"$f":"'Jan-Jun 2024'!AV72","v":0},{"$f":"'Jan-Jun 2024'!AU72+'Jul-Dez 2024'!AU72+'Jan-Jun 2025'!AU72+'Jul-Dez 2025'!AU72","v":0},{"$nulls":3},0,{"$f":"IF($AK$4=$DH$8,BK72,IF($AK$4=$DH$9,BL72,IF($AK$4=$DH$10,BM72,IF($AK$4=$DH$11,BE72,IF($AK$4=$DH$12,BF72,IF($AK$4=$DH$13,BG72,IF($AK$4=$DH$14,BH72,IF($AK$4=$DH$15,BI72,IF($AK$4=$DH$16,BJ72,\"\")))))))))","v":0},0,null,0,0,0,0,0,0,0,{"$f":"'Jan-Jun 2024'!BL72","v":0},{"$f":"'Jan-Jun 2024'!BK72+'Jul-Dez 2024'!BK72+'Jan-Jun 2025'!BK72+'Jul-Dez 2025'!BK72","v":0},{"$nulls":3},0,{"$f":"IF($AK$4=$DH$8,CA72,IF($AK$4=$DH$9,CB72,IF($AK$4=$DH$10,CC72,IF($AK$4=$DH$11,BU72,IF($AK$4=$DH$12,BV72,IF($AK$4=$DH$13,BW72,IF($AK$4=$DH$14,BX72,IF($AK$4=$DH$15,BY72,IF($AK$4=$DH$16,BZ72,\"\")))))))))","v":0},0,null,0,0,0,0,0,0,0,{"$f":"'Jan-Jun 2024'!CB72","v":0},{"$f":"'Jan-Jun 2024'!CA72+'Jul-Dez 2024'!CA72+'Jan-Jun 2025'!CA72+'Jul-Dez 2025'!CA72","v":0}]
[{"$nulls":36},{"$f":"IF(AI73=$DI$8,AM73,IF(AI73=$DI$9,AM73,IF(AI73=$DI$10,AL73,)))","v":0},0,{"$f":"IF(AI73=$DI$8,AL73,IF(AI73=$DI$9,AM74+AL73,IF(AI73=$DI$10,IF(AI74=$DI$10,AM74+AL73,AL73),)))","v":0},null,{"$f":"COUNTIF($C$10:$AG$13,$AJ73)","v":0},{"$f":"COUNTIF($C$17:$AG$20,$AJ73)","v":0},{"$f":"COUNTIF($C$24:$AG$27,$AJ73)","v":0},{"$f":"COUNTIF($C$31:$AG$34,$AJ73)","v":0},{"$f":"COUNTIF($C$38:$AG$41,$AJ73)","v":0},{"$f":"COUNTIF($C$45:$AG$48,$AJ73)","v":0},{"$f":"SUM(AO73:AT73)","v":0},{"$f":"'Jan-Jun 2024'!AV73","v":0},{"$f":"'Jan-Jun 2024'!AU73+'Jul-Dez 2024'!AU73+'Jan-Jun 2025'!AU73+'Jul-Dez 2025'!AU73","v":0},{"$nulls":3},{"$f":"IF(AY73=$DI$8,BC73,IF(AY73=$DI$9,BC73,IF(AY73=$DI$10,BB73,)))","v":0},0,{"$f":"IF(AY73=$DI$8,BB73,IF(AY73=$DI$9,BC74+BB73,IF(AY73=$DI$10,IF(AY74=$DI$10,BC74+BB73,BB73),)))","v":0},null,{"$f":"COUNTIF($C$10:$AG$13,$AZ73)","v":0},{"$f":"COUNTIF($C$17:$AG$20,$AZ73)","v":0},{"$f":"COUNTIF($C$24:$AG$27,$AZ73)","v":0},{"$f":"COUNTIF($C$31:$AG$34,$AZ73)","v":0},{"$f":"COUNTIF($C$38:$AG$41,$AZ73)","v":0},{"$f":"COUNTIF($C$45:$AG$48,$AZ73)","v":0},{"$f":"SUM(BE73:BJ73)","v":0},{"$f":"'Jan-Jun 2024'!BL73","v":0},{"$f":"'Jan-Jun 2024'!BK73+'Jul-Dez 2024'!BK73+'Jan-Jun 2025'!BK73+'Jul-Dez 2025'!BK73","v":0},{"$nulls":3},{"$f":"IF(BO73=$DI$8,BS73,IF(BO73=$DI$9,BS73,IF(BO73=$DI$10,BR73,)))","v":0},0,{"$f":"IF(BO73=$DI$8,BR73,IF(BO73=$DI$9,BS74+BR73,IF(BO73=$DI$10,IF(BO74=$DI$10,BS74+BR73,BR73),)))","v":0},null,{"$f":"COUNTIF($C$10:$AG$13,$BP73)","v":0},{"$f":"COUNTIF($C$17:$AG$20,$BP73)","v":0},{"$f":"COUNTIF($C$24:$AG$27,$BP73)","v":0},{"$f":"COUNTIF($C$31:$AG$34,$BP73)","v":0},{"$f":"COUNTIF($C$38:$AG$41,$BP73)","v":0},{"$f":"COUNTIF($C$45:$AG$48,$BP73)","v":0},{"$f":"SUM(BU73:BZ73)","v":0},{"$f":"'Jan-Jun 2024'!CB73","v":0},{"$f":"'Jan-Jun 2024'!CA73+'Jul-Dez 2024'!CA73+'Jan-Jun 2025'!CA73+'Jul-Dez 2025'!CA73","v":0}]
[]
[{"$nulls":36},{"$f":"SUMIF(AI8:AI73,\"=M\",AK8:AK73)+SUMIF(AI8:AI73,\"=T\",AK8:AK73)","v":0},null,null,{"$f":"SUMIF(AI8:AI73,\"=M\",AN8:AN73)+SUMIF(AI8:AI73,\"=T\",AN8:AN73)","v":900},{"$nulls":12},{"$f":"SUMIF(AY8:AY73,\"=M\",BA8:BA73)+SUMIF(AY8:AY73,\"=T\",BA8:BA73)","v":0},null,null,{"$f":"SUMIF(AY8:AY73,\"=M\",BD8:BD73)+SUMIF(AY8:AY73,\"=T\",BD8:BD73)","v":260},{"$nulls":12},{"$f":"SUMIF(BO8:BO73,\"=M\",BQ8:BQ73)+SUMIF(BO8:BO73,\"=T\",BQ8:BQ73)","v":0},null,null,{"$f":"SUMIF(BO8:BO73,\"=M\",BT8:BT73)+SUMIF(BO8:BO73,\"=T\",BT8:BT73)","v":0}]
[{"$nulls":34},"Totais",null,{"$f":"AK75+BA75+BQ75","v":0},null,null,{"$f":"AN75+BD75+BT75","v":1160}]

{"sheet":"Jan-Jun 2026","index":5,"n_rows":76,"n_cols":113,"rows_kept":76,"merged":[[0,25,0,32],[0,34,2,39],[0,40,6,40],[0,41,6,41],[0,42,6,42],[0,43,6,43],[0,44,6,44],[0,45,6,45],[0,46,6,46],[0,47,6,47],[0,48,6,48],[0,50,2,55],[0,56,6,56],[0,57,6,57],[0,58,6,58],[0,59,6,59],[0,60,6,60],[0,61,6,61],[0,62,6,62],[0,63,6,63],[0,64,6,64],[0,66,2,71],[0,72,6,72],[0,73,6,73],[0,74,6,74],[0,75,6,75],[0,76,6,76],[0,77,6,77],[0,78,6,78],[0,79,6,79],[0,80,6,80],[0,111,6,111],[0,112,6,112],[1,25,1,32],[2,25,2,32],[3,25,3,32],[3,34,6,34],[3,35,6,35],[3,36,6,36],[3,37,6,37],[3,38,6,38],[3,39,6,39],[3,50,6,50],[3,51,6,51],[3,52,6,52],[3,53,6,53],[3,54,6,54],[3,55,6,55],[3,66,6,66],[3,67,6,67],[3,68,6,68],[3,69,6,69],[3,70,6,70],[3,71,6,71],[4,0,4,2],[4,3,4,9],[4,10,4,13],[4,14,4,21],[4,22,4,26],[4,27,4,29],[4,30,4,32],[5,0,5,2],[5,3,5,9],[5,10,5,13],[5,14,5,21],[5,22,5,26],[5,27,5,29],[5,30,5,32],[6,0,6,2],[6,3,6,9],[6,10,6,13],[6,14,6,21],[6,22,6,26],[6,27,6,29],[6,30,6,32],[7,0,8,1],[9,0,9,1],[10,0,10,1],[11,0,11,1],[12,0,12,1],[14,0,15,1],[16,0,16,1],[17,0,17,1],[18,0,18,1],[19,0,19,1],[21,0,22,1],[23,0,23,1],[24,0,24,1],[25,0,25,1],[26,0,26,1],[28,0,29,1],[30,0,30,1],[31,0,31,1],[32,0,32,1],[33,0,33,1],[35,0,36,1],[37,0,37,1],[38,0,38,1],[39,0,39,1],[40,0,40,1],[42,0,43,1],[44,0,44,1],[45,0,45,1],[46,0,46,1],[47,0,47,1],[48,2,48,8],[48,11,48,13],[48,17,48,19],[48,20,48,25],[48,28,48,30],[49,0,54,0],[49,3,49,8],[49,11,49,13],[49,17,68,17],[49,20,49,25],[49,28,49,30],[50,3,50,8],[50,11,50,13],[50,20,50,25],[50,28,50,30],[51,3,51,8],[51,11,51,13],[51,20,51,25],[51,28,51,30],[52,3,52,8],[52,11,52,13],[52,20,52,25],[52,28,52,30],[53,3,53,8],[53,11,53,13],[53,20,53,25],[53,28,53,30],[54,3,54,8],[54,11,54,13],[54,20,54,25],[54,28,54,30],[55,20,55,25],[55,28,55,30],[56,3,56,9],[56,20,56,25],[56,28,56,30],[57,4,57,9],[57,20,57,25],[57,28,57,30],[58,4,58,9],[58,20,58,25],[58,28,58,30],[59,4,59,9],[59,20,59,25],[59,28,59,30],[60,20,60,25],[60,28,60,30],[61,3,61,8],[61,20,61,25],[61,28,61,30],[62,20,62,25],[62,28,62,30],[63,3,63,8],[63,20,63,25],[63,28,63,30],[64,20,64,25],[64,28,64,30],[65,20,65,25],[65,28,65,30],[66,20,66,25],[66,28,66,30],[67,2,68,3],[67,20,67,25],[67,28,67,30],[68,20,68,25],[68,28,68,30],[69,20,69,25],[69,28,69,30],[70,4,70,5],[70,6,70,7],[70,8,70,9],[70,17,71,17],[70,20,70,25],[70,28,70,30],[71,20,71,25],[71,28,71,30],[75,34,75,35]]}
[{"$nulls":40},{"$f":"TEXT(#REF!,\"mmm\")","v":{"$error":"#REF!"}},{"$f":"TEXT($A$11,\"mmm\")","v":"20h10 - 21h00"},{"$f":"TEXT($A$18,\"mmm\")","v":"20h10 - 21h00"},{"$f":"TEXT($A$25,\"mmm\")","v":"20h10 - 21h00"},{"$f":"TEXT($A$32,\"mmm\")","v":"20h10 - 21h00"},{"$f":"TEXT($A$39,\"mmm\")","v":"20h10 - 21h00"},"Total  Folha","Total Global","Total  Acum.",{"$nulls":7},{"$f":"TEXT(#REF!,\"mmm\")","v":{"$error":"#REF!"}},{"$f":"TEXT($A$11,\"mmm\")","v":"20h10 - 21h00"},{"$f":"TEXT($A$18,\"mmm\")","v":"20h10 - 21h00"},{"$f":"TEXT($A$25,\"mmm\")","v":"20h10 - 21h00"},{"$f":"TEXT($A$32,\"mmm\")","v":"20h10 - 21h00"},{"$f":"TEXT($A$39,\"mmm\")","v":"20h10 - 21h00"},"Total  Folha","Total Global","Total  Acum.",{"$nulls":7},{"$f":"TEXT(#REF!,\"mmm\")","v":{"$error":"#REF!"}},{"$f":"TEXT($A$11,\"mmm\")","v":"20h10 - 21h00"},{"$f":"TEXT($A$18,\"mmm\")","v":"20h10 - 21h00"},{"$f":"TEXT($A$25,\"mmm\")","v":"20h10 - 21h00"},{"$f":"TEXT($A$32,\"mmm\")","v":"20h10 - 21h00"},{"$f":"TEXT($A$39,\"mmm\")","v":"20h10 - 21h00"},"Total  Folha","Total Global","Total  Acum.",{"$nulls":30},"tipo_soma","tipo_contador"]
[{"$nulls":25},"Director(a):"]
[{"$nulls":25},"(Cristina Botas)"]
[{"$nulls":34},"Tipo","Módulo","ST","Origem","Cálculo","Objetivo",{"$nulls":10},"Tipo","Módulo",{"$f":"AK4","v":"ST"},"Origem","Cálculo","Objetivo",{"$nulls":10},"Tipo","Módulo",{"$f":"AK4","v":"ST"},"Origem","Cálculo","Objetivo"]
["MODALIDADE:",null,null,"CET - Tecnologia Mecatrónica",{"$nulls":6},"CODÍGO DA AÇÃO:",{"$nulls":3},66406,{"$nulls":12},"       U.O.:",null,null,"Torres Vedras"]
["PLANEAMENTO:",null,null,"Vítor Caetano",{"$nulls":6},"SAÍDA PROFISSIONAL: Técnico/a Especialista em Mecatrónica",{"$nulls":3},"Técnico/a Especialista em Mecatrónica",{"$nulls":12},"DATA INÍCIO:",null,null,"2022-11-15"]
["COORDENADOR:",{"$nulls":9},"DURAÇÃO:",{"$nulls":3},"1560 H",{"$nulls":12},"DATA FIM  (previsto):"]
["2026-01-01",null,{"$f":"IF(C9<>\"\",CHOOSE(WEEKDAY(C9,1),\"Dom.\",\"Seg.\",\"Ter.\",\"Qua.\",\"Qui.\",\"Sex.\",\"Sáb.\"),\"\")","v":"Qui."},{"$f":"IF(D9<>\"\",CHOOSE(WEEKDAY(D9,1),\"Dom.\",\"Seg.\",\"Ter.\",\"Qua.\",\"Qui.\",\"Sex.\",\"Sáb.\"),\"\")","v":"Sex."},"Sáb.","Dom.","Seg.","Ter.","Qua.","Qui.","Sex.","Sáb.","Dom.","Seg.","Ter.","Qua.","Qui.","Sex.","Sáb.","Dom.","Seg.","Ter.","Qua.","Qui.","Sex.","Sáb.","Dom.","Seg.","Ter.","Qua.","Qui.","Sex.","Sáb.",null,"T","PFL",{"$f":"IF(AI8=$DI$8,AM8,IF(AI8=$DI$9,AM8,IF(AI8=$DI$10,AL8,)))","v":0},{"$f":"IF($AK$4=$DH$8,AU8,IF($AK$4=$DH$9,AV8,IF($AK$4=$DH$10,AW8,IF($AK$4=$DH$11,AO8,IF($AK$4=$DH$12,AP8,IF($AK$4=$DH$13,AQ8,IF($AK$4=$DH$14,AR8,IF($AK$4=$DH$15,AS8,IF($AK$4=$DH$16,AT8,\"\")))))))))","v":0},{"$f":"IF(AI8=$DI$8,AL8,IF(AI8=$DI$9,AM9+AL8,IF(AI8=$DI$10,IF(AI9=$DI$10,AM9+AL8,AL8),)))","v":0},25,{"$f":"COUNTIF($C$10:$AG$13,$AJ8)","v":0},{"$f":"COUNTIF($C$17:$AG$20,$AJ8)","v":0},{"$f":"COUNTIF($C$24:$AG$27,$AJ8)","v":0},{"$f":"COUNTIF($C$31:$AG$34,$AJ8)","v":0},{"$f":"COUNTIF($C$38:$AG$41,$AJ8)","v":0},{"$f":"COUNTIF($C$45:$AG$48,$AJ8)","v":0},{"$f":"SUM(AO8:AT8)","v":0},{"$f":"'Jan-Jun 2024'!AV8","v":0},{"$f":"'Jan-Jun 2024'!AU8+'Jul-Dez 2024'!AU8+'Jan-Jun 2025'!AU8+'Jul-Dez 2025'!AU8+'Jan-Jun 2026'!AU8","v":0},null,"M","IGO",{"$f":"IF(AY8=$DI$8,BC8,IF(AY8=$DI$9,BC8,IF(AY8=$DI$10,BB8,)))","v":0},{"$f":"IF($AK$4=$DH$8,BK8,IF($AK$4=$DH$9,BL8,IF($AK$4=$DH$10,BM8,IF($AK$4=$DH$11,BE8,IF($AK$4=$DH$12,BF8,IF($AK$4=$DH$13,BG8,IF($AK$4=$DH$14,BH8,IF($AK$4=$DH$15,BI8,IF($AK$4=$DH$16,BJ8,\"\")))))))))","v":0},{"$f":"IF(AY8=$DI$8,BB8,IF(AY8=$DI$9,BC9+BB8,IF(AY8=$DI$10,IF(AY9=$DI$10,BC9+BB8,BB8),)))","v":0},25,{"$f":"COUNTIF($C$10:$AG$13,$AZ8)","v":0},{"$f":"COUNTIF($C$17:$AG$20,$AZ8)","v":0},{"$f":"COUNTIF($C$24:$AG$27,$AZ8)","v":0},{"$f":"COUNTIF($C$31:$AG$34,$AZ8)","v":0},{"$f":"COUNTIF($C$38:$AG$41,$AZ8)","v":0},{"$f":"COUNTIF($C$45:$AG$48,$AZ8)","v":0},{"$f":"SUM(BE8:BJ8)","v":0},{"$f":"'Jan-Jun 2024'!BL8","v":0},{"$f":"'Jan-Jun 2024'!BK8+'Jul-Dez 2024'!BK8+'Jan-Jun 2025'!BK8+'Jul-Dez 2025'!BK8+'Jan-Jun 2026'!BK8","v":0},{"$nulls":3},{"$f":"IF(BO8=$DI$8,BS8,IF(BO8=$DI$9,BS8,IF(BO8=$DI$10,BR8,)))","v":0},{"$f":"IF($AK$4=$DH$8,CA8,IF($AK$4=$DH$9,CB8,IF($AK$4=$DH$10,CC8,IF($AK$4=$DH$11,BU8,IF($AK$4=$DH$12,BV8,IF($AK$4=$DH$13,BW8,IF($AK$4=$DH$14,BX8,IF($AK$4=$DH$15,BY8,IF($AK$4=$DH$16,BZ8,\"\")))))))))","v":0},{"$f":"IF(BO8=$DI$8,BR8,IF(BO8=$DI$9,BS9+BR8,IF(BO8=$DI$10,IF(BO9=$DI$10,BS9+BR8,BR8),)))","v":0},null,{"$f":"COUNTIF($C$10:$AG$13,$BP8)","v":0},{"$f":"COUNTIF($C$17:$AG$20,$BP8)","v":0},{"$f":"COUNTIF($C$24:$AG$27,$BP8)","v":0},{"$f":"COUNTIF($C$31:$AG$34,$BP8)","v":0},{"$f":"COUNTIF($C$38:$AG$41,$BP8)","v":0},{"$f":"COUNTIF($C$45:$AG$48,$BP8)","v":0},{"$f":"SUM(BU8:BZ8)","v":0},{"$f":"'Jan-Jun 2024'!CB8","v":0},{"$f":"'Jan-Jun 2024'!CA8+'Jul-Dez 2024'!CA8+'Jan-Jun 2025'!CA8+'Jul-Dez 2025'!CA8+'Jan-Jun 2026'!CA8","v":0},{"$nulls":30},"SF","M"]
[null,null,{"$f":"A8","v":"2026-01-01"},{"$f":"IF(C9=\"\",\"\",IF(DAY(C9)<DAY(EOMONTH(C9,0)),C9+1,\"\"))","v":"2026-01-02"},{"$f":"IF(D9=\"\",\"\",IF(DAY(D9)<DAY(EOMONTH(D9,0)),D9+1,\"\"))","v":"2026-01-03"},"2026-01-04","2026-01-05","2026-01-06","2026-01-07",{"$f":"IF(I9=\"\",\"\",IF(DAY(I9)<DAY(EOMONTH(I9,0)),I9+1,\"\"))","v":"2026-01-08"},{"$f":"IF(J9=\"\",\"\",IF(DAY(J9)<DAY(EOMONTH(J9,0)),J9+1,\"\"))","v":"2026-01-09"},{"$f":"IF(K9=\"\",\"\",IF(DAY(K9)<DAY(EOMONTH(K9,0)),K9+1,\"\"))","v":"2026-01-10"},"2026-01-11","2026-01-12","2026-01-13","2026-01-14",{"$f":"IF(P9=\"\",\"\",IF(DAY(P9)<DAY(EOMONTH(P9,0)),P9+1,\"\"))","v":"2026-01-15"},{"$f":"IF(Q9=\"\",\"\",IF(DAY(Q9)<DAY(EOMONTH(Q9,0)),Q9+1,\"\"))","v":"2026-01-16"},{"$f":"IF(R9=\"\",\"\",IF(DAY(R9)<DAY(EOMONTH(R9,0)),R9+1,\"\"))","v":"2026-01-17"},"2026-01-18","2026-01-19","2026-01-20","2026-01-21",{"$f":"IF(W9=\"\",\"\",IF(DAY(W9)<DAY(EOMONTH(W9,0)),W9+1,\"\"))","v":"2026-01-22"},{"$f":"IF(X9=\"\",\"\",IF(DAY(X9)<DAY(EOMONTH(X9,0)),X9+1,\"\"))","v":"2026-01-23"},{"$f":"IF(Y9=\"\",\"\",IF(DAY(Y9)<DAY(EOMONTH(Y9,0)),Y9+1,\"\"))","v":"2026-01-24"},"2026-01-25","2026-01-26","2026-01-27","2026-01-28",{"$f":"IF(AD9=\"\",\"\",IF(DAY(AD9)<DAY(EOMONTH(AD9,0)),AD9+1,\"\"))","v":"2026-01-29"},{"$f":"IF(AE9=\"\",\"\",IF(DAY(AE9)<DAY(EOMONTH(AE9,0)),AE9+1,\"\"))","v":"2026-01-30"},"2026-01-31",null,"P","PFL1",{"$f":"IF(AI9=$DI$8,AM9,IF(AI9=$DI$9,AM9,IF(AI9=$DI$10,AL9,)))","v":0},0,{"$f":"IF(AI9=$DI$8,AL9,IF(AI9=$DI$9,AM10+AL9,IF(AI9=$DI$10,IF(AI10=$DI$10,AM10+AL9,AL9),)))","v":0},7,{"$f":"COUNTIF($C$10:$AG$13,$AJ9)","v":0},{"$f":"COUNTIF($C$17:$AG$20,$AJ9)","v":0},{"$f":"COUNTIF($C$24:$AG$27,$AJ9)","v":0},{"$f":"COUNTIF($C$31:$AG$34,$AJ9)","v":0},{"$f":"COUNTIF($C$38:$AG$41,$AJ9)","v":0},{"$f":"COUNTIF($C$45:$AG$48,$AJ9)","v":0},{"$f":"SUM(AO9:AT9)","v":0},{"$f":"'Jan-Jun 2024'!AV9","v":0},{"$f":"'Jan-Jun 2024'!AU9+'Jul-Dez 2024'!AU9+'Jan-Jun 2025'!AU9+'Jul-Dez 2025'!AU9+'Jan-Jun 2026'!AU9","v":0},{"$nulls":3},{"$f":"IF(AY9=$DI$8,BC9,IF(AY9=$DI$9,BC9,IF(AY9=$DI$10,BB9,)))","v":0},0,{"$f":"IF(AY9=$DI$8,BB9,IF(AY9=$DI$9,BC10+BB9,IF(AY9=$DI$10,IF(AY10=$DI$10,BC10+BB9,BB9),)))","v":0},null,{"$f":"COUNTIF($C$10:$AG$13,$AZ9)","v":0},{"$f":"COUNTIF($C$17:$AG$20,$AZ9)","v":0},{"$f":"COUNTIF($C$24:$AG$27,$AZ9)","v":0},{"$f":"COUNTIF($C$31:$AG$34,$AZ9)","v":0},{"$f":"COUNTIF($C$38:$AG$41,$AZ9)","v":0},{"$f":"COUNTIF($C$45:$AG$48,$AZ9)","v":0},{"$f":"SUM(BE9:BJ9)","v":0},{"$f":"'Jan-Jun 2024'!BL9","v":0},{"$f":"'Jan-Jun 2024'!BK9+'Jul-Dez 2024'!BK9+'Jan-Jun 2025'!BK9+'Jul-Dez 2025'!BK9+'Jan-Jun 2026'!BK9","v":0},{"$nulls":3},{"$f":"IF(BO9=$DI$8,BS9,IF(BO9=$DI$9,BS9,IF(BO9=$DI$10,BR9,)))","v":0},0,{"$f":"IF(BO9=$DI$8,BR9,IF(BO9=$DI$9,BS10+BR9,IF(BO9=$DI$10,IF(BO10=$DI$10,BS10+BR9,BR9),)))","v":0},null,{"$f":"COUNTIF($C$10:$AG$13,$BP9)","v":0},{"$f":"COUNTIF($C$17:$AG$20,$BP9)","v":0},{"$f":"COUNTIF($C$24:$AG$27,$BP9)","v":0},{"$f":"COUNTIF($C$31:$AG$34,$BP9)","v":0},{"$f":"COUNTIF($C$38:$AG$41,$BP9)","v":0},{"$f":"COUNTIF($C$45:$AG$48,$BP9)","v":0},{"$f":"SUM(BU9:BZ9)","v":0},{"$f":"'Jan-Jun 2024'!CB9","v":0},{"$f":"'Jan-Jun 2024'!CA9+'Jul-Dez 2024'!CA9+'Jan-Jun 2025'!CA9+'Jul-Dez 2025'!CA9+'Jan-Jun 2026'!CA9","v":0},{"$nulls":30},"ST","T"]
["19h20 - 20h10",{"$nulls":33},"P","PFL2",0,0,0,18,0,0,0,0,0,0,0,{"$f":"'Jan-Jun 2024'!AV10","v":0},{"$f":"'Jan-Jun 2024'!AU10+'Jul-Dez 2024'!AU10+'Jan-Jun 2025'!AU10+'Jul-Dez 2025'!AU10+'Jan-Jun 2026'!AU10","v":0},{"$nulls":3},0,0,0,null,0,0,0,0,0,0,0,{"$f":"'Jan-Jun 2024'!BL10","v":0},{"$f":"'Jan-Jun 2024'!BK10+'Jul-Dez 2024'!BK10+'Jan-Jun 2025'!BK10+'Jul-Dez 2025'!BK10+'Jan-Jun 2026'!BK10","v":0},{"$nulls":3},0,0,0,null,0,0,0,0,0,0,0,{"$f":"'Jan-Jun 2024'!CB10","v":0},{"$f":"'Jan-Jun 2024'!CA10+'Jul-Dez 2024'!CA10+'Jan-Jun 2025'!CA10+'Jul-Dez 2025'!CA10+'Jan-Jun 2026'!CA10","v":0},{"$nulls":30},"SA","P"]
["20h10 - 21h00",null,"Ano",{"$nulls":33},0,0,0,null,0,0,0,0,0,0,0,{"$f":"'Jan-Jun 2024'!AV11","v":0},{"$f":"'Jan-Jun 2024'!AU11+'Jul-Dez 2024'!AU11+'Jan-Jun 2025'!AU11+'Jul-Dez 2025'!AU11+'Jan-Jun 2026'!AU11","v":0},null,"M","GMQ",0,0,0,25,0,0,0,0,0,0,0,{"$f":"'Jan-Jun 2024'!BL11","v":0},{"$f":"'Jan-Jun 2024'!BK11+'Jul-Dez 2024'!BK11+'Jan-Jun 2025'!BK11+'Jul-Dez 2025'!BK11+'Jan-Jun 2026'!BK11","v":0},{"$nulls":3},0,0,0,null,0,0,0,0,0,0,0,{"$f":"'Jan-Jun 2024'!CB11","v":0},{"$f":"'Jan-Jun 2024'!CA11+'Jul-Dez 2024'!CA11+'Jan-Jun 2025'!CA11+'Jul-Dez 2025'!CA11+'Jan-Jun 2026'!CA11","v":0},{"$nulls":30},{"$f":"TEXT(A8,\"mmm\")","v":"jan"}]
["21h20 - 22h10",null,"Novo",{"$nulls":31},"T","PCC",0,0,0,25,0,0,0,0,0,0,0,{"$f":"'Jan-Jun 2024'!AV12","v":0},{"$f":"'Jan-Jun 2024'!AU12+'Jul-Dez 2024'!AU12+'Jan-Jun 2025'!AU12+'Jul-Dez 2025'!AU12+'Jan-Jun 2026'!AU12","v":0},{"$nulls":3},0,0,0,null,0,0,0,0,0,0,0,{"$f":"'Jan-Jun 2024'!BL12","v":0},{"$f":"'Jan-Jun 2024'!BK12+'Jul-Dez 2024'!BK12+'Jan-Jun 2025'!BK12+'Jul-Dez 2025'!BK12+'Jan-Jun 2026'!BK12","v":0},{"$nulls":3},0,0,0,null,0,0,0,0,0,0,0,{"$f":"'Jan-Jun 2024'!CB12","v":0},{"$f":"'Jan-Jun 2024'!CA12+'Jul-Dez 2024'!CA12+'Jan-Jun 2025'!CA12+'Jul-Dez 2025'!CA12+'Jan-Jun 2026'!CA12","v":0},{"$nulls":30},{"$f":"TEXT(A15,\"mmm\")","v":"fev"}]
["22h10 - 23h00",{"$nulls":33},"P","PCC1",0,0,0,7,0,0,0,0,0,0,0,{"$f":"'Jan-Jun 2024'!AV13","v":0},{"$f":"'Jan-Jun 2024'!AU13+'Jul-Dez 2024'!AU13+'Jan-Jun 2025'!AU13+'Jul-Dez 2025'!AU13+'Jan-Jun 2026'!AU13","v":0},{"$nulls":3},0,0,0,null,0,0,0,0,0,0,0,{"$f":"'Jan-Jun 2024'!BL13","v":0},{"$f":"'Jan-Jun 2024'!BK13+'Jul-Dez 2024'!BK13+'Jan-Jun 2025'!BK13+'Jul-Dez 2025'!BK13+'Jan-Jun 2026'!BK13","v":0},{"$nulls":3},0,0,0,null,0,0,0,0,0,0,0,{"$f":"'Jan-Jun 2024'!CB13","v":0},{"$f":"'Jan-Jun 2024'!CA13+'Jul-Dez 2024'!CA13+'Jan-Jun 2025'!CA13+'Jul-Dez 2025'!CA13+'Jan-Jun 2026'!CA13","v":0},{"$nulls":30},{"$f":"TEXT(A22,\"mmm\")","v":"mar"}]
[{"$nulls":34},"P","PCC2",0,0,0,18,0,0,0,0,0,0,0,{"$f":"'Jan-Jun 2024'!AV14","v":0},{"$f":"'Jan-Jun 2024'!AU14+'Jul-Dez 2024'!AU14+'Jan-Jun 2025'!AU14+'Jul-Dez 2025'!AU14+'Jan-Jun 2026'!AU14","v":0},null,"M","SGQ",0,0,0,25,0,0,0,0,0,0,0,{"$f":"'Jan-Jun 2024'!BL14","v":0},{"$f":"'Jan-Jun 2024'!BK14+'Jul-Dez 2024'!BK14+'Jan-Jun 2025'!BK14+'Jul-Dez 2025'!BK14+'Jan-Jun 2026'!BK14","v":0},{"$nulls":3},0,0,0,null,0,0,0,0,0,0,0,{"$f":"'Jan-Jun 2024'!CB14","v":0},{"$f":"'Jan-Jun 2024'!CA14+'Jul-Dez 2024'!CA14+'Jan-Jun 2025'!CA14+'Jul-Dez 2025'!CA14+'Jan-Jun 2026'!CA14","v":0},{"$nulls":30},{"$f":"TEXT(A29,\"mmm\")","v":"abr"}]
[{"$f":"A8+DAY(EOMONTH(A8,0))","v":"2026-02-01"},null,{"$f":"IF(C16<>\"\",CHOOSE(WEEKDAY(C16,1),\"Dom.\",\"Seg.\",\"Ter.\",\"Qua.\",\"Qui.\",\"Sex.\",\"Sáb.\"),\"\")","v":"Dom."},{"$f":"IF(D16<>\"\",CHOOSE(WEEKDAY(D16,1),\"Dom.\",\"Seg.\",\"Ter.\",\"Qua.\",\"Qui.\",\"Sex.\",\"Sáb.\"),\"\")","v":"Seg."},"Ter.","Qua.","Qui.","Sex.","Sáb.","Dom.","Seg.","Ter.","Qua.","Qui.","Sex.","Sáb.","Dom.","Seg.","Ter.","Qua.","Qui.","Sex.","Sáb.","Dom.","Seg.","Ter.","Qua.","Qui.","Sex.","Sáb.","","","",{"$nulls":3},0,0,0,null,0,0,0,0,0,0,0,{"$f":"'Jan-Jun 2024'!AV15","v":0},{"$f":"'Jan-Jun 2024'!AU15+'Jul-Dez 2024'!AU15+'Jan-Jun 2025'!AU15+'Jul-Dez 2025'!AU15+'Jan-Jun 2026'!AU15","v":0},{"$nulls":3},0,0,0,null,0,0,0,0,0,0,0,{"$f":"'Jan-Jun 2024'!BL15","v":0},{"$f":"'Jan-Jun 2024'!BK15+'Jul-Dez 2024'!BK15+'Jan-Jun 2025'!BK15+'Jul-Dez 2025'!BK15+'Jan-Jun 2026'!BK15","v":0},{"$nulls":3},0,0,0,null,0,0,0,0,0,0,0,{"$f":"'Jan-Jun 2024'!CB15","v":0},{"$f":"'Jan-Jun 2024'!CA15+'Jul-Dez 2024'!CA15+'Jan-Jun 2025'!CA15+'Jul-Dez 2025'!CA15+'Jan-Jun 2026'!CA15","v":0},{"$nulls":30},{"$f":"TEXT(A36,\"mmm\")","v":"mai"}]
[null,null,{"$f":"A15","v":"2026-02-01"},{"$f":"IF(C16=\"\",\"\",IF(DAY(C16)<DAY(EOMONTH(C16,0)),C16+1,\"\"))","v":"2026-02-02"},"2026-02-03","2026-02-04","2026-02-05","2026-02-06","2026-02-07",{"$f":"IF(I16=\"\",\"\",IF(DAY(I16)<DAY(EOMONTH(I16,0)),I16+1,\"\"))","v":"2026-02-08"},{"$f":"IF(J16=\"\",\"\",IF(DAY(J16)<DAY(EOMONTH(J16,0)),J16+1,\"\"))","v":"2026-02-09"},{"$f":"IF(K16=\"\",\"\",IF(DAY(K16)<DAY(EOMONTH(K16,0)),K16+1,\"\"))","v":"2026-02-10"},{"$f":"IF(L16=\"\",\"\",IF(DAY(L16)<DAY(EOMONTH(L16,0)),L16+1,\"\"))","v":"2026-02-11"},{"$f":"IF(M16=\"\",\"\",IF(DAY(M16)<DAY(EOMONTH(M16,0)),M16+1,\"\"))","v":"2026-02-12"},"2026-02-13","2026-02-14",{"$f":"IF(P16=\"\",\"\",IF(DAY(P16)<DAY(EOMONTH(P16,0)),P16+1,\"\"))","v":"2026-02-15"},"2026-02-16","2026-02-17",{"$f":"IF(S16=\"\",\"\",IF(DAY(S16)<DAY(EOMONTH(S16,0)),S16+1,\"\"))","v":"2026-02-18"},"2026-02-19","2026-02-20","2026-02-21","2026-02-22","2026-02-23",{"$f":"IF(Y16=\"\",\"\",IF(DAY(Y16)<DAY(EOMONTH(Y16,0)),Y16+1,\"\"))","v":"2026-02-24"},{"$f":"IF(Z16=\"\",\"\",IF(DAY(Z16)<DAY(EOMONTH(Z16,0)),Z16+1,\"\"))","v":"2026-02-25"},"2026-02-26","2026-02-27","2026-02-28","","","",null,"M","PAA",0,0,0,25,0,0,0,0,0,0,0,{"$f":"'Jan-Jun 2024'!AV16","v":0},{"$f":"'Jan-Jun 2024'!AU16+'Jul-Dez 2024'!AU16+'Jan-Jun 2025'!AU16+'Jul-Dez 2025'!AU16+'Jan-Jun 2026'!AU16","v":0},{"$nulls":3},0,0,0,null,0,0,0,0,0,0,0,{"$f":"'Jan-Jun 2024'!BL16","v":0},{"$f":"'Jan-Jun 2024'!BK16+'Jul-Dez 2024'!BK16+'Jan-Jun 2025'!BK16+'Jul-Dez 2025'!BK16+'Jan-Jun 2026'!BK16","v":0},{"$nulls":3},0,0,0,null,0,0,0,0,0,0,0,{"$f":"'Jan-Jun 2024'!CB16","v":0},{"$f":"'Jan-Jun 2024'!CA16+'Jul-Dez 2024'!CA16+'Jan-Jun 2025'!CA16+'Jul-Dez 2025'!CA16+'Jan-Jun 2026'!CA16","v":0},{"$nulls":30},{"$f":"TEXT(A43,\"mmm\")","v":"jun"}]
["19h20 - 20h10",{"$nulls":33},"M","IME",0,0,0,50,0,0,0,0,0,0,0,{"$f":"'Jan-Jun 2024'!AV17","v":0},{"$f":"'Jan-Jun 2024'!AU17+'Jul-Dez 2024'!AU17+'Jan-Jun 2025'!AU17+'Jul-Dez 2025'!AU17+'Jan-Jun 2026'!AU17","v":0},null,"M","ASHST",0,0,0,25,0,0,0,0,0,0,0,{"$f":"'Jan-Jun 2024'!BL17","v":0},{"$f":"'Jan-Jun 2024'!BK17+'Jul-Dez 2024'!BK17+'Jan-Jun 2025'!BK17+'Jul-Dez 2025'!BK17+'Jan-Jun 2026'!BK17","v":0},{"$nulls":3},0,0,0,null,0,0,0,0,0,0,0,{"$f":"'Jan-Jun 2024'!CB17","v":0},{"$f":"'Jan-Jun 2024'!CA17+'Jul-Dez 2024'!CA17+'Jan-Jun 2025'!CA17+'Jul-Dez 2025'!CA17+'Jan-Jun 2026'!CA17","v":0}]
["20h10 - 21h00",{"$nulls":17},"Entrudo",{"$nulls":15},"M","ELE",0,0,0,50,0,0,0,0,0,0,0,{"$f":"'Jan-Jun 2024'!AV18","v":0},{"$f":"'Jan-Jun 2024'!AU18+'Jul-Dez 2024'!AU18+'Jan-Jun 2025'!AU18+'Jul-Dez 2025'!AU18+'Jan-Jun 2026'!AU18","v":0},null,"T","DT",0,0,0,25,0,0,0,0,0,0,0,{"$f":"'Jan-Jun 2024'!BL18","v":0},{"$f":"'Jan-Jun 2024'!BK18+'Jul-Dez 2024'!BK18+'Jan-Jun 2025'!BK18+'Jul-Dez 2025'!BK18+'Jan-Jun 2026'!BK18","v":0},{"$nulls":3},0,0,0,null,0,0,0,0,0,0,0,{"$f":"'Jan-Jun 2024'!CB18","v":0},{"$f":"'Jan-Jun 2024'!CA18+'Jul-Dez 2024'!CA18+'Jan-Jun 2025'!CA18+'Jul-Dez 2025'!CA18+'Jan-Jun 2026'!CA18","v":0}]
["21h20 - 22h10",{"$nulls":33},"M","CP",0,0,0,25,0,0,0,0,0,0,0,{"$f":"'Jan-Jun 2024'!AV19","v":0},{"$f":"'Jan-Jun 2024'!AU19+'Jul-Dez 2024'!AU19+'Jan-Jun 2025'!AU19+'Jul-Dez 2025'!AU19+'Jan-Jun 2026'!AU19","v":0},{"$nulls":3},0,0,0,null,0,0,0,0,0,0,0,{"$f":"'Jan-Jun 2024'!BL19","v":0},{"$f":"'Jan-Jun 2024'!BK19+'Jul-Dez 2024'!BK19+'Jan-Jun 2025'!BK19+'Jul-Dez 2025'!BK19+'Jan-Jun 2026'!BK19","v":0},{"$nulls":3},0,0,0,null,0,0,0,0,0,0,0,{"$f":"'Jan-Jun 2024'!CB19","v":0},{"$f":"'Jan-Jun 2024'!CA19+'Jul-Dez 2024'!CA19+'Jan-Jun 2025'!CA19+'Jul-Dez 2025'!CA19+'Jan-Jun 2026'!CA19","v":0}]
["22h10 - 23h00",{"$nulls":35},0,0,0,null,0,0,0,0,0,0,0,{"$f":"'Jan-Jun 2024'!AV20","v":0},{"$f":"'Jan-Jun 2024'!AU20+'Jul-Dez 2024'!AU20+'Jan-Jun 2025'!AU20+'Jul-Dez 2025'!AU20+'Jan-Jun 2026'!AU20","v":0},{"$nulls":3},0,0,0,null,0,0,0,0,0,0,0,{"$f":"'Jan-Jun 2024'!BL20","v":0},{"$f":"'Jan-Jun 2024'!BK20+'Jul-Dez 2024'!BK20+'Jan-Jun 2025'!BK20+'Jul-Dez 2025'!BK20+'Jan-Jun 2026'!BK20","v":0},{"$nulls":3},0,0,0,null,0,0,0,0,0,0,0,{"$f":"'Jan-Jun 2024'!CB20","v":0},{"$f":"'Jan-Jun 2024'!CA20+'Jul-Dez 2024'!CA20+'Jan-Jun 2025'!CA20+'Jul-Dez 2025'!CA20+'Jan-Jun 2026'!CA20","v":0}]
[{"$nulls":36},0,0,0,null,0,0,0,0,0,0,0,{"$f":"'Jan-Jun 2024'!AV21","v":0},{"$f":"'Jan-Jun 2024'!AU21+'Jul-Dez 2024'!AU21+'Jan-Jun 2025'!AU21+'Jul-Dez 2025'!AU21+'Jan-Jun 2026'!AU21","v":0},{"$nulls":3},0,0,0,null,0,0,0,0,0,0,0,{"$f":"'Jan-Jun 2024'!BL21","v":0},{"$f":"'Jan-Jun 2024'!BK21+'Jul-Dez 2024'!BK21+'Jan-Jun 2025'!BK21+'Jul-Dez 2025'!BK21+'Jan-Jun 2026'!BK21","v":0},{"$nulls":3},0,0,0,null,0,0,0,0,0,0,0,{"$f":"'Jan-Jun 2024'!CB21","v":0},{"$f":"'Jan-Jun 2024'!CA21+'Jul-Dez 2024'!CA21+'Jan-Jun 2025'!CA21+'Jul-Dez 2025'!CA21+'Jan-Jun 2026'!CA21","v":0}]
[{"$f":"A15+DAY(EOMONTH(A15,0))","v":"2026-03-01"},null,{"$f":"IF(C23<>\"\",CHOOSE(WEEKDAY(C23,1),\"Dom.\",\"Seg.\",\"Ter.\",\"Qua.\",\"Qui.\",\"Sex.\",\"Sáb.\"),\"\")","v":"Dom."},{"$f":"IF(D23<>\"\",CHOOSE(WEEKDAY(D23,1),\"Dom.\",\"Seg.\",\"Ter.\",\"Qua.\",\"Qui.\",\"Sex.\",\"Sáb.\"),\"\")","v":"Seg."},"Ter.",{"$f":"IF(F23<>\"\",CHOOSE(WEEKDAY(F23,1),\"Dom.\",\"Seg.\",\"Ter.\",\"Qua.\",\"Qui.\",\"Sex.\",\"Sáb.\"),\"\")","v":"Qua."},"Qui.","Sex.","Sáb.","Dom.","Seg.","Ter.","Qua.","Qui.","Sex.","Sáb.","Dom.","Seg.","Ter.","Qua.","Qui.","Sex.","Sáb.","Dom.","Seg.","Ter.","Qua.","Qui.","Sex.","Sáb.","Dom.","Seg.","Ter.",{"$nulls":3},0,0,0,null,0,0,0,0,0,0,0,{"$f":"'Jan-Jun 2024'!AV22","v":0},{"$f":"'Jan-Jun 2024'!AU22+'Jul-Dez 2024'!AU22+'Jan-Jun 2025'!AU22+'Jul-Dez 2025'!AU22+'Jan-Jun 2026'!AU22","v":0},null,"M","ICS",0,0,0,25,0,0,0,0,0,0,0,{"$f":"'Jan-Jun 2024'!BL22","v":0},{"$f":"'Jan-Jun 2024'!BK22+'Jul-Dez 2024'!BK22+'Jan-Jun 2025'!BK22+'Jul-Dez 2025'!BK22+'Jan-Jun 2026'!BK22","v":0},{"$nulls":3},0,0,0,null,0,0,0,0,0,0,0,{"$f":"'Jan-Jun 2024'!CB22","v":0},{"$f":"'Jan-Jun 2024'!CA22+'Jul-Dez 2024'!CA22+'Jan-Jun 2025'!CA22+'Jul-Dez 2025'!CA22+'Jan-Jun 2026'!CA22","v":0}]
[null,null,{"$f":"A22","v":"2026-03-01"},{"$f":"IF(C23=\"\",\"\",IF(DAY(C23)<DAY(EOMONTH(C23,0)),C23+1,\"\"))","v":"2026-03-02"},"2026-03-03",{"$f":"IF(E23=\"\",\"\",IF(DAY(E23)<DAY(EOMONTH(E23,0)),E23+1,\"\"))","v":"2026-03-04"},"2026-03-05","2026-03-06","2026-03-07","2026-03-08",{"$f":"IF(J23=\"\",\"\",IF(DAY(J23)<DAY(EOMONTH(J23,0)),J23+1,\"\"))","v":"2026-03-09"},{"$f":"IF(K23=\"\",\"\",IF(DAY(K23)<DAY(EOMONTH(K23,0)),K23+1,\"\"))","v":"2026-03-10"},"2026-03-11","2026-03-12","2026-03-13","2026-03-14","2026-03-15",{"$f":"IF(Q23=\"\",\"\",IF(DAY(Q23)<DAY(EOMONTH(Q23,0)),Q23+1,\"\"))","v":"2026-03-16"},{"$f":"IF(R23=\"\",\"\",IF(DAY(R23)<DAY(EOMONTH(R23,0)),R23+1,\"\"))","v":"2026-03-17"},"2026-03-18","2026-03-19","2026-03-20","2026-03-21","2026-03-22",{"$f":"IF(X23=\"\",\"\",IF(DAY(X23)<DAY(EOMONTH(X23,0)),X23+1,\"\"))","v":"2026-03-23"},{"$f":"IF(Y23=\"\",\"\",IF(DAY(Y23)<DAY(EOMONTH(Y23,0)),Y23+1,\"\"))","v":"2026-03-24"},"2026-03-25","2026-03-26","2026-03-27","2026-03-28","2026-03-29",{"$f":"IF(AE23=\"\",\"\",IF(DAY(AE23)<DAY(EOMONTH(AE23,0)),AE23+1,\"\"))","v":"2026-03-30"},"2026-03-31",null,"M","CH",0,0,0,25,0,0,0,0,0,0,0,{"$f":"'Jan-Jun 2024'!AV23","v":0},{"$f":"'Jan-Jun 2024'!AU23+'Jul-Dez 2024'!AU23+'Jan-Jun 2025'!AU23+'Jul-Dez 2025'!AU23+'Jan-Jun 2026'!AU23","v":0},{"$nulls":3},0,0,0,null,0,0,0,0,0,0,0,{"$f":"'Jan-Jun 2024'!BL23","v":0},{"$f":"'Jan-Jun 2024'!BK23+'Jul-Dez 2024'!BK23+'Jan-Jun 2025'!BK23+'Jul-Dez 2025'!BK23+'Jan-Jun 2026'!BK23","v":0},{"$nulls":3},0,0,0,null,0,0,0,0,0,0,0,{"$f":"'Jan-Jun 2024'!CB23","v":0},{"$f":"'Jan-Jun 2024'!CA23+'Jul-Dez 2024'!CA23+'Jan-Jun 2025'!CA23+'Jul-Dez 2025'!CA23+'Jan-Jun 2026'!CA23","v":0}]
["19h20 - 20h10",{"$nulls":33},"M","CLP",0,0,0,50,0,0,0,0,0,0,0,{"$f":"'Jan-Jun 2024'!AV24","v":0},{"$f":"'Jan-Jun 2024'!AU24+'Jul-Dez 2024'!AU24+'Jan-Jun 2025'!AU24+'Jul-Dez 2025'!AU24+'Jan-Jun 2026'!AU24","v":0},{"$nulls":3},0,0,0,null,0,0,0,0,0,0,0,{"$f":"'Jan-Jun 2024'!BL24","v":0},{"$f":"'Jan-Jun 2024'!BK24+'Jul-Dez 2024'!BK24+'Jan-Jun 2025'!BK24+'Jul-Dez 2025'!BK24+'Jan-Jun 2026'!BK24","v":0},{"$nulls":3},0,0,0,null,0,0,0,0,0,0,0,{"$f":"'Jan-Jun 2024'!CB24","v":0},{"$f":"'Jan-Jun 2024'!CA24+'Jul-Dez 2024'!CA24+'Jan-Jun 2025'!CA24+'Jul-Dez 2025'!CA24+'Jan-Jun 2026'!CA24","v":0}]
["20h10 - 21h00",{"$nulls":35},0,0,0,null,0,0,0,0,0,0,0,{"$f":"'Jan-Jun 2024'!AV25","v":0},{"$f":"'Jan-Jun 2024'!AU25+'Jul-Dez 2024'!AU25+'Jan-Jun 2025'!AU25+'Jul-Dez 2025'!AU25+'Jan-Jun 2026'!AU25","v":0},{"$nulls":3},0,0,0,null,0,0,0,0,0,0,0,{"$f":"'Jan-Jun 2024'!BL25","v":0},{"$f":"'Jan-Jun 2024'!BK25+'Jul-Dez 2024'!BK25+'Jan-Jun 2025'!BK25+'Jul-Dez 2025'!BK25+'Jan-Jun 2026'!BK25","v":0},{"$nulls":3},0,0,0,null,0,0,0,0,0,0,0,{"$f":"'Jan-Jun 2024'!CB25","v":0},{"$f":"'Jan-Jun 2024'!CA25+'Jul-Dez 2024'!CA25+'Jan-Jun 2025'!CA25+'Jul-Dez 2025'!CA25+'Jan-Jun 2026'!CA25","v":0}]
["21h20 - 22h10",{"$nulls":35},0,0,0,null,0,0,0,0,0,0,0,{"$f":"'Jan-Jun 2024'!AV26","v":0},{"$f":"'Jan-Jun 2024'!AU26+'Jul-Dez 2024'!AU26+'Jan-Jun 2025'!AU26+'Jul-Dez 2025'!AU26+'Jan-Jun 2026'!AU26","v":0},{"$nulls":3},0,0,0,null,0,0,0,0,0,0,0,{"$f":"'Jan-Jun 2024'!BL26","v":0},{"$f":"'Jan-Jun 2024'!BK26+'Jul-Dez 2024'!BK26+'Jan-Jun 2025'!BK26+'Jul-Dez 2025'!BK26+'Jan-Jun 2026'!BK26","v":0},{"$nulls":3},0,0,0,null,0,0,0,0,0,0,0,{"$f":"'Jan-Jun 2024'!CB26","v":0},{"$f":"'Jan-Jun 2024'!CA26+'Jul-Dez 2024'!CA26+'Jan-Jun 2025'!CA26+'Jul-Dez 2025'!CA26+'Jan-Jun 2026'!CA26","v":0}]
["22h10 - 23h00",{"$nulls":35},0,0,0,null,0,0,0,0,0,0,0,{"$f":"'Jan-Jun 2024'!AV27","v":0},{"$f":"'Jan-Jun 2024'!AU27+'Jul-Dez 2024'!AU27+'Jan-Jun 2025'!AU27+'Jul-Dez 2025'!AU27+'Jan-Jun 2026'!AU27","v":0},{"$nulls":3},0,0,0,null,0,0,0,0,0,0,0,{"$f":"'Jan-Jun 2024'!BL27","v":0},{"$f":"'Jan-Jun 2024'!BK27+'Jul-Dez 2024'!BK27+'Jan-Jun 2025'!BK27+'Jul-Dez 2025'!BK27+'Jan-Jun 2026'!BK27","v":0},{"$nulls":3},0,0,0,null,0,0,0,0,0,0,0,{"$f":"'Jan-Jun 2024'!CB27","v":0},{"$f":"'Jan-Jun 2024'!CA27+'Jul-Dez 2024'!CA27+'Jan-Jun 2025'!CA27+'Jul-Dez 2025'!CA27+'Jan-Jun 2026'!CA27","v":0}]
[{"$nulls":34},"M","DCM",0,0,0,50,0,0,0,0,0,0,0,{"$f":"'Jan-Jun 2024'!AV28","v":0},{"$f":"'Jan-Jun 2024'!AU28+'Jul-Dez 2024'!AU28+'Jan-Jun 2025'!AU28+'Jul-Dez 2025'!AU28+'Jan-Jun 2026'!AU28","v":0},{"$nulls":3},0,0,0,null,0,0,0,0,0,0,0,{"$f":"'Jan-Jun 2024'!BL28","v":0},{"$f":"'Jan-Jun 2024'!BK28+'Jul-Dez 2024'!BK28+'Jan-Jun 2025'!BK28+'Jul-Dez 2025'!BK28+'Jan-Jun 2026'!BK28","v":0},{"$nulls":3},0,0,0,null,0,0,0,0,0,0,0,{"$f":"'Jan-Jun 2024'!CB28","v":0},{"$f":"'Jan-Jun 2024'!CA28+'Jul-Dez 2024'!CA28+'Jan-Jun 2025'!CA28+'Jul-Dez 2025'!CA28+'Jan-Jun 2026'!CA28","v":0}]
[{"$f":"A22+DAY(EOMONTH(A22,0))","v":"2026-04-01"},null,{"$f":"IF(C30<>\"\",CHOOSE(WEEKDAY(C30,1),\"Dom.\",\"Seg.\",\"Ter.\",\"Qua.\",\"Qui.\",\"Sex.\",\"Sáb.\"),\"\")","v":"Qua."},{"$f":"IF(D30<>\"\",CHOOSE(WEEKDAY(D30,1),\"Dom.\",\"Seg.\",\"Ter.\",\"Qua.\",\"Qui.\",\"Sex.\",\"Sáb.\"),\"\")","v":"Qui."},"Sex.","Sáb.","Dom.","Seg.","Ter.","Qua.","Qui.","Sex.","Sáb.","Dom.","Seg.","Ter.","Qua.","Qui.","Sex.","Sáb.","Dom.","Seg.","Ter.","Qua.","Qui.","Sex.","Sáb.","Dom.","Seg.","Ter.","Qua.","Qui.","",null,"M","CM",0,0,0,50,0,0,0,0,0,0,0,{"$f":"'Jan-Jun 2024'!AV29","v":0},{"$f":"'Jan-Jun 2024'!AU29+'Jul-Dez 2024'!AU29+'Jan-Jun 2025'!AU29+'Jul-Dez 2025'!AU29+'Jan-Jun 2026'!AU29","v":0},{"$nulls":3},0,0,0,null,0,0,0,0,0,0,0,{"$f":"'Jan-Jun 2024'!BL29","v":0},{"$f":"'Jan-Jun 2024'!BK29+'Jul-Dez 2024'!BK29+'Jan-Jun 2025'!BK29+'Jul-Dez 2025'!BK29+'Jan-Jun 2026'!BK29","v":0},{"$nulls":3},0,0,0,null,0,0,0,0,0,0,0,{"$f":"'Jan-Jun 2024'!CB29","v":0},{"$f":"'Jan-Jun 2024'!CA29+'Jul-Dez 2024'!CA29+'Jan-Jun 2025'!CA29+'Jul-Dez 2025'!CA29+'Jan-Jun 2026'!CA29","v":0}]
[null,null,{"$f":"A29","v":"2026-04-01"},{"$f":"IF(C30=\"\",\"\",IF(DAY(C30)<DAY(EOMONTH(C30,0)),C30+1,\"\"))","v":"2026-04-02"},"2026-04-03","2026-04-04","2026-04-05","2026-04-06","2026-04-07","2026-04-08","2026-04-09","2026-04-10","2026-04-11","2026-04-12","2026-04-13",{"$f":"IF(O30=\"\",\"\",IF(DAY(O30)<DAY(EOMONTH(O30,0)),O30+1,\"\"))","v":"2026-04-14"},{"$f":"IF(P30=\"\",\"\",IF(DAY(P30)<DAY(EOMONTH(P30,0)),P30+1,\"\"))","v":"2026-04-15"},"2026-04-16","2026-04-17","2026-04-18","2026-04-19","2026-04-20",{"$f":"IF(V30=\"\",\"\",IF(DAY(V30)<DAY(EOMONTH(V30,0)),V30+1,\"\"))","v":"2026-04-21"},{"$f":"IF(W30=\"\",\"\",IF(DAY(W30)<DAY(EOMONTH(W30,0)),W30+1,\"\"))","v":"2026-04-22"},"2026-04-23","2026-04-24","2026-04-25","2026-04-26","2026-04-27",{"$f":"IF(AC30=\"\",\"\",IF(DAY(AC30)<DAY(EOMONTH(AC30,0)),AC30+1,\"\"))","v":"2026-04-28"},{"$f":"IF(AD30=\"\",\"\",IF(DAY(AD30)<DAY(EOMONTH(AD30,0)),AD30+1,\"\"))","v":"2026-04-29"},"2026-04-30","",null,"M","SD",0,0,0,50,0,0,0,0,0,0,0,{"$f":"'Jan-Jun 2024'!AV30","v":0},{"$f":"'Jan-Jun 2024'!AU30+'Jul-Dez 2024'!AU30+'Jan-Jun 2025'!AU30+'Jul-Dez 2025'!AU30+'Jan-Jun 2026'!AU30","v":0},{"$nulls":3},0,0,0,null,0,0,0,0,0,0,0,{"$f":"'Jan-Jun 2024'!BL30","v":0},{"$f":"'Jan-Jun 2024'!BK30+'Jul-Dez 2024'!BK30+'Jan-Jun 2025'!BK30+'Jul-Dez 2025'!BK30+'Jan-Jun 2026'!BK30","v":0},{"$nulls":3},0,0,0,null,0,0,0,0,0,0,0,{"$f":"'Jan-Jun 2024'!CB30","v":0},{"$f":"'Jan-Jun 2024'!CA30+'Jul-Dez 2024'!CA30+'Jan-Jun 2025'!CA30+'Jul-Dez 2025'!CA30+'Jan-Jun 2026'!CA30","v":0}]
["19h20 - 20h10",{"$nulls":3},"Sexta",{"$nulls":29},"M","OEM",0,0,0,50,0,0,0,0,0,0,0,{"$f":"'Jan-Jun 2024'!AV31","v":0},{"$f":"'Jan-Jun 2024'!AU31+'Jul-Dez 2024'!AU31+'Jan-Jun 2025'!AU31+'Jul-Dez 2025'!AU31+'Jan-Jun 2026'!AU31","v":0},{"$nulls":3},0,0,0,null,0,0,0,0,0,0,0,{"$f":"'Jan-Jun 2024'!BL31","v":0},{"$f":"'Jan-Jun 2024'!BK31+'Jul-Dez 2024'!BK31+'Jan-Jun 2025'!BK31+'Jul-Dez 2025'!BK31+'Jan-Jun 2026'!BK31","v":0},{"$nulls":3},0,0,0,null,0,0,0,0,0,0,0,{"$f":"'Jan-Jun 2024'!CB31","v":0},{"$f":"'Jan-Jun 2024'!CA31+'Jul-Dez 2024'!CA31+'Jan-Jun 2025'!CA31+'Jul-Dez 2025'!CA31+'Jan-Jun 2026'!CA31","v":0}]
["20h10 - 21h00",{"$nulls":3},"Feira",null,"Pascoa",{"$nulls":19},"Liberd.",{"$nulls":7},"M","IP",0,0,0,50,0,0,0,0,0,0,0,{"$f":"'Jan-Jun 2024'!AV32","v":0},{"$f":"'Jan-Jun 2024'!AU32+'Jul-Dez 2024'!AU32+'Jan-Jun 2025'!AU32+'Jul-Dez 2025'!AU32+'Jan-Jun 2026'!AU32","v":0},null,"M","EG",0,0,0,50,0,0,0,0,0,0,0,{"$f":"'Jan-Jun 2024'!BL32","v":0},{"$f":"'Jan-Jun 2024'!BK32+'Jul-Dez 2024'!BK32+'Jan-Jun 2025'!BK32+'Jul-Dez 2025'!BK32+'Jan-Jun 2026'!BK32","v":0},{"$nulls":3},0,0,0,null,0,0,0,0,0,0,0,{"$f":"'Jan-Jun 2024'!CB32","v":0},{"$f":"'Jan-Jun 2024'!CA32+'Jul-Dez 2024'!CA32+'Jan-Jun 2025'!CA32+'Jul-Dez 2025'!CA32+'Jan-Jun 2026'!CA32","v":0}]
["21h20 - 22h10",{"$nulls":3},"Santa",{"$nulls":31},0,0,0,null,0,0,0,0,0,0,0,{"$f":"'Jan-Jun 2024'!AV33","v":0},{"$f":"'Jan-Jun 2024'!AU33+'Jul-Dez 2024'!AU33+'Jan-Jun 2025'!AU33+'Jul-Dez 2025'!AU33+'Jan-Jun 2026'!AU33","v":0},{"$nulls":3},0,0,0,null,0,0,0,0,0,0,0,{"$f":"'Jan-Jun 2024'!BL33","v":0},{"$f":"'Jan-Jun 2024'!BK33+'Jul-Dez 2024'!BK33+'Jan-Jun 2025'!BK33+'Jul-Dez 2025'!BK33+'Jan-Jun 2026'!BK33","v":0},{"$nulls":3},0,0,0,null,0,0,0,0,0,0,0,{"$f":"'Jan-Jun 2024'!CB33","v":0},{"$f":"'Jan-Jun 2024'!CA33+'Jul-Dez 2024'!CA33+'Jan-Jun 2025'!CA33+'Jul-Dez 2025'!CA33+'Jan-Jun 2026'!CA33","v":0}]
["22h10 - 23h00",{"$nulls":33},"M","ELP",0,0,0,50,0,0,0,0,0,0,0,{"$f":"'Jan-Jun 2024'!AV34","v":0},{"$f":"'Jan-Jun 2024'!AU34+'Jul-Dez 2024'!AU34+'Jan-Jun 2025'!AU34+'Jul-Dez 2025'!AU34+'Jan-Jun 2026'!AU34","v":0},null,"M","IGE",0,0,0,60,0,0,0,0,0,0,0,{"$f":"'Jan-Jun 2024'!BL34","v":0},{"$f":"'Jan-Jun 2024'!BK34+'Jul-Dez 2024'!BK34+'Jan-Jun 2025'!BK34+'Jul-Dez 2025'!BK34+'Jan-Jun 2026'!BK34","v":0},{"$nulls":3},0,0,0,null,0,0,0,0,0,0,0,{"$f":"'Jan-Jun 2024'!CB34","v":0},{"$f":"'Jan-Jun 2024'!CA34+'Jul-Dez 2024'!CA34+'Jan-Jun 2025'!CA34+'Jul-Dez 2025'!CA34+'Jan-Jun 2026'!CA34","v":0}]
[{"$nulls":36},0,0,0,null,0,0,0,0,0,0,0,{"$f":"'Jan-Jun 2024'!AV35","v":0},{"$f":"'Jan-Jun 2024'!AU35+'Jul-Dez 2024'!AU35+'Jan-Jun 2025'!AU35+'Jul-Dez 2025'!AU35+'Jan-Jun 2026'!AU35","v":0},{"$nulls":3},0,0,0,null,0,0,0,0,0,0,0,{"$f":"'Jan-Jun 2024'!BL35","v":0},{"$f":"'Jan-Jun 2024'!BK35+'Jul-Dez 2024'!BK35+'Jan-Jun 2025'!BK35+'Jul-Dez 2025'!BK35+'Jan-Jun 2026'!BK35","v":0},{"$nulls":3},0,0,0,null,0,0,0,0,0,0,0,{"$f":"'Jan-Jun 2024'!CB35","v":0},{"$f":"'Jan-Jun 2024'!CA35+'Jul-Dez 2024'!CA35+'Jan-Jun 2025'!CA35+'Jul-Dez 2025'!CA35+'Jan-Jun 2026'!CA35","v":0}]
[{"$f":"A29+DAY(EOMONTH(A29,0))","v":"2026-05-01"},null,{"$f":"IF(C37<>\"\",CHOOSE(WEEKDAY(C37,1),\"Dom.\",\"Seg.\",\"Ter.\",\"Qua.\",\"Qui.\",\"Sex.\",\"Sáb.\"),\"\")","v":"Sex."},{"$f":"IF(D37<>\"\",CHOOSE(WEEKDAY(D37,1),\"Dom.\",\"Seg.\",\"Ter.\",\"Qua.\",\"Qui.\",\"Sex.\",\"Sáb.\"),\"\")","v":"Sáb."},"Dom.","Seg.","Ter.",{"$f":"IF(H37<>\"\",CHOOSE(WEEKDAY(H37,1),\"Dom.\",\"Seg.\",\"Ter.\",\"Qua.\",\"Qui.\",\"Sex.\",\"Sáb.\"),\"\")","v":"Qua."},"Qui.","Sex.","Sáb.","Dom.","Seg.","Ter.","Qua.","Qui.","Sex.","Sáb.","Dom.","Seg.","Ter.","Qua.","Qui.","Sex.","Sáb.","Dom.","Seg.","Ter.","Qua.","Qui.","Sex.","Sáb.","Dom.",{"$nulls":3},0,0,0,null,0,0,0,0,0,0,0,{"$f":"'Jan-Jun 2024'!AV36","v":0},{"$f":"'Jan-Jun 2024'!AU36+'Jul-Dez 2024'!AU36+'Jan-Jun 2025'!AU36+'Jul-Dez 2025'!AU36+'Jan-Jun 2026'!AU36","v":0},{"$nulls":3},0,0,0,null,0,0,0,0,0,0,0,{"$f":"'Jan-Jun 2024'!BL36","v":0},{"$f":"'Jan-Jun 2024'!BK36+'Jul-Dez 2024'!BK36+'Jan-Jun 2025'!BK36+'Jul-Dez 2025'!BK36+'Jan-Jun 2026'!BK36","v":0},{"$nulls":3},0,0,0,null,0,0,0,0,0,0,0,{"$f":"'Jan-Jun 2024'!CB36","v":0},{"$f":"'Jan-Jun 2024'!CA36+'Jul-Dez 2024'!CA36+'Jan-Jun 2025'!CA36+'Jul-Dez 2025'!CA36+'Jan-Jun 2026'!CA36","v":0}]
[null,null,{"$f":"A36","v":"2026-05-01"},{"$f":"IF(C37=\"\",\"\",IF(DAY(C37)<DAY(EOMONTH(C37,0)),C37+1,\"\"))","v":"2026-05-02"},{"$f":"IF(D37=\"\",\"\",IF(DAY(D37)<DAY(EOMONTH(D37,0)),D37+1,\"\"))","v":"2026-05-03"},{"$f":"IF(E37=\"\",\"\",IF(DAY(E37)<DAY(EOMONTH(E37,0)),E37+1,\"\"))","v":"2026-05-04"},{"$f":"IF(F37=\"\",\"\",IF(DAY(F37)<DAY(EOMONTH(F37,0)),F37+1,\"\"))","v":"2026-05-05"},{"$f":"IF(G37=\"\",\"\",IF(DAY(G37)<DAY(EOMONTH(G37,0)),G37+1,\"\"))","v":"2026-05-06"},"2026-05-07","2026-05-08","2026-05-09","2026-05-10",{"$f":"IF(L37=\"\",\"\",IF(DAY(L37)<DAY(EOMONTH(L37,0)),L37+1,\"\"))","v":"2026-05-11"},{"$f":"IF(M37=\"\",\"\",IF(DAY(M37)<DAY(EOMONTH(M37,0)),M37+1,\"\"))","v":"2026-05-12"},"2026-05-13","2026-05-14","2026-05-15","2026-05-16","2026-05-17",{"$f":"IF(S37=\"\",\"\",IF(DAY(S37)<DAY(EOMONTH(S37,0)),S37+1,\"\"))","v":"2026-05-18"},{"$f":"IF(T37=\"\",\"\",IF(DAY(T37)<DAY(EOMONTH(T37,0)),T37+1,\"\"))","v":"2026-05-19"},"2026-05-20","2026-05-21","2026-05-22","2026-05-23","2026-05-24",{"$f":"IF(Z37=\"\",\"\",IF(DAY(Z37)<DAY(EOMONTH(Z37,0)),Z37+1,\"\"))","v":"2026-05-25"},{"$f":"IF(AA37=\"\",\"\",IF(DAY(AA37)<DAY(EOMONTH(AA37,0)),AA37+1,\"\"))","v":"2026-05-26"},"2026-05-27","2026-05-28","2026-05-29",{"$f":"IF(AE37=\"\",\"\",IF(DAY(AE37)<DAY(EOMONTH(AE37,0)),AE37+1,\"\"))","v":"2026-05-30"},"2026-05-31",{"$nulls":3},0,0,0,null,0,0,0,0,0,0,0,{"$f":"'Jan-Jun 2024'!AV37","v":0},{"$f":"'Jan-Jun 2024'!AU37+'Jul-Dez 2024'!AU37+'Jan-Jun 2025'!AU37+'Jul-Dez 2025'!AU37+'Jan-Jun 2026'!AU37","v":0},{"$nulls":3},0,0,0,null,0,0,0,0,0,0,0,{"$f":"'Jan-Jun 2024'!BL37","v":0},{"$f":"'Jan-Jun 2024'!BK37+'Jul-Dez 2024'!BK37+'Jan-Jun 2025'!BK37+'Jul-Dez 2025'!BK37+'Jan-Jun 2026'!BK37","v":0},{"$nulls":3},0,0,0,null,0,0,0,0,0,0,0,{"$f":"'Jan-Jun 2024'!CB37","v":0},{"$f":"'Jan-Jun 2024'!CA37+'Jul-Dez 2024'!CA37+'Jan-Jun 2025'!CA37+'Jul-Dez 2025'!CA37+'Jan-Jun 2026'!CA37","v":0}]
["19h20 - 20h10",{"$nulls":33},"M","MM",0,0,0,50,0,0,0,0,0,0,0,{"$f":"'Jan-Jun 2024'!AV38","v":0},{"$f":"'Jan-Jun 2024'!AU38+'Jul-Dez 2024'!AU38+'Jan-Jun 2025'!AU38+'Jul-Dez 2025'!AU38+'Jan-Jun 2026'!AU38","v":0},{"$nulls":3},0,0,0,null,0,0,0,0,0,0,0,{"$f":"'Jan-Jun 2024'!BL38","v":0},{"$f":"'Jan-Jun 2024'!BK38+'Jul-Dez 2024'!BK38+'Jan-Jun 2025'!BK38+'Jul-Dez 2025'!BK38+'Jan-Jun 2026'!BK38","v":0},{"$nulls":3},0,0,0,null,0,0,0,0,0,0,0,{"$f":"'Jan-Jun 2024'!CB38","v":0},{"$f":"'Jan-Jun 2024'!CA38+'Jul-Dez 2024'!CA38+'Jan-Jun 2025'!CA38+'Jul-Dez 2025'!CA38+'Jan-Jun 2026'!CA38","v":0}]
["20h10 - 21h00",null,"Trab.",{"$nulls":31},"M","ROB",0,0,0,50,0,0,0,0,0,0,0,{"$f":"'Jan-Jun 2024'!AV39","v":0},{"$f":"'Jan-Jun 2024'!AU39+'Jul-Dez 2024'!AU39+'Jan-Jun 2025'!AU39+'Jul-Dez 2025'!AU39+'Jan-Jun 2026'!AU39","v":0},{"$nulls":3},0,0,0,null,0,0,0,0,0,0,0,{"$f":"'Jan-Jun 2024'!BL39","v":0},{"$f":"'Jan-Jun 2024'!BK39+'Jul-Dez 2024'!BK39+'Jan-Jun 2025'!BK39+'Jul-Dez 2025'!BK39+'Jan-Jun 2026'!BK39","v":0},{"$nulls":3},0,0,0,null,0,0,0,0,0,0,0,{"$f":"'Jan-Jun 2024'!CB39","v":0},{"$f":"'Jan-Jun 2024'!CA39+'Jul-Dez 2024'!CA39+'Jan-Jun 2025'!CA39+'Jul-Dez 2025'!CA39+'Jan-Jun 2026'!CA39","v":0}]
["21h20 - 22h10",{"$nulls":35},0,0,0,null,0,0,0,0,0,0,0,{"$f":"'Jan-Jun 2024'!AV40","v":0},{"$f":"'Jan-Jun 2024'!AU40+'Jul-Dez 2024'!AU40+'Jan-Jun 2025'!AU40+'Jul-Dez 2025'!AU40+'Jan-Jun 2026'!AU40","v":0},{"$nulls":3},0,0,0,null,0,0,0,0,0,0,0,{"$f":"'Jan-Jun 2024'!BL40","v":0},{"$f":"'Jan-Jun 2024'!BK40+'Jul-Dez 2024'!BK40+'Jan-Jun 2025'!BK40+'Jul-Dez 2025'!BK40+'Jan-Jun 2026'!BK40","v":0},{"$nulls":3},0,0,0,null,0,0,0,0,0,0,0,{"$f":"'Jan-Jun 2024'!CB40","v":0},{"$f":"'Jan-Jun 2024'!CA40+'Jul-Dez 2024'!CA40+'Jan-Jun 2025'!CA40+'Jul-Dez 2025'!CA40+'Jan-Jun 2026'!CA40","v":0}]
["22h10 - 23h00",{"$nulls":35},0,0,0,null,0,0,0,0,0,0,0,{"$f":"'Jan-Jun 2024'!AV41","v":0},{"$f":"'Jan-Jun 2024'!AU41+'Jul-Dez 2024'!AU41+'Jan-Jun 2025'!AU41+'Jul-Dez 2025'!AU41+'Jan-Jun 2026'!AU41","v":0},{"$nulls":3},0,0,0,null,0,0,0,0,0,0,0,{"$f":"'Jan-Jun 2024'!BL41","v":0},{"$f":"'Jan-Jun 2024'!BK41+'Jul-Dez 2024'!BK41+'Jan-Jun 2025'!BK41+'Jul-Dez 2025'!BK41+'Jan-Jun 2026'!BK41","v":0},{"$nulls":3},0,0,0,null,0,0,0,0,0,0,0,{"$f":"'Jan-Jun 2024'!CB41","v":0},{"$f":"'Jan-Jun 2024'!CA41+'Jul-Dez 2024'!CA41+'Jan-Jun 2025'!CA41+'Jul-Dez 2025'!CA41+'Jan-Jun 2026'!CA41","v":0}]
[{"$nulls":36},0,0,0,null,0,0,0,0,0,0,0,{"$f":"'Jan-Jun 2024'!AV42","v":0},{"$f":"'Jan-Jun 2024'!AU42+'Jul-Dez 2024'!AU42+'Jan-Jun 2025'!AU42+'Jul-Dez 2025'!AU42+'Jan-Jun 2026'!AU42","v":0},{"$nulls":3},0,0,0,null,0,0,0,0,0,0,0,{"$f":"'Jan-Jun 2024'!BL42","v":0},{"$f":"'Jan-Jun 2024'!BK42+'Jul-Dez 2024'!BK42+'Jan-Jun 2025'!BK42+'Jul-Dez 2025'!BK42+'Jan-Jun 2026'!BK42","v":0},{"$nulls":3},0,0,0,null,0,0,0,0,0,0,0,{"$f":"'Jan-Jun 2024'!CB42","v":0},{"$f":"'Jan-Jun 2024'!CA42+'Jul-Dez 2024'!CA42+'Jan-Jun 2025'!CA42+'Jul-Dez 2025'!CA42+'Jan-Jun 2026'!CA42","v":0}]
[{"$f":"A36+DAY(EOMONTH(A36,0))","v":"2026-06-01"},null,{"$f":"IF(C44<>\"\",CHOOSE(WEEKDAY(C44,1),\"Dom.\",\"Seg.\",\"Ter.\",\"Qua.\",\"Qui.\",\"Sex.\",\"Sáb.\"),\"\")","v":"Seg."},{"$f":"IF(D44<>\"\",CHOOSE(WEEKDAY(D44,1),\"Dom.\",\"Seg.\",\"Ter.\",\"Qua.\",\"Qui.\",\"Sex.\",\"Sáb.\"),\"\")","v":"Ter."},"Qua.","Qui.","Sex.","Sáb.","Dom.","Seg.","Ter.","Qua.","Qui.","Sex.","Sáb.","Dom.","Seg.","Ter.","Qua.","Qui.","Sex.","Sáb.","Dom.","Seg.","Ter.","Qua.","Qui.","Sex.","Sáb.","Dom.","Seg.","Ter.","",null,"T","MET",0,0,0,50,0,0,0,0,0,0,0,{"$f":"'Jan-Jun 2024'!AV43","v":0},{"$f":"'Jan-Jun 2024'!AU43+'Jul-Dez 2024'!AU43+'Jan-Jun 2025'!AU43+'Jul-Dez 2025'!AU43+'Jan-Jun 2026'!AU43","v":0},{"$nulls":3},0,0,0,null,0,0,0,0,0,0,0,{"$f":"'Jan-Jun 2024'!BL43","v":0},{"$f":"'Jan-Jun 2024'!BK43+'Jul-Dez 2024'!BK43+'Jan-Jun 2025'!BK43+'Jul-Dez 2025'!BK43+'Jan-Jun 2026'!BK43","v":0},{"$nulls":3},0,0,0,null,0,0,0,0,0,0,0,{"$f":"'Jan-Jun 2024'!CB43","v":0},{"$f":"'Jan-Jun 2024'!CA43+'Jul-Dez 2024'!CA43+'Jan-Jun 2025'!CA43+'Jul-Dez 2025'!CA43+'Jan-Jun 2026'!CA43","v":0}]
[null,null,{"$f":"A43","v":"2026-06-01"},{"$f":"IF(C44=\"\",\"\",IF(DAY(C44)<DAY(EOMONTH(C44,0)),C44+1,\"\"))","v":"2026-06-02"},"2026-06-03","2026-06-04","2026-06-05","2026-06-06",{"$f":"IF(H44=\"\",\"\",IF(DAY(H44)<DAY(EOMONTH(H44,0)),H44+1,\"\"))","v":"2026-06-07"},{"$f":"IF(I44=\"\",\"\",IF(DAY(I44)<DAY(EOMONTH(I44,0)),I44+1,\"\"))","v":"2026-06-08"},{"$f":"IF(J44=\"\",\"\",IF(DAY(J44)<DAY(EOMONTH(J44,0)),J44+1,\"\"))","v":"2026-06-09"},{"$f":"IF(K44=\"\",\"\",IF(DAY(K44)<DAY(EOMONTH(K44,0)),K44+1,\"\"))","v":"2026-06-10"},"2026-06-11","2026-06-12","2026-06-13","2026-06-14","2026-06-15",{"$f":"IF(Q44=\"\",\"\",IF(DAY(Q44)<DAY(EOMONTH(Q44,0)),Q44+1,\"\"))","v":"2026-06-16"},{"$f":"IF(R44=\"\",\"\",IF(DAY(R44)<DAY(EOMONTH(R44,0)),R44+1,\"\"))","v":"2026-06-17"},"2026-06-18","2026-06-19","2026-06-20","2026-06-21","2026-06-22","2026-06-23","2026-06-24","2026-06-25","2026-06-26","2026-06-27",{"$f":"IF(AC44=\"\",\"\",IF(DAY(AC44)<DAY(EOMONTH(AC44,0)),AC44+1,\"\"))","v":"2026-06-28"},{"$f":"IF(AD44=\"\",\"\",IF(DAY(AD44)<DAY(EOMONTH(AD44,0)),AD44+1,\"\"))","v":"2026-06-29"},"2026-06-30","",null,"P","MET1",0,0,0,26,0,0,0,0,0,0,0,{"$f":"'Jan-Jun 2024'!AV44","v":0},{"$f":"'Jan-Jun 2024'!AU44+'Jul-Dez 2024'!AU44+'Jan-Jun 2025'!AU44+'Jul-Dez 2025'!AU44+'Jan-Jun 2026'!AU44","v":0},{"$nulls":3},0,0,0,null,0,0,0,0,0,0,0,{"$f":"'Jan-Jun 2024'!BL44","v":0},{"$f":"'Jan-Jun 2024'!BK44+'Jul-Dez 2024'!BK44+'Jan-Jun 2025'!BK44+'Jul-Dez 2025'!BK44+'Jan-Jun 2026'!BK44","v":0},{"$nulls":3},0,0,0,null,0,0,0,0,0,0,0,{"$f":"'Jan-Jun 2024'!CB44","v":0},{"$f":"'Jan-Jun 2024'!CA44+'Jul-Dez 2024'!CA44+'Jan-Jun 2025'!CA44+'Jul-Dez 2025'!CA44+'Jan-Jun 2026'!CA44","v":0}]
["19h20 - 20h10",{"$nulls":4},"Corpo",{"$nulls":5},"Dia",{"$nulls":22},"P","MET2",0,0,0,24,0,0,0,0,0,0,0,{"$f":"'Jan-Jun 2024'!AV45","v":0},{"$f":"'Jan-Jun 2024'!AU45+'Jul-Dez 2024'!AU45+'Jan-Jun 2025'!AU45+'Jul-Dez 2025'!AU45+'Jan-Jun 2026'!AU45","v":0},{"$nulls":3},0,0,0,null,0,0,0,0,0,0,0,{"$f":"'Jan-Jun 2024'!BL45","v":0},{"$f":"'Jan-Jun 2024'!BK45+'Jul-Dez 2024'!BK45+'Jan-Jun 2025'!BK45+'Jul-Dez 2025'!BK45+'Jan-Jun 2026'!BK45","v":0},{"$nulls":3},0,0,0,null,0,0,0,0,0,0,0,{"$f":"'Jan-Jun 2024'!CB45","v":0},{"$f":"'Jan-Jun 2024'!CA45+'Jul-Dez 2024'!CA45+'Jan-Jun 2025'!CA45+'Jul-Dez 2025'!CA45+'Jan-Jun 2026'!CA45","v":0}]
["20h10 - 21h00",{"$nulls":4},"de",{"$nulls":5},"de",{"$nulls":22},"P","MET3",0,0,0,0,0,0,0,0,0,0,0,{"$f":"'Jan-Jun 2024'!AV46","v":0},{"$f":"'Jan-Jun 2024'!AU46+'Jul-Dez 2024'!AU46+'Jan-Jun 2025'!AU46+'Jul-Dez 2025'!AU46+'Jan-Jun 2026'!AU46","v":0},{"$nulls":3},0,0,0,null,0,0,0,0,0,0,0,{"$f":"'Jan-Jun 2024'!BL46","v":0},{"$f":"'Jan-Jun 2024'!BK46+'Jul-Dez 2024'!BK46+'Jan-Jun 2025'!BK46+'Jul-Dez 2025'!BK46+'Jan-Jun 2026'!BK46","v":0},{"$nulls":3},0,0,{"$f":"IF(BO46=$DI$8,BR46,IF(BO46=$DI$9,BS47+BR46,IF(BO46=$DI$10,IF(BO47=$DI$10,BS47+BR46,BR46),)))","v":0},null,0,0,0,0,0,0,0,{"$f":"'Jan-Jun 2024'!CB46","v":0},{"$f":"'Jan-Jun 2024'!CA46+'Jul-Dez 2024'!CA46+'Jan-Jun 2025'!CA46+'Jul-Dez 2025'!CA46+'Jan-Jun 2026'!CA46","v":0}]
["21h20 - 22h10",{"$nulls":4},"Deus",{"$nulls":5},"Port.",{"$nulls":24},0,0,0,null,0,0,0,0,0,0,0,{"$f":"'Jan-Jun 2024'!AV47","v":0},{"$f":"'Jan-Jun 2024'!AU47+'Jul-Dez 2024'!AU47+'Jan-Jun 2025'!AU47+'Jul-Dez 2025'!AU47+'Jan-Jun 2026'!AU47","v":0},{"$nulls":3},0,0,0,null,0,0,0,0,0,0,0,{"$f":"'Jan-Jun 2024'!BL47","v":0},{"$f":"'Jan-Jun 2024'!BK47+'Jul-Dez 2024'!BK47+'Jan-Jun 2025'!BK47+'Jul-Dez 2025'!BK47+'Jan-Jun 2026'!BK47","v":0},{"$nulls":3},0,0,0,null,0,0,0,0,0,0,0,{"$f":"'Jan-Jun 2024'!CB47","v":0},{"$f":"'Jan-Jun 2024'!CA47+'Jul-Dez 2024'!CA47+'Jan-Jun 2025'!CA47+'Jul-Dez 2025'!CA47+'Jan-Jun 2026'!CA47","v":0}]
["22h10 - 23h00",{"$nulls":35},0,0,0,null,0,0,0,0,0,0,0,{"$f":"'Jan-Jun 2024'!AV48","v":0},{"$f":"'Jan-Jun 2024'!AU48+'Jul-Dez 2024'!AU48+'Jan-Jun 2025'!AU48+'Jul-Dez 2025'!AU48+'Jan-Jun 2026'!AU48","v":0},{"$nulls":3},0,0,0,null,0,0,0,0,0,0,0,{"$f":"'Jan-Jun 2024'!BL48","v":0},{"$f":"'Jan-Jun 2024'!BK48+'Jul-Dez 2024'!BK48+'Jan-Jun 2025'!BK48+'Jul-Dez 2025'!BK48+'Jan-Jun 2026'!BK48","v":0},{"$nulls":3},0,0,0,null,0,0,0,0,0,0,0,{"$f":"'Jan-Jun 2024'!CB48","v":0},{"$f":"'Jan-Jun 2024'!CA48+'Jul-Dez 2024'!CA48+'Jan-Jun 2025'!CA48+'Jul-Dez 2025'!CA48+'Jan-Jun 2026'!CA48","v":0}]
[null,"UFCD","Módulo",{"$nulls":6},"Cód.","H","Formador",null,null,"Ini.","Fim",null,"Componente",null,null,"Módulo",{"$nulls":6},"H","Formador",null,null,"Ini.","Fim",null,"M","CNC",0,0,0,50,0,0,0,0,0,0,0,{"$f":"'Jan-Jun 2024'!AV49","v":0},{"$f":"'Jan-Jun 2024'!AU49+'Jul-Dez 2024'!AU49+'Jan-Jun 2025'!AU49+'Jul-Dez 2025'!AU49+'Jan-Jun 2026'!AU49","v":0},{"$nulls":3},0,0,0,null,0,0,0,0,0,0,0,{"$f":"'Jan-Jun 2024'!BL49","v":0},{"$f":"'Jan-Jun 2024'!BK49+'Jul-Dez 2024'!BK49+'Jan-Jun 2025'!BK49+'Jul-Dez 2025'!BK49+'Jan-Jun 2026'!BK49","v":0},{"$nulls":3},0,0,0,null,0,0,0,0,0,0,0,{"$f":"'Jan-Jun 2024'!CB49","v":0},{"$f":"'Jan-Jun 2024'!CA49+'Jul-Dez 2024'!CA49+'Jan-Jun 2025'!CA49+'Jul-Dez 2025'!CA49+'Jan-Jun 2026'!CA49","v":0}]
["Formação Geral e Científica\n",5146,"IGO","Introdução à Gestão das Organizações",{"$nulls":5},"B153",25,"Filipa Norte",{"$nulls":5},"Formação Tecnologica",6407,"PFL","Processos de Fundição / Ligação",{"$nulls":5},"D333",25,"Pedro Santos",{"$nulls":5},"M","CAM",0,0,0,50,0,0,0,0,0,0,0,{"$f":"'Jan-Jun 2024'!AV50","v":0},{"$f":"'Jan-Jun 2024'!AU50+'Jul-Dez 2024'!AU50+'Jan-Jun 2025'!AU50+'Jul-Dez 2025'!AU50+'Jan-Jun 2026'!AU50","v":0},{"$nulls":3},0,0,0,null,0,0,0,0,0,0,0,{"$f":"'Jan-Jun 2024'!BL50","v":0},{"$f":"'Jan-Jun 2024'!BK50+'Jul-Dez 2024'!BK50+'Jan-Jun 2025'!BK50+'Jul-Dez 2025'!BK50+'Jan-Jun 2026'!BK50","v":0},{"$nulls":3},0,0,0,null,0,0,0,0,0,0,0,{"$f":"'Jan-Jun 2024'!CB50","v":0},{"$f":"'Jan-Jun 2024'!CA50+'Jul-Dez 2024'!CA50+'Jan-Jun 2025'!CA50+'Jul-Dez 2025'!CA50+'Jan-Jun 2026'!CA50","v":0}]
[null,5152,"GMQ","Gestão e Motivação para a Qualidade",{"$nulls":5},"B155",25,"Luís Ferreira",{"$nulls":6},6408,"PCC","Processos de Conformação / Corte",{"$nulls":5},"D334",25,"Pedro Santos",{"$nulls":5},"M","PAC",0,0,0,50,0,0,0,0,0,0,0,{"$f":"'Jan-Jun 2024'!AV51","v":0},{"$f":"'Jan-Jun 2024'!AU51+'Jul-Dez 2024'!AU51+'Jan-Jun 2025'!AU51+'Jul-Dez 2025'!AU51+'Jan-Jun 2026'!AU51","v":0},{"$nulls":3},0,0,0,null,0,0,0,0,0,0,0,{"$f":"'Jan-Jun 2024'!BL51","v":0},{"$f":"'Jan-Jun 2024'!BK51+'Jul-Dez 2024'!BK51+'Jan-Jun 2025'!BK51+'Jul-Dez 2025'!BK51+'Jan-Jun 2026'!BK51","v":0},{"$nulls":3},0,0,0,null,0,0,0,0,0,0,0,{"$f":"'Jan-Jun 2024'!CB51","v":0},{"$f":"'Jan-Jun 2024'!CA51+'Jul-Dez 2024'!CA51+'Jan-Jun 2025'!CA51+'Jul-Dez 2025'!CA51+'Jan-Jun 2026'!CA51","v":0}]
[null,5149,"SGQ","Sistama de Gestão da Qualidade ISO 9001",{"$nulls":5},"F369",25,"Luís Ferreira",{"$nulls":6},6409,"PAA","Processos por Arranque de Apara",{"$nulls":5},"C588",25,"Miguel Franco",{"$nulls":7},0,0,0,null,0,0,0,0,0,0,0,{"$f":"'Jan-Jun 2024'!AV52","v":0},{"$f":"'Jan-Jun 2024'!AU52+'Jul-Dez 2024'!AU52+'Jan-Jun 2025'!AU52+'Jul-Dez 2025'!AU52+'Jan-Jun 2026'!AU52","v":0},{"$nulls":3},0,0,0,null,0,0,0,0,0,0,0,{"$f":"'Jan-Jun 2024'!BL52","v":0},{"$f":"'Jan-Jun 2024'!BK52+'Jul-Dez 2024'!BK52+'Jan-Jun 2025'!BK52+'Jul-Dez 2025'!BK52+'Jan-Jun 2026'!BK52","v":0},{"$nulls":3},0,0,0,null,0,0,0,0,0,0,0,{"$f":"'Jan-Jun 2024'!CB52","v":0},{"$f":"'Jan-Jun 2024'!CA52+'Jul-Dez 2024'!CA52+'Jan-Jun 2025'!CA52+'Jul-Dez 2025'!CA52+'Jan-Jun 2026'!CA52","v":0}]
[null,349,"ASHST","Ambiente, Segurança, Higiene e Saúde no Trabalho",{"$nulls":5},"F423",25,"António Maltez",{"$nulls":6},6410,"IME","Instalação de Máquinas Elétricas",{"$nulls":5},"K252",50,"Emanuel Serrano",{"$nulls":7},0,0,0,null,0,0,0,0,0,0,0,{"$f":"'Jan-Jun 2024'!AV53","v":0},{"$f":"'Jan-Jun 2024'!AU53+'Jul-Dez 2024'!AU53+'Jan-Jun 2025'!AU53+'Jul-Dez 2025'!AU53+'Jan-Jun 2026'!AU53","v":0},{"$nulls":3},0,0,0,null,0,0,0,0,0,0,0,{"$f":"'Jan-Jun 2024'!BL53","v":0},{"$f":"'Jan-Jun 2024'!BK53+'Jul-Dez 2024'!BK53+'Jan-Jun 2025'!BK53+'Jul-Dez 2025'!BK53+'Jan-Jun 2026'!BK53","v":0},{"$nulls":3},0,0,0,null,0,0,0,0,0,0,0,{"$f":"'Jan-Jun 2024'!CB53","v":0},{"$f":"'Jan-Jun 2024'!CA53+'Jul-Dez 2024'!CA53+'Jan-Jun 2025'!CA53+'Jul-Dez 2025'!CA53+'Jan-Jun 2026'!CA53","v":0}]
[null,5653,"DT","Direito do Trabalho",{"$nulls":5},"B154",25,"Natasha Esteves",{"$nulls":6},6411,"ELE","Eletrónica",{"$nulls":5},"K253",50,"Marco Martinho",{"$nulls":7},0,0,0,null,0,0,0,0,0,0,0,{"$f":"'Jan-Jun 2024'!AV54","v":0},{"$f":"'Jan-Jun 2024'!AU54+'Jul-Dez 2024'!AU54+'Jan-Jun 2025'!AU54+'Jul-Dez 2025'!AU54+'Jan-Jun 2026'!AU54","v":0},{"$nulls":3},0,0,0,null,0,0,0,0,0,0,0,{"$f":"'Jan-Jun 2024'!BL54","v":0},{"$f":"'Jan-Jun 2024'!BK54+'Jul-Dez 2024'!BK54+'Jan-Jun 2025'!BK54+'Jul-Dez 2025'!BK54+'Jan-Jun 2026'!BK54","v":0},{"$nulls":3},0,0,0,null,0,0,0,0,0,0,0,{"$f":"'Jan-Jun 2024'!CB54","v":0},{"$f":"'Jan-Jun 2024'!CA54+'Jul-Dez 2024'!CA54+'Jan-Jun 2025'!CA54+'Jul-Dez 2025'!CA54+'Jan-Jun 2026'!CA54","v":0}]
[null,5768,"ICS","Inglês em Contexto Socioprofissional",{"$nulls":5},"L046",25,"Helena Abelho",{"$nulls":6},6412,"CP","Circuitos Pneumáticos",{"$nulls":5},"E329",25,"Vítor Caetano",{"$nulls":7},0,0,0,null,0,0,0,0,0,0,0,{"$f":"'Jan-Jun 2024'!AV55","v":0},{"$f":"'Jan-Jun 2024'!AU55+'Jul-Dez 2024'!AU55+'Jan-Jun 2025'!AU55+'Jul-Dez 2025'!AU55+'Jan-Jun 2026'!AU55","v":0},{"$nulls":3},0,0,0,null,0,0,0,0,0,0,0,{"$f":"'Jan-Jun 2024'!BL55","v":0},{"$f":"'Jan-Jun 2024'!BK55+'Jul-Dez 2024'!BK55+'Jan-Jun 2025'!BK55+'Jul-Dez 2025'!BK55+'Jan-Jun 2026'!BK55","v":0},{"$nulls":3},0,0,0,null,0,0,0,0,0,0,0,{"$f":"'Jan-Jun 2024'!CB55","v":0},{"$f":"'Jan-Jun 2024'!CA55+'Jul-Dez 2024'!CA55+'Jan-Jun 2025'!CA55+'Jul-Dez 2025'!CA55+'Jan-Jun 2026'!CA55","v":0}]
[{"$nulls":18},6413,"CH","Circuitos Óleo-Hidráulicos",{"$nulls":5},"E330",25,"Vítor Caetano",{"$nulls":7},0,0,0,null,0,0,0,0,0,0,0,{"$f":"'Jan-Jun 2024'!AV56","v":0},{"$f":"'Jan-Jun 2024'!AU56+'Jul-Dez 2024'!AU56+'Jan-Jun 2025'!AU56+'Jul-Dez 2025'!AU56+'Jan-Jun 2026'!AU56","v":0},{"$nulls":3},0,0,0,null,0,0,0,0,0,0,0,{"$f":"'Jan-Jun 2024'!BL56","v":0},{"$f":"'Jan-Jun 2024'!BK56+'Jul-Dez 2024'!BK56+'Jan-Jun 2025'!BK56+'Jul-Dez 2025'!BK56+'Jan-Jun 2026'!BK56","v":0},{"$nulls":3},0,0,0,null,0,0,0,0,0,0,0,{"$f":"'Jan-Jun 2024'!CB56","v":0},{"$f":"'Jan-Jun 2024'!CA56+'Jul-Dez 2024'!CA56+'Jan-Jun 2025'!CA56+'Jul-Dez 2025'!CA56+'Jan-Jun 2026'!CA56","v":0}]
[{"$nulls":18},6414,"CLP","Controladores Lógicos Programáveis",{"$nulls":5},"C589",50,"Rafael Matos",{"$nulls":7},0,0,0,null,0,0,0,0,0,0,0,{"$f":"'Jan-Jun 2024'!AV57","v":0},{"$f":"'Jan-Jun 2024'!AU57+'Jul-Dez 2024'!AU57+'Jan-Jun 2025'!AU57+'Jul-Dez 2025'!AU57+'Jan-Jun 2026'!AU57","v":0},{"$nulls":3},0,0,0,null,0,0,0,0,0,0,0,{"$f":"'Jan-Jun 2024'!BL57","v":0},{"$f":"'Jan-Jun 2024'!BK57+'Jul-Dez 2024'!BK57+'Jan-Jun 2025'!BK57+'Jul-Dez 2025'!BK57+'Jan-Jun 2026'!BK57","v":0},{"$nulls":3},0,0,0,null,0,0,0,0,0,0,0,{"$f":"'Jan-Jun 2024'!CB57","v":0},{"$f":"'Jan-Jun 2024'!CA57+'Jul-Dez 2024'!CA57+'Jan-Jun 2025'!CA57+'Jul-Dez 2025'!CA57+'Jan-Jun 2026'!CA57","v":0}]
[{"$nulls":18},6415,"DCM","Desenho de Construções Mecânicas",{"$nulls":5},"A438",50,"Luís Carvalho",{"$nulls":7},0,0,0,null,0,0,0,0,0,0,0,{"$f":"'Jan-Jun 2024'!AV58","v":0},{"$f":"'Jan-Jun 2024'!AU58+'Jul-Dez 2024'!AU58+'Jan-Jun 2025'!AU58+'Jul-Dez 2025'!AU58+'Jan-Jun 2026'!AU58","v":0},{"$nulls":3},0,0,0,null,0,0,0,0,0,0,0,{"$f":"'Jan-Jun 2024'!BL58","v":0},{"$f":"'Jan-Jun 2024'!BK58+'Jul-Dez 2024'!BK58+'Jan-Jun 2025'!BK58+'Jul-Dez 2025'!BK58+'Jan-Jun 2026'!BK58","v":0},{"$nulls":3},0,0,0,null,0,0,0,0,0,0,0,{"$f":"'Jan-Jun 2024'!CB58","v":0},{"$f":"'Jan-Jun 2024'!CA58+'Jul-Dez 2024'!CA58+'Jan-Jun 2025'!CA58+'Jul-Dez 2025'!CA58+'Jan-Jun 2026'!CA58","v":0}]
[{"$nulls":18},6416,"CM","Ciência dos Materiais",{"$nulls":5},"C590",50,"Luís Carvalho",{"$nulls":5},"M","APF",0,0,0,25,0,0,0,0,0,0,0,{"$f":"'Jan-Jun 2024'!AV59","v":0},{"$f":"'Jan-Jun 2024'!AU59+'Jul-Dez 2024'!AU59+'Jan-Jun 2025'!AU59+'Jul-Dez 2025'!AU59+'Jan-Jun 2026'!AU59","v":0},{"$nulls":3},0,0,0,null,0,0,0,0,0,0,0,{"$f":"'Jan-Jun 2024'!BL59","v":0},{"$f":"'Jan-Jun 2024'!BK59+'Jul-Dez 2024'!BK59+'Jan-Jun 2025'!BK59+'Jul-Dez 2025'!BK59+'Jan-Jun 2026'!BK59","v":0},{"$nulls":3},0,0,0,null,0,0,0,0,0,0,0,{"$f":"'Jan-Jun 2024'!CB59","v":0},{"$f":"'Jan-Jun 2024'!CA59+'Jul-Dez 2024'!CA59+'Jan-Jun 2025'!CA59+'Jul-Dez 2025'!CA59+'Jan-Jun 2026'!CA59","v":0}]
[{"$nulls":18},6417,"SD","Sistemas Digitais",{"$nulls":5},"I159",50,"Rafael Matos",{"$nulls":7},0,0,0,null,0,0,0,0,0,0,0,{"$f":"'Jan-Jun 2024'!AV60","v":0},{"$f":"'Jan-Jun 2024'!AU60+'Jul-Dez 2024'!AU60+'Jan-Jun 2025'!AU60+'Jul-Dez 2025'!AU60+'Jan-Jun 2026'!AU60","v":0},{"$nulls":3},0,0,0,null,0,0,0,0,0,0,0,{"$f":"'Jan-Jun 2024'!BL60","v":0},{"$f":"'Jan-Jun 2024'!BK60+'Jul-Dez 2024'!BK60+'Jan-Jun 2025'!BK60+'Jul-Dez 2025'!BK60+'Jan-Jun 2026'!BK60","v":0},{"$nulls":3},0,0,0,null,0,0,0,0,0,0,0,{"$f":"'Jan-Jun 2024'!CB60","v":0},{"$f":"'Jan-Jun 2024'!CA60+'Jul-Dez 2024'!CA60+'Jan-Jun 2025'!CA60+'Jul-Dez 2025'!CA60+'Jan-Jun 2026'!CA60","v":0}]
[{"$nulls":18},6418,"OEM","Órgãos e Elementos de Máquinas",{"$nulls":5},"C591",50,"Luís Carvalho",{"$nulls":7},0,0,0,null,0,0,0,0,0,0,0,{"$f":"'Jan-Jun 2024'!AV61","v":0},{"$f":"'Jan-Jun 2024'!AU61+'Jul-Dez 2024'!AU61+'Jan-Jun 2025'!AU61+'Jul-Dez 2025'!AU61+'Jan-Jun 2026'!AU61","v":0},{"$nulls":3},0,0,0,null,0,0,0,0,0,0,0,{"$f":"'Jan-Jun 2024'!BL61","v":0},{"$f":"'Jan-Jun 2024'!BK61+'Jul-Dez 2024'!BK61+'Jan-Jun 2025'!BK61+'Jul-Dez 2025'!BK61+'Jan-Jun 2026'!BK61","v":0},{"$nulls":3},0,0,0,null,0,0,0,0,0,0,0,{"$f":"'Jan-Jun 2024'!CB61","v":0},{"$f":"'Jan-Jun 2024'!CA61+'Jul-Dez 2024'!CA61+'Jan-Jun 2025'!CA61+'Jul-Dez 2025'!CA61+'Jan-Jun 2026'!CA61","v":0}]
[null,null,"EG","Eletricidade Geral",{"$nulls":5},"K264",50,"Rafael Matos",{"$nulls":6},6419,"IP","Introdução à Programação",{"$nulls":5},"I160",50,"Vítor Caetano",{"$nulls":7},0,0,0,null,0,0,0,0,0,0,0,{"$f":"'Jan-Jun 2024'!AV62","v":0},{"$f":"'Jan-Jun 2024'!AU62+'Jul-Dez 2024'!AU62+'Jan-Jun 2025'!AU62+'Jul-Dez 2025'!AU62+'Jan-Jun 2026'!AU62","v":0},{"$nulls":3},0,0,0,null,0,0,0,0,0,0,0,{"$f":"'Jan-Jun 2024'!BL62","v":0},{"$f":"'Jan-Jun 2024'!BK62+'Jul-Dez 2024'!BK62+'Jan-Jun 2025'!BK62+'Jul-Dez 2025'!BK62+'Jan-Jun 2026'!BK62","v":0},{"$nulls":3},0,0,0,null,0,0,0,0,0,0,0,{"$f":"'Jan-Jun 2024'!CB62","v":0},{"$f":"'Jan-Jun 2024'!CA62+'Jul-Dez 2024'!CA62+'Jan-Jun 2025'!CA62+'Jul-Dez 2025'!CA62+'Jan-Jun 2026'!CA62","v":0}]
[{"$nulls":18},6420,"ELP","Eletrónica de Potência - Fundamentos",{"$nulls":5},"K254",50,"Marco Martinho",{"$nulls":7},0,0,0,null,0,0,0,0,0,0,0,{"$f":"'Jan-Jun 2024'!AV63","v":0},{"$f":"'Jan-Jun 2024'!AU63+'Jul-Dez 2024'!AU63+'Jan-Jun 2025'!AU63+'Jul-Dez 2025'!AU63+'Jan-Jun 2026'!AU63","v":0},{"$nulls":3},0,0,0,null,0,0,0,0,0,0,0,{"$f":"'Jan-Jun 2024'!BL63","v":0},{"$f":"'Jan-Jun 2024'!BK63+'Jul-Dez 2024'!BK63+'Jan-Jun 2025'!BK63+'Jul-Dez 2025'!BK63+'Jan-Jun 2026'!BK63","v":0},{"$nulls":3},0,0,0,null,0,0,0,0,0,0,0,{"$f":"'Jan-Jun 2024'!CB63","v":0},{"$f":"'Jan-Jun 2024'!CA63+'Jul-Dez 2024'!CA63+'Jan-Jun 2025'!CA63+'Jul-Dez 2025'!CA63+'Jan-Jun 2026'!CA63","v":0}]
[null,null,"IGE","Inteligência Emocional e Gestão Emocional",{"$nulls":6},60,"Marta Leal",{"$nulls":6},6421,"MM","Microprocessadores / Microcontroladores",{"$nulls":5},"I161",50,"Marco Martinho",{"$nulls":7},0,0,0,null,0,0,0,0,0,0,0,{"$f":"'Jan-Jun 2024'!AV64","v":0},{"$f":"'Jan-Jun 2024'!AU64+'Jul-Dez 2024'!AU64+'Jan-Jun 2025'!AU64+'Jul-Dez 2025'!AU64+'Jan-Jun 2026'!AU64","v":0},{"$nulls":3},0,0,0,null,0,0,0,0,0,0,0,{"$f":"'Jan-Jun 2024'!BL64","v":0},{"$f":"'Jan-Jun 2024'!BK64+'Jul-Dez 2024'!BK64+'Jan-Jun 2025'!BK64+'Jul-Dez 2025'!BK64+'Jan-Jun 2026'!BK64","v":0},{"$nulls":3},0,0,0,null,0,0,0,0,0,0,0,{"$f":"'Jan-Jun 2024'!CB64","v":0},{"$f":"'Jan-Jun 2024'!CA64+'Jul-Dez 2024'!CA64+'Jan-Jun 2025'!CA64+'Jul-Dez 2025'!CA64+'Jan-Jun 2026'!CA64","v":0}]
[{"$nulls":18},5134,"ROB","Robótica - Fundamentos",{"$nulls":5},"E331",50,"Marco Martinho",{"$nulls":7},0,0,0,null,0,0,0,0,0,0,0,{"$f":"'Jan-Jun 2024'!AV65","v":0},{"$f":"'Jan-Jun 2024'!AU65+'Jul-Dez 2024'!AU65+'Jan-Jun 2025'!AU65+'Jul-Dez 2025'!AU65+'Jan-Jun 2026'!AU65","v":0},{"$nulls":3},0,0,0,null,0,0,0,0,0,0,0,{"$f":"'Jan-Jun 2024'!BL65","v":0},{"$f":"'Jan-Jun 2024'!BK65+'Jul-Dez 2024'!BK65+'Jan-Jun 2025'!BK65+'Jul-Dez 2025'!BK65+'Jan-Jun 2026'!BK65","v":0},{"$nulls":3},0,0,0,null,0,0,0,0,0,0,0,{"$f":"'Jan-Jun 2024'!CB65","v":0},{"$f":"'Jan-Jun 2024'!CA65+'Jul-Dez 2024'!CA65+'Jan-Jun 2025'!CA65+'Jul-Dez 2025'!CA65+'Jan-Jun 2026'!CA65","v":0}]
[{"$nulls":18},6422,"MET","Metrologia por Coordenadas",{"$nulls":5},"C592",50,"Miguel Franco",{"$nulls":7},0,0,0,null,0,0,0,0,0,0,0,{"$f":"'Jan-Jun 2024'!AV66","v":0},{"$f":"'Jan-Jun 2024'!AU66+'Jul-Dez 2024'!AU66+'Jan-Jun 2025'!AU66+'Jul-Dez 2025'!AU66+'Jan-Jun 2026'!AU66","v":0},{"$nulls":3},0,0,0,null,0,0,0,0,0,0,0,{"$f":"'Jan-Jun 2024'!BL66","v":0},{"$f":"'Jan-Jun 2024'!BK66+'Jul-Dez 2024'!BK66+'Jan-Jun 2025'!BK66+'Jul-Dez 2025'!BK66+'Jan-Jun 2026'!BK66","v":0},{"$nulls":3},0,0,0,null,0,0,0,0,0,0,0,{"$f":"'Jan-Jun 2024'!CB66","v":0},{"$f":"'Jan-Jun 2024'!CA66+'Jul-Dez 2024'!CA66+'Jan-Jun 2025'!CA66+'Jul-Dez 2025'!CA66+'Jan-Jun 2026'!CA66","v":0}]
[{"$nulls":18},6423,"CNC","CNC - Comando Numérico por Computador",{"$nulls":5},"C593",50,"Miguel Paulo",{"$nulls":7},0,0,0,null,0,0,0,0,0,0,0,{"$f":"'Jan-Jun 2024'!AV67","v":0},{"$f":"'Jan-Jun 2024'!AU67+'Jul-Dez 2024'!AU67+'Jan-Jun 2025'!AU67+'Jul-Dez 2025'!AU67+'Jan-Jun 2026'!AU67","v":0},{"$nulls":3},0,0,0,null,0,0,0,0,0,0,0,{"$f":"'Jan-Jun 2024'!BL67","v":0},{"$f":"'Jan-Jun 2024'!BK67+'Jul-Dez 2024'!BK67+'Jan-Jun 2025'!BK67+'Jul-Dez 2025'!BK67+'Jan-Jun 2026'!BK67","v":0},{"$nulls":3},0,0,0,null,0,0,0,0,0,0,0,{"$f":"'Jan-Jun 2024'!CB67","v":0},{"$f":"'Jan-Jun 2024'!CA67+'Jul-Dez 2024'!CA67+'Jan-Jun 2025'!CA67+'Jul-Dez 2025'!CA67+'Jan-Jun 2026'!CA67","v":0}]
[null,null,"Salas:",null,"SEG","TER","QUA","QUI","SEX",{"$nulls":9},6424,"CAM","CAM - Fabricação Assistida por Computador",{"$nulls":5},"C594",50,"João Franco",{"$nulls":7},0,0,0,null,0,0,0,0,0,0,0,{"$f":"'Jan-Jun 2024'!AV68","v":0},{"$f":"'Jan-Jun 2024'!AU68+'Jul-Dez 2024'!AU68+'Jan-Jun 2025'!AU68+'Jul-Dez 2025'!AU68+'Jan-Jun 2026'!AU68","v":0},{"$nulls":3},0,0,0,null,0,0,0,0,0,0,0,{"$f":"'Jan-Jun 2024'!BL68","v":0},{"$f":"'Jan-Jun 2024'!BK68+'Jul-Dez 2024'!BK68+'Jan-Jun 2025'!BK68+'Jul-Dez 2025'!BK68+'Jan-Jun 2026'!BK68","v":0},{"$nulls":3},0,0,0,null,0,0,0,0,0,0,0,{"$f":"'Jan-Jun 2024'!CB68","v":0},{"$f":"'Jan-Jun 2024'!CA68+'Jul-Dez 2024'!CA68+'Jan-Jun 2025'!CA68+'Jul-Dez 2025'!CA68+'Jan-Jun 2026'!CA68","v":0}]
[{"$nulls":18},6425,"PAC","Projecto Assistido por Computador",{"$nulls":5},"A434",50,"João Catarino",{"$nulls":7},0,0,0,null,0,0,0,0,0,0,0,{"$f":"'Jan-Jun 2024'!AV69","v":0},{"$f":"'Jan-Jun 2024'!AU69+'Jul-Dez 2024'!AU69+'Jan-Jun 2025'!AU69+'Jul-Dez 2025'!AU69+'Jan-Jun 2026'!AU69","v":0},{"$nulls":3},0,0,0,null,0,0,0,0,0,0,0,{"$f":"'Jan-Jun 2024'!BL69","v":0},{"$f":"'Jan-Jun 2024'!BK69+'Jul-Dez 2024'!BK69+'Jan-Jun 2025'!BK69+'Jul-Dez 2025'!BK69+'Jan-Jun 2026'!BK69","v":0},{"$nulls":3},0,0,0,null,0,0,0,0,0,0,0,{"$f":"'Jan-Jun 2024'!CB69","v":0},{"$f":"'Jan-Jun 2024'!CA69+'Jul-Dez 2024'!CA69+'Jan-Jun 2025'!CA69+'Jul-Dez 2025'!CA69+'Jan-Jun 2026'!CA69","v":0}]
[{"$nulls":17},"Estágio",null,"PCT","Prática em Contexto Trabalho",{"$nulls":5},"K259",560,"Tutores",{"$nulls":7},0,0,0,null,0,0,0,0,0,0,0,{"$f":"'Jan-Jun 2024'!AV70","v":0},{"$f":"'Jan-Jun 2024'!AU70+'Jul-Dez 2024'!AU70+'Jan-Jun 2025'!AU70+'Jul-Dez 2025'!AU70+'Jan-Jun 2026'!AU70","v":0},{"$nulls":3},0,0,0,null,0,0,0,0,0,0,0,{"$f":"'Jan-Jun 2024'!BL70","v":0},{"$f":"'Jan-Jun 2024'!BK70+'Jul-Dez 2024'!BK70+'Jan-Jun 2025'!BK70+'Jul-Dez 2025'!BK70+'Jan-Jun 2026'!BK70","v":0},{"$nulls":3},0,0,0,null,0,0,0,0,0,0,0,{"$f":"'Jan-Jun 2024'!CB70","v":0},{"$f":"'Jan-Jun 2024'!CA70+'Jul-Dez 2024'!CA70+'Jan-Jun 2025'!CA70+'Jul-Dez 2025'!CA70+'Jan-Jun 2026'!CA70","v":0}]
[null,null,"R. Quantitativas:",{"$nulls":14},"Projecto Final",null,"APF","Acompanhamento ao Projeto Final",{"$nulls":6},16,"Orientadores",{"$nulls":7},0,0,0,null,0,0,0,0,0,0,0,{"$f":"'Jan-Jun 2024'!AV71","v":0},{"$f":"'Jan-Jun 2024'!AU71+'Jul-Dez 2024'!AU71+'Jan-Jun 2025'!AU71+'Jul-Dez 2025'!AU71+'Jan-Jun 2026'!AU71","v":0},{"$nulls":3},0,0,0,null,0,0,0,0,0,0,0,{"$f":"'Jan-Jun 2024'!BL71","v":0},{"$f":"'Jan-Jun 2024'!BK71+'Jul-Dez 2024'!BK71+'Jan-Jun 2025'!BK71+'Jul-Dez 2025'!BK71+'Jan-Jun 2026'!BK71","v":0},{"$nulls":3},0,0,0,null,0,0,0,0,0,0,0,{"$f":"'Jan-Jun 2024'!CB71","v":0},{"$f":"'Jan-Jun 2024'!CA71+'Jul-Dez 2024'!CA71+'Jan-Jun 2025'!CA71+'Jul-Dez 2025'!CA71+'Jan-Jun 2026'!CA71","v":0}]
[{"$nulls":19},"PFI","Projecto Final Integrado - Apresentação e Discussão",{"$nulls":7},"Júri",{"$nulls":7},0,{"$f":"IF($AK$4=$DH$8,AU72,IF($AK$4=$DH$9,AV72,IF($AK$4=$DH$10,AW72,IF($AK$4=$DH$11,AO72,IF($AK$4=$DH$12,AP72,IF($AK$4=$DH$13,AQ72,IF($AK$4=$DH$14,AR72,IF($AK$4=$DH$15,AS72,IF($AK$4=$DH$16,AT72,\"\")))))))))","v":0},0,null,0,0,0,0,0,0,0,{"$f":"'Jan-Jun 2024'!AV72","v":0},{"$f":"'Jan-Jun 2024'!AU72+'Jul-Dez 2024'!AU72+'Jan-Jun 2025'!AU72+'Jul-Dez 2025'!AU72+'Jan-Jun 2026'!AU72","v":0},{"$nulls":3},0,{"$f":"IF($AK$4=$DH$8,BK72,IF($AK$4=$DH$9,BL72,IF($AK$4=$DH$10,BM72,IF($AK$4=$DH$11,BE72,IF($AK$4=$DH$12,BF72,IF($AK$4=$DH$13,BG72,IF($AK$4=$DH$14,BH72,IF($AK$4=$DH$15,BI72,IF($AK$4=$DH$16,BJ72,\"\")))))))))","v":0},0,null,0,0,0,0,0,0,0,{"$f":"'Jan-Jun 2024'!BL72","v":0},{"$f":"'Jan-Jun 2024'!BK72+'Jul-Dez 2024'!BK72+'Jan-Jun 2025'!BK72+'Jul-Dez 2025'!BK72+'Jan-Jun 2026'!BK72","v":0},{"$nulls":3},0,{"$f":"IF($AK$4=$DH$8,CA72,IF($AK$4=$DH$9,CB72,IF($AK$4=$DH$10,CC72,IF($AK$4=$DH$11,BU72,IF($AK$4=$DH$12,BV72,IF($AK$4=$DH$13,BW72,IF($AK$4=$DH$14,BX72,IF($AK$4=$DH$15,BY72,IF($AK$4=$DH$16,BZ72,\"\")))))))))","v":0},0,null,0,0,0,0,0,0,0,{"$f":"'Jan-Jun 2024'!CB72","v":0},{"$f":"'Jan-Jun 2024'!CA72+'Jul-Dez 2024'!CA72+'Jan-Jun 2025'!CA72+'Jul-Dez 2025'!CA72+'Jan-Jun 2026'!CA72","v":0}]
[{"$nulls":36},{"$f":"IF(AI73=$DI$8,AM73,IF(AI73=$DI$9,AM73,IF(AI73=$DI$10,AL73,)))","v":0},0,{"$f":"IF(AI73=$DI$8,AL73,IF(AI73=$DI$9,AM74+AL73,IF(AI73=$DI$10,IF(AI74=$DI$10,AM74+AL73,AL73),)))","v":0},null,{"$f":"COUNTIF($C$10:$AG$13,$AJ73)","v":0},{"$f":"COUNTIF($C$17:$AG$20,$AJ73)","v":0},{"$f":"COUNTIF($C$24:$AG$27,$AJ73)","v":0},{"$f":"COUNTIF($C$31:$AG$34,$AJ73)","v":0},{"$f":"COUNTIF($C$38:$AG$41,$AJ73)","v":0},{"$f":"COUNTIF($C$45:$AG$48,$AJ73)","v":0},{"$f":"SUM(AO73:AT73)","v":0},{"$f":"'Jan-Jun 2024'!AV73","v":0},{"$f":"'Jan-Jun 2024'!AU73+'Jul-Dez 2024'!AU73+'Jan-Jun 2025'!AU73+'Jul-Dez 2025'!AU73+'Jan-Jun 2026'!AU73","v":0},{"$nulls":3},{"$f":"IF(AY73=$DI$8,BC73,IF(AY73=$DI$9,BC73,IF(AY73=$DI$10,BB73,)))","v":0},0,{"$f":"IF(AY73=$DI$8,BB73,IF(AY73=$DI$9,BC74+BB73,IF(AY73=$DI$10,IF(AY74=$DI$10,BC74+BB73,BB73),)))","v":0},null,{"$f":"COUNTIF($C$10:$AG$13,$AZ73)","v":0},{"$f":"COUNTIF($C$17:$AG$20,$AZ73)","v":0},{"$f":"COUNTIF($C$24:$AG$27,$AZ73)","v":0},{"$f":"COUNTIF($C$31:$AG$34,$AZ73)","v":0},{"$f":"COUNTIF($C$38:$AG$41,$AZ73)","v":0},{"$f":"COUNTIF($C$45:$AG$48,$AZ73)","v":0},{"$f":"SUM(BE73:BJ73)","v":0},{"$f":"'Jan-Jun 2024'!BL73","v":0},{"$f":"'Jan-Jun 2024'!BK73+'Jul-Dez 2024'!BK73+'Jan-Jun 2025'!BK73+'Jul-Dez 2025'!BK73+'Jan-Jun 2026'!BK73","v":0},{"$nulls":3},{"$f":"IF(BO73=$DI$8,BS73,IF(BO73=$DI$9,BS73,IF(BO73=$DI$10,BR73,)))","v":0},0,{"$f":"IF(BO73=$DI$8,BR73,IF(BO73=$DI$9,BS74+BR73,IF(BO73=$DI$10,IF(BO74=$DI$10,BS74+BR73,BR73),)))","v":0},null,{"$f":"COUNTIF($C$10:$AG$13,$BP73)","v":0},{"$f":"COUNTIF($C$17:$AG$20,$BP73)","v":0},{"$f":"COUNTIF($C$24:$AG$27,$BP73)","v":0},{"$f":"COUNTIF($C$31:$AG$34,$BP73)","v":0},{"$f":"COUNTIF($C$38:$AG$41,$BP73)","v":0},{"$f":"COUNTIF($C$45:$AG$48,$BP73)","v":0},{"$f":"SUM(BU73:BZ73)","v":0},{"$f":"'Jan-Jun 2024'!CB73","v":0},{"$f":"'Jan-Jun 2024'!CA73+'Jul-Dez 2024'!CA73+'Jan-Jun 2025'!CA73+'Jul-Dez 2025'!CA73+'Jan-Jun 2026'!CA73","v":0}]
[]
[{"$nulls":36},{"$f":"SUMIF(AI8:AI73,\"=M\",AK8:AK73)+SUMIF(AI8:AI73,\"=T\",AK8:AK73)","v":0},null,null,{"$f":"SUMIF(AI8:AI73,\"=M\",AN8:AN73)+SUMIF(AI8:AI73,\"=T\",AN8:AN73)","v":900},{"$nulls":12},{"$f":"SUMIF(AY8:AY73,\"=M\",BA8:BA73)+SUMIF(AY8:AY73,\"=T\",BA8:BA73)","v":0},null,null,{"$f":"SUMIF(AY8:AY73,\"=M\",BD8:BD73)+SUMIF(AY8:AY73,\"=T\",BD8:BD73)","v":260},{"$nulls":12},{"$f":"SUMIF(BO8:BO73,\"=M\",BQ8:BQ73)+SUMIF(BO8:BO73,\"=T\",BQ8:BQ73)","v":0},null,null,{"$f":"SUMIF(BO8:BO73,\"=M\",BT8:BT73)+SUMIF(BO8:BO73,\"=T\",BT8:BT73)","v":0}]
[{"$nulls":34},"Totais",null,{"$f":"AK75+BA75+BQ75","v":0},null,null,{"$f":"AN75+BD75+BT75","v":1160}]

{"sheet":"Jul-Dez 2026","index":6,"n_rows":76,"n_cols":113,"rows_kept":76,"merged":[[0,25,0,32],[0,34,2,39],[0,40,6,40],[0,41,6,41],[0,42,6,42],[0,43,6,43],[0,44,6,44],[0,45,6,45],[0,46,6,46],[0,47,6,47],[0,48,6,48],[0,50,2,55],[0,56,6,56],[0,57,6,57],[0,58,6,58],[0,59,6,59],[0,60,6,60],[0,61,6,61],[0,62,6,62],[0,63,6,63],[0,64,6,64],[0,66,2,71],[0,72,6,72],[0,73,6,73],[0,74,6,74],[0,75,6,75],[0,76,6,76],[0,77,6,77],[0,78,6,78],[0,79,6,79],[0,80,6,80],[0,111,6,111],[0,112,6,112],[1,25,1,32],[2,25,2,32],[3,25,3,32],[3,34,6,34],[3,35,6,35],[3,36,6,36],[3,37,6,37],[3,38,6,38],[3,39,6,39],[3,50,6,50],[3,51,6,51],[3,52,6,52],[3,53,6,53],[3,54,6,54],[3,55,6,55],[3,66,6,66],[3,67,6,67],[3,68,6,68],[3,69,6,69],[3,70,6,70],[3,71,6,71],[4,0,4,2],[4,3,4,9],[4,10,4,13],[4,14,4,21],[4,22,4,26],[4,27,4,29],[4,30,4,32],[5,0,5,2],[5,3,5,9],[5,10,5,13],[5,14,5,21],[5,22,5,26],[5,27,5,29],[5,30,5,32],[6,0,6,2],[6,3,6,9],[6,10,6,13],[6,14,6,21],[6,22,6,26],[6,27,6,29],[6,30,6,32],[7,0,8,1],[9,0,9,1],[10,0,10,1],[11,0,11,1],[12,0,12,1],[14,0,15,1],[16,0,16,1],[17,0,17,1],[18,0,18,1],[19,0,19,1],[21,0,22,1],[23,0,23,1],[24,0,24,1],[25,0,25,1],[26,0,26,1],[28,0,29,1],[30,0,30,1],[31,0,31,1],[32,0,32,1],[33,0,33,1],[35,0,36,1],[37,0,37,1],[38,0,38,1],[39,0,39,1],[40,0,40,1],[42,0,43,1],[44,0,44,1],[45,0,45,1],[46,0,46,1],[47,0,47,1],[48,2,48,8],[48,11,48,13],[48,17,48,19],[48,20,48,25],[48,28,48,30],[49,0,54,0],[49,3,49,8],[49,11,49,13],[49,17,68,17],[49,20,49,25],[49,28,49,30],[50,3,50,8],[50,11,50,13],[50,20,50,25],[50,28,50,30],[51,3,51,8],[51,11,51,13],[51,20,51,25],[51,28,51,30],[52,3,52,8],[52,11,52,13],[52,20,52,25],[52,28,52,30],[53,3,53,8],[53,11,53,13],[53,20,53,25],[53,28,53,30],[54,3,54,8],[54,11,54,13],[54,20,54,25],[54,28,54,30],[55,20,55,25],[55,28,55,30],[56,3,56,9],[56,20,56,25],[56,28,56,30],[57,4,57,9],[57,20,57,25],[57,28,57,30],[58,4,58,9],[58,20,58,25],[58,28,58,30],[59,4,59,9],[59,20,59,25],[59,28,59,30],[60,20,60,25],[60,28,60,30],[61,3,61,8],[61,20,61,25],[61,28,61,30],[62,20,62,25],[62,28,62,30],[63,3,63,8],[63,20,63,25],[63,28,63,30],[64,20,64,25],[64,28,64,30],[65,20,65,25],[65,28,65,30],[66,20,66,25],[66,28,66,30],[67,2,68,3],[67,20,67,25],[67,28,67,30],[68,20,68,25],[68,28,68,30],[69,20,69,25],[69,28,69,30],[70,4,70,5],[70,6,70,7],[70,8,70,9],[70,17,71,17],[70,20,70,25],[70,28,70,30],[71,20,71,25],[71,28,71,30],[75,34,75,35]]}
[{"$nulls":40},{"$f":"TEXT(#REF!,\"mmm\")","v":{"$error":"#REF!"}},{"$f":"TEXT($A$11,\"mmm\")","v":"20h10 - 21h00"},{"$f":"TEXT($A$18,\"mmm\")","v":"20h10 - 21h00"},{"$f":"TEXT($A$25,\"mmm\")","v":"20h10 - 21h00"},{"$f":"TEXT($A$32,\"mmm\")","v":"20h10 - 21h00"},{"$f":"TEXT($A$39,\"mmm\")","v":"20h10 - 21h00"},"Total  Folha","Total Global","Total  Acum.",{"$nulls":7},{"$f":"TEXT(#REF!,\"mmm\")","v":{"$error":"#REF!"}},{"$f":"TEXT($A$11,\"mmm\")","v":"20h10 - 21h00"},{"$f":"TEXT($A$18,\"mmm\")","v":"20h10 - 21h00"},{"$f":"TEXT($A$25,\"mmm\")","v":"20h10 - 21h00"},{"$f":"TEXT($A$32,\"mmm\")","v":"20h10 - 21h00"},{"$f":"TEXT($A$39,\"mmm\")","v":"20h10 - 21h00"},"Total  Folha","Total Global","Total  Acum.",{"$nulls":7},{"$f":"TEXT(#REF!,\"mmm\")","v":{"$error":"#REF!"}},{"$f":"TEXT($A$11,\"mmm\")","v":"20h10 - 21h00"},{"$f":"TEXT($A$18,\"mmm\")","v":"20h10 - 21h00"},{"$f":"TEXT($A$25,\"mmm\")","v":"20h10 - 21h00"},{"$f":"TEXT($A$32,\"mmm\")","v":"20h10 - 21h00"},{"$f":"TEXT($A$39,\"mmm\")","v":"20h10 - 21h00"},"Total  Folha","Total Global","Total  Acum.",{"$nulls":30},"tipo_soma","tipo_contador"]
[{"$nulls":25},"Director(a):"]
[{"$nulls":25},"(Cristina Botas)"]
[{"$nulls":34},"Tipo","Módulo","SA","Origem","Cálculo","Objetivo",{"$nulls":10},"Tipo","Módulo",{"$f":"AK4","v":"SA"},"Origem","Cálculo","Objetivo",{"$nulls":10},"Tipo","Módulo",{"$f":"AK4","v":"SA"},"Origem","Cálculo","Objetivo"]
["MODALIDADE:",null,null,"CET - Tecnologia Mecatrónica",{"$nulls":6},"CODÍGO DA AÇÃO:",{"$nulls":3},66406,{"$nulls":12},"       U.O.:",null,null,"Torres Vedras"]
["PLANEAMENTO:",null,null,"Vítor Caetano",{"$nulls":6},"SAÍDA PROFISSIONAL: Técnico/a Especialista em Mecatrónica",{"$nulls":3},"Técnico/a Especialista em Mecatrónica",{"$nulls":12},"DATA INÍCIO:",null,null,"2022-11-15"]
["COORDENADOR:",{"$nulls":9},"DURAÇÃO:",{"$nulls":3},"1560 H",{"$nulls":12},"DATA FIM  (previsto):"]
["2026-07-01",null,{"$f":"IF(C9<>\"\",CHOOSE(WEEKDAY(C9,1),\"Dom.\",\"Seg.\",\"Ter.\",\"Qua.\",\"Qui.\",\"Sex.\",\"Sáb.\"),\"\")","v":"Qua."},{"$f":"IF(D9<>\"\",CHOOSE(WEEKDAY(D9,1),\"Dom.\",\"Seg.\",\"Ter.\",\"Qua.\",\"Qui.\",\"Sex.\",\"Sáb.\"),\"\")","v":"Qui."},"Sex.","Sáb.","Dom.","Seg.","Ter.","Qua.","Qui.","Sex.","Sáb.","Dom.","Seg.","Ter.","Qua.","Qui.","Sex.","Sáb.","Dom.","Seg.","Ter.","Qua.","Qui.","Sex.","Sáb.","Dom.","Seg.","Ter.","Qua.","Qui.","Sex.",null,"T","PFL",{"$f":"IF(AI8=$DI$8,AM8,IF(AI8=$DI$9,AM8,IF(AI8=$DI$10,AL8,)))","v":0},{"$f":"IF($AK$4=$DH$8,AU8,IF($AK$4=$DH$9,AV8,IF($AK$4=$DH$10,AW8,IF($AK$4=$DH$11,AO8,IF($AK$4=$DH$12,AP8,IF($AK$4=$DH$13,AQ8,IF($AK$4=$DH$14,AR8,IF($AK$4=$DH$15,AS8,IF($AK$4=$DH$16,AT8,\"\")))))))))","v":0},{"$f":"IF(AI8=$DI$8,AL8,IF(AI8=$DI$9,AM9+AL8,IF(AI8=$DI$10,IF(AI9=$DI$10,AM9+AL8,AL8),)))","v":0},25,{"$f":"COUNTIF($C$10:$AG$13,$AJ8)","v":0},{"$f":"COUNTIF($C$17:$AG$20,$AJ8)","v":0},{"$f":"COUNTIF($C$24:$AG$27,$AJ8)","v":0},{"$f":"COUNTIF($C$31:$AG$34,$AJ8)","v":0},{"$f":"COUNTIF($C$38:$AG$41,$AJ8)","v":0},{"$f":"COUNTIF($C$45:$AG$48,$AJ8)","v":0},{"$f":"SUM(AO8:AT8)","v":0},{"$f":"'Jan-Jun 2024'!AV8","v":0},{"$f":"'Jan-Jun 2024'!AU8+'Jul-Dez 2024'!AU8+'Jan-Jun 2025'!AU8+'Jul-Dez 2025'!AU8+'Jan-Jun 2026'!AU8+'Jul-Dez 2026'!AU8","v":0},null,"M","IGO",{"$f":"IF(AY8=$DI$8,BC8,IF(AY8=$DI$9,BC8,IF(AY8=$DI$10,BB8,)))","v":0},{"$f":"IF($AK$4=$DH$8,BK8,IF($AK$4=$DH$9,BL8,IF($AK$4=$DH$10,BM8,IF($AK$4=$DH$11,BE8,IF($AK$4=$DH$12,BF8,IF($AK$4=$DH$13,BG8,IF($AK$4=$DH$14,BH8,IF($AK$4=$DH$15,BI8,IF($AK$4=$DH$16,BJ8,\"\")))))))))","v":0},{"$f":"IF(AY8=$DI$8,BB8,IF(AY8=$DI$9,BC9+BB8,IF(AY8=$DI$10,IF(AY9=$DI$10,BC9+BB8,BB8),)))","v":0},25,{"$f":"COUNTIF($C$10:$AG$13,$AZ8)","v":0},{"$f":"COUNTIF($C$17:$AG$20,$AZ8)","v":0},{"$f":"COUNTIF($C$24:$AG$27,$AZ8)","v":0},{"$f":"COUNTIF($C$31:$AG$34,$AZ8)","v":0},{"$f":"COUNTIF($C$38:$AG$41,$AZ8)","v":0},{"$f":"COUNTIF($C$45:$AG$48,$AZ8)","v":0},{"$f":"SUM(BE8:BJ8)","v":0},{"$f":"'Jan-Jun 2024'!BL8","v":0},{"$f":"'Jan-Jun 2024'!BK8+'Jul-Dez 2024'!BK8+'Jan-Jun 2025'!BK8+'Jul-Dez 2025'!BK8+'Jan-Jun 2026'!BK8+'Jul-Dez 2026'!BK8","v":0},{"$nulls":3},{"$f":"IF(BO8=$DI$8,BS8,IF(BO8=$DI$9,BS8,IF(BO8=$DI$10,BR8,)))","v":0},{"$f":"IF($AK$4=$DH$8,CA8,IF($AK$4=$DH$9,CB8,IF($AK$4=$DH$10,CC8,IF($AK$4=$DH$11,BU8,IF($AK$4=$DH$12,BV8,IF($AK$4=$DH$13,BW8,IF($AK$4=$DH$14,BX8,IF($AK$4=$DH$15,BY8,IF($AK$4=$DH$16,BZ8,\"\")))))))))","v":0},{"$f":"IF(BO8=$DI$8,BR8,IF(BO8=$DI$9,BS9+BR8,IF(BO8=$DI$10,IF(BO9=$DI$10,BS9+BR8,BR8),)))","v":0},null,{"$f":"COUNTIF($C$10:$AG$13,$BP8)","v":0},{"$f":"COUNTIF($C$17:$AG$20,$BP8)","v":0},{"$f":"COUNTIF($C$24:$AG$27,$BP8)","v":0},{"$f":"COUNTIF($C$31:$AG$34,$BP8)","v":0},{"$f":"COUNTIF($C$38:$AG$41,$BP8)","v":0},{"$f":"COUNTIF($C$45:$AG$48,$BP8)","v":0},{"$f":"SUM(BU8:BZ8)","v":0},{"$f":"'Jan-Jun 2024'!CB8","v":0},{"$f":"'Jan-Jun 2024'!CA8+'Jul-Dez 2024'!CA8+'Jan-Jun 2025'!CA8+'Jul-Dez 2025'!CA8+'Jan-Jun 2026'!CA8+'Jul-Dez 2026'!CA8","v":0},{"$nulls":30},"SF","M"]
[null,null,{"$f":"A8","v":"2026-07-01"},{"$f":"IF(C9=\"\",\"\",IF(DAY(C9)<DAY(EOMONTH(C9,0)),C9+1,\"\"))","v":"2026-07-02"},{"$f":"IF(D9=\"\",\"\",IF(DAY(D9)<DAY(EOMONTH(D9,0)),D9+1,\"\"))","v":"2026-07-03"},"2026-07-04","2026-07-05",{"$f":"IF(G9=\"\",\"\",IF(DAY(G9)<DAY(EOMONTH(G9,0)),G9+1,\"\"))","v":"2026-07-06"},{"$f":"IF(H9=\"\",\"\",IF(DAY(H9)<DAY(EOMONTH(H9,0)),H9+1,\"\"))","v":"2026-07-07"},"2026-07-08",{"$f":"IF(J9=\"\",\"\",IF(DAY(J9)<DAY(EOMONTH(J9,0)),J9+1,\"\"))","v":"2026-07-09"},{"$f":"IF(K9=\"\",\"\",IF(DAY(K9)<DAY(EOMONTH(K9,0)),K9+1,\"\"))","v":"2026-07-10"},"2026-07-11","2026-07-12",{"$f":"IF(N9=\"\",\"\",IF(DAY(N9)<DAY(EOMONTH(N9,0)),N9+1,\"\"))","v":"2026-07-13"},{"$f":"IF(O9=\"\",\"\",IF(DAY(O9)<DAY(EOMONTH(O9,0)),O9+1,\"\"))","v":"2026-07-14"},"2026-07-15",{"$f":"IF(Q9=\"\",\"\",IF(DAY(Q9)<DAY(EOMONTH(Q9,0)),Q9+1,\"\"))","v":"2026-07-16"},{"$f":"IF(R9=\"\",\"\",IF(DAY(R9)<DAY(EOMONTH(R9,0)),R9+1,\"\"))","v":"2026-07-17"},"2026-07-18","2026-07-19",{"$f":"IF(U9=\"\",\"\",IF(DAY(U9)<DAY(EOMONTH(U9,0)),U9+1,\"\"))","v":"2026-07-20"},{"$f":"IF(V9=\"\",\"\",IF(DAY(V9)<DAY(EOMONTH(V9,0)),V9+1,\"\"))","v":"2026-07-21"},"2026-07-22",{"$f":"IF(X9=\"\",\"\",IF(DAY(X9)<DAY(EOMONTH(X9,0)),X9+1,\"\"))","v":"2026-07-23"},{"$f":"IF(Y9=\"\",\"\",IF(DAY(Y9)<DAY(EOMONTH(Y9,0)),Y9+1,\"\"))","v":"2026-07-24"},"2026-07-25","2026-07-26",{"$f":"IF(AB9=\"\",\"\",IF(DAY(AB9)<DAY(EOMONTH(AB9,0)),AB9+1,\"\"))","v":"2026-07-27"},{"$f":"IF(AC9=\"\",\"\",IF(DAY(AC9)<DAY(EOMONTH(AC9,0)),AC9+1,\"\"))","v":"2026-07-28"},"2026-07-29",{"$f":"IF(AE9=\"\",\"\",IF(DAY(AE9)<DAY(EOMONTH(AE9,0)),AE9+1,\"\"))","v":"2026-07-30"},{"$f":"IF(AF9=\"\",\"\",IF(DAY(AF9)<DAY(EOMONTH(AF9,0)),AF9+1,\"\"))","v":"2026-07-31"},null,"P","PFL1",{"$f":"IF(AI9=$DI$8,AM9,IF(AI9=$DI$9,AM9,IF(AI9=$DI$10,AL9,)))","v":0},0,{"$f":"IF(AI9=$DI$8,AL9,IF(AI9=$DI$9,AM10+AL9,IF(AI9=$DI$10,IF(AI10=$DI$10,AM10+AL9,AL9),)))","v":0},7,{"$f":"COUNTIF($C$10:$AG$13,$AJ9)","v":0},{"$f":"COUNTIF($C$17:$AG$20,$AJ9)","v":0},{"$f":"COUNTIF($C$24:$AG$27,$AJ9)","v":0},{"$f":"COUNTIF($C$31:$AG$34,$AJ9)","v":0},{"$f":"COUNTIF($C$38:$AG$41,$AJ9)","v":0},{"$f":"COUNTIF($C$45:$AG$48,$AJ9)","v":0},{"$f":"SUM(AO9:AT9)","v":0},{"$f":"'Jan-Jun 2024'!AV9","v":0},{"$f":"'Jan-Jun 2024'!AU9+'Jul-Dez 2024'!AU9+'Jan-Jun 2025'!AU9+'Jul-Dez 2025'!AU9+'Jan-Jun 2026'!AU9+'Jul-Dez 2026'!AU9","v":0},{"$nulls":3},{"$f":"IF(AY9=$DI$8,BC9,IF(AY9=$DI$9,BC9,IF(AY9=$DI$10,BB9,)))","v":0},0,{"$f":"IF(AY9=$DI$8,BB9,IF(AY9=$DI$9,BC10+BB9,IF(AY9=$DI$10,IF(AY10=$DI$10,BC10+BB9,BB9),)))","v":0},null,{"$f":"COUNTIF($C$10:$AG$13,$AZ9)","v":0},{"$f":"COUNTIF($C$17:$AG$20,$AZ9)","v":0},{"$f":"COUNTIF($C$24:$AG$27,$AZ9)","v":0},{"$f":"COUNTIF($C$31:$AG$34,$AZ9)","v":0},{"$f":"COUNTIF($C$38:$AG$41,$AZ9)","v":0},{"$f":"COUNTIF($C$45:$AG$48,$AZ9)","v":0},{"$f":"SUM(BE9:BJ9)","v":0},{"$f":"'Jan-Jun 2024'!BL9","v":0},{"$f":"'Jan-Jun 2024'!BK9+'Jul-Dez 2024'!BK9+'Jan-Jun 2025'!BK9+'Jul-Dez 2025'!BK9+'Jan-Jun 2026'!BK9+'Jul-Dez 2026'!BK9","v":0},{"$nulls":3},{"$f":"IF(BO9=$DI$8,BS9,IF(BO9=$DI$9,BS9,IF(BO9=$DI$10,BR9,)))","v":0},0,{"$f":"IF(BO9=$DI$8,BR9,IF(BO9=$DI$9,BS10+BR9,IF(BO9=$DI$10,IF(BO10=$DI$10,BS10+BR9,BR9),)))","v":0},null,{"$f":"COUNTIF($C$10:$AG$13,$BP9)","v":0},{"$f":"COUNTIF($C$17:$AG$20,$BP9)","v":0},{"$f":"COUNTIF($C$24:$AG$27,$BP9)","v":0},{"$f":"COUNTIF($C$31:$AG$34,$BP9)","v":0},{"$f":"COUNTIF($C$38:$AG$41,$BP9)","v":0},{"$f":"COUNTIF($C$45:$AG$48,$BP9)","v":0},{"$f":"SUM(BU9:BZ9)","v":0},{"$f":"'Jan-Jun 2024'!CB9","v":0},{"$f":"'Jan-Jun 2024'!CA9+'Jul-Dez 2024'!CA9+'Jan-Jun 2025'!CA9+'Jul-Dez 2025'!CA9+'Jan-Jun 2026'!CA9+'Jul-Dez 2026'!CA9","v":0},{"$nulls":30},"ST","T"]
["19h20 - 20h10",{"$nulls":33},"P","PFL2",0,0,0,18,0,0,0,0,0,0,0,{"$f":"'Jan-Jun 2024'!AV10","v":0},{"$f":"'Jan-Jun 2024'!AU10+'Jul-Dez 2024'!AU10+'Jan-Jun 2025'!AU10+'Jul-Dez 2025'!AU10+'Jan-Jun 2026'!AU10+'Jul-Dez 2026'!AU10","v":0},{"$nulls":3},0,0,0,null,0,0,0,0,0,0,0,{"$f":"'Jan-Jun 2024'!BL10","v":0},{"$f":"'Jan-Jun 2024'!BK10+'Jul-Dez 2024'!BK10+'Jan-Jun 2025'!BK10+'Jul-Dez 2025'!BK10+'Jan-Jun 2026'!BK10+'Jul-Dez 2026'!BK10","v":0},{"$nulls":3},0,0,0,null,0,0,0,0,0,0,0,{"$f":"'Jan-Jun 2024'!CB10","v":0},{"$f":"'Jan-Jun 2024'!CA10+'Jul-Dez 2024'!CA10+'Jan-Jun 2025'!CA10+'Jul-Dez 2025'!CA10+'Jan-Jun 2026'!CA10+'Jul-Dez 2026'!CA10","v":0},{"$nulls":30},"SA","P"]
["20h10 - 21h00",{"$nulls":35},0,0,0,null,0,0,0,0,0,0,0,{"$f":"'Jan-Jun 2024'!AV11","v":0},{"$f":"'Jan-Jun 2024'!AU11+'Jul-Dez 2024'!AU11+'Jan-Jun 2025'!AU11+'Jul-Dez 2025'!AU11+'Jan-Jun 2026'!AU11+'Jul-Dez 2026'!AU11","v":0},null,"M","GMQ",0,0,0,25,0,0,0,0,0,0,0,{"$f":"'Jan-Jun 2024'!BL11","v":0},{"$f":"'Jan-Jun 2024'!BK11+'Jul-Dez 2024'!BK11+'Jan-Jun 2025'!BK11+'Jul-Dez 2025'!BK11+'Jan-Jun 2026'!BK11+'Jul-Dez 2026'!BK11","v":0},{"$nulls":3},0,0,0,null,0,0,0,0,0,0,0,{"$f":"'Jan-Jun 2024'!CB11","v":0},{"$f":"'Jan-Jun 2024'!CA11+'Jul-Dez 2024'!CA11+'Jan-Jun 2025'!CA11+'Jul-Dez 2025'!CA11+'Jan-Jun 2026'!CA11+'Jul-Dez 2026'!CA11","v":0},{"$nulls":30},{"$f":"TEXT(A8,\"mmm\")","v":"jul"}]
["21h20 - 22h10",{"$nulls":33},"T","PCC",0,0,0,25,0,0,0,0,0,0,0,{"$f":"'Jan-Jun 2024'!AV12","v":0},{"$f":"'Jan-Jun 2024'!AU12+'Jul-Dez 2024'!AU12+'Jan-Jun 2025'!AU12+'Jul-Dez 2025'!AU12+'Jan-Jun 2026'!AU12+'Jul-Dez 2026'!AU12","v":0},{"$nulls":3},0,0,0,null,0,0,0,0,0,0,0,{"$f":"'Jan-Jun 2024'!BL12","v":0},{"$f":"'Jan-Jun 2024'!BK12+'Jul-Dez 2024'!BK12+'Jan-Jun 2025'!BK12+'Jul-Dez 2025'!BK12+'Jan-Jun 2026'!BK12+'Jul-Dez 2026'!BK12","v":0},{"$nulls":3},0,0,0,null,0,0,0,0,0,0,0,{"$f":"'Jan-Jun 2024'!CB12","v":0},{"$f":"'Jan-Jun 2024'!CA12+'Jul-Dez 2024'!CA12+'Jan-Jun 2025'!CA12+'Jul-Dez 2025'!CA12+'Jan-Jun 2026'!CA12+'Jul-Dez 2026'!CA12","v":0},{"$nulls":30},{"$f":"TEXT(A15,\"mmm\")","v":"ago"}]
["22h10 - 23h00",{"$nulls":33},"P","PCC1",0,0,0,7,0,0,0,0,0,0,0,{"$f":"'Jan-Jun 2024'!AV13","v":0},{"$f":"'Jan-Jun 2024'!AU13+'Jul-Dez 2024'!AU13+'Jan-Jun 2025'!AU13+'Jul-Dez 2025'!AU13+'Jan-Jun 2026'!AU13+'Jul-Dez 2026'!AU13","v":0},{"$nulls":3},0,0,0,null,0,0,0,0,0,0,0,{"$f":"'Jan-Jun 2024'!BL13","v":0},{"$f":"'Jan-Jun 2024'!BK13+'Jul-Dez 2024'!BK13+'Jan-Jun 2025'!BK13+'Jul-Dez 2025'!BK13+'Jan-Jun 2026'!BK13+'Jul-Dez 2026'!BK13","v":0},{"$nulls":3},0,0,0,null,0,0,0,0,0,0,0,{"$f":"'Jan-Jun 2024'!CB13","v":0},{"$f":"'Jan-Jun 2024'!CA13+'Jul-Dez 2024'!CA13+'Jan-Jun 2025'!CA13+'Jul-Dez 2025'!CA13+'Jan-Jun 2026'!CA13+'Jul-Dez 2026'!CA13","v":0},{"$nulls":30},{"$f":"TEXT(A22,\"mmm\")","v":"set"}]
[{"$nulls":34},"P","PCC2",0,0,0,18,0,0,0,0,0,0,0,{"$f":"'Jan-Jun 2024'!AV14","v":0},{"$f":"'Jan-Jun 2024'!AU14+'Jul-Dez 2024'!AU14+'Jan-Jun 2025'!AU14+'Jul-Dez 2025'!AU14+'Jan-Jun 2026'!AU14+'Jul-Dez 2026'!AU14","v":0},null,"M","SGQ",0,0,0,25,0,0,0,0,0,0,0,{"$f":"'Jan-Jun 2024'!BL14","v":0},{"$f":"'Jan-Jun 2024'!BK14+'Jul-Dez 2024'!BK14+'Jan-Jun 2025'!BK14+'Jul-Dez 2025'!BK14+'Jan-Jun 2026'!BK14+'Jul-Dez 2026'!BK14","v":0},{"$nulls":3},0,0,0,null,0,0,0,0,0,0,0,{"$f":"'Jan-Jun 2024'!CB14","v":0},{"$f":"'Jan-Jun 2024'!CA14+'Jul-Dez 2024'!CA14+'Jan-Jun 2025'!CA14+'Jul-Dez 2025'!CA14+'Jan-Jun 2026'!CA14+'Jul-Dez 2026'!CA14","v":0},{"$nulls":30},{"$f":"TEXT(A29,\"mmm\")","v":"out"}]
[{"$f":"A8+DAY(EOMONTH(A8,0))","v":"2026-08-01"},null,{"$f":"IF(C16<>\"\",CHOOSE(WEEKDAY(C16,1),\"Dom.\",\"Seg.\",\"Ter.\",\"Qua.\",\"Qui.\",\"Sex.\",\"Sáb.\"),\"\")","v":"Sáb."},{"$f":"IF(D16<>\"\",CHOOSE(WEEKDAY(D16,1),\"Dom.\",\"Seg.\",\"Ter.\",\"Qua.\",\"Qui.\",\"Sex.\",\"Sáb.\"),\"\")","v":"Dom."},"Seg.","Ter.","Qua.","Qui.","Sex.","Sáb.","Dom.","Seg.","Ter.","Qua.","Qui.","Sex.","Sáb.","Dom.","Seg.","Ter.","Qua.","Qui.","Sex.","Sáb.","Dom.","Seg.","Ter.","Qua.","Qui.","Sex.","Sáb.","Dom.","Seg.",{"$nulls":3},0,0,0,null,0,0,0,0,0,0,0,{"$f":"'Jan-Jun 2024'!AV15","v":0},{"$f":"'Jan-Jun 2024'!AU15+'Jul-Dez 2024'!AU15+'Jan-Jun 2025'!AU15+'Jul-Dez 2025'!AU15+'Jan-Jun 2026'!AU15+'Jul-Dez 2026'!AU15","v":0},{"$nulls":3},0,0,0,null,0,0,0,0,0,0,0,{"$f":"'Jan-Jun 2024'!BL15","v":0},{"$f":"'Jan-Jun 2024'!BK15+'Jul-Dez 2024'!BK15+'Jan-Jun 2025'!BK15+'Jul-Dez 2025'!BK15+'Jan-Jun 2026'!BK15+'Jul-Dez 2026'!BK15","v":0},{"$nulls":3},0,0,0,null,0,0,0,0,0,0,0,{"$f":"'Jan-Jun 2024'!CB15","v":0},{"$f":"'Jan-Jun 2024'!CA15+'Jul-Dez 2024'!CA15+'Jan-Jun 2025'!CA15+'Jul-Dez 2025'!CA15+'Jan-Jun 2026'!CA15+'Jul-Dez 2026'!CA15","v":0},{"$nulls":30},{"$f":"TEXT(A36,\"mmm\")","v":"nov"}]
[null,null,{"$f":"A15","v":"2026-08-01"},{"$f":"IF(C16=\"\",\"\",IF(DAY(C16)<DAY(EOMONTH(C16,0)),C16+1,\"\"))","v":"2026-08-02"},{"$f":"IF(D16=\"\",\"\",IF(DAY(D16)<DAY(EOMONTH(D16,0)),D16+1,\"\"))","v":"2026-08-03"},{"$f":"IF(E16=\"\",\"\",IF(DAY(E16)<DAY(EOMONTH(E16,0)),E16+1,\"\"))","v":"2026-08-04"},"2026-08-05","2026-08-06","2026-08-07","2026-08-08","2026-08-09",{"$f":"IF(K16=\"\",\"\",IF(DAY(K16)<DAY(EOMONTH(K16,0)),K16+1,\"\"))","v":"2026-08-10"},{"$f":"IF(L16=\"\",\"\",IF(DAY(L16)<DAY(EOMONTH(L16,0)),L16+1,\"\"))","v":"2026-08-11"},"2026-08-12","2026-08-13","2026-08-14","2026-08-15","2026-08-16",{"$f":"IF(R16=\"\",\"\",IF(DAY(R16)<DAY(EOMONTH(R16,0)),R16+1,\"\"))","v":"2026-08-17"},{"$f":"IF(S16=\"\",\"\",IF(DAY(S16)<DAY(EOMONTH(S16,0)),S16+1,\"\"))","v":"2026-08-18"},"2026-08-19","2026-08-20","2026-08-21","2026-08-22","2026-08-23",{"$f":"IF(Y16=\"\",\"\",IF(DAY(Y16)<DAY(EOMONTH(Y16,0)),Y16+1,\"\"))","v":"2026-08-24"},{"$f":"IF(Z16=\"\",\"\",IF(DAY(Z16)<DAY(EOMONTH(Z16,0)),Z16+1,\"\"))","v":"2026-08-25"},"2026-08-26","2026-08-27","2026-08-28","2026-08-29","2026-08-30","2026-08-31",null,"M","PAA",0,0,0,25,0,0,0,0,0,0,0,{"$f":"'Jan-Jun 2024'!AV16","v":0},{"$f":"'Jan-Jun 2024'!AU16+'Jul-Dez 2024'!AU16+'Jan-Jun 2025'!AU16+'Jul-Dez 2025'!AU16+'Jan-Jun 2026'!AU16+'Jul-Dez 2026'!AU16","v":0},{"$nulls":3},0,0,0,null,0,0,0,0,0,0,0,{"$f":"'Jan-Jun 2024'!BL16","v":0},{"$f":"'Jan-Jun 2024'!BK16+'Jul-Dez 2024'!BK16+'Jan-Jun 2025'!BK16+'Jul-Dez 2025'!BK16+'Jan-Jun 2026'!BK16+'Jul-Dez 2026'!BK16","v":0},{"$nulls":3},0,0,0,null,0,0,0,0,0,0,0,{"$f":"'Jan-Jun 2024'!CB16","v":0},{"$f":"'Jan-Jun 2024'!CA16+'Jul-Dez 2024'!CA16+'Jan-Jun 2025'!CA16+'Jul-Dez 2025'!CA16+'Jan-Jun 2026'!CA16+'Jul-Dez 2026'!CA16","v":0},{"$nulls":30},{"$f":"TEXT(A43,\"mmm\")","v":"dez"}]
["19h20 - 20h10",{"$nulls":15},"Assunção",{"$nulls":17},"M","IME",0,0,0,50,0,0,0,0,0,0,0,{"$f":"'Jan-Jun 2024'!AV17","v":0},{"$f":"'Jan-Jun 2024'!AU17+'Jul-Dez 2024'!AU17+'Jan-Jun 2025'!AU17+'Jul-Dez 2025'!AU17+'Jan-Jun 2026'!AU17+'Jul-Dez 2026'!AU17","v":0},null,"M","ASHST",0,0,0,25,0,0,0,0,0,0,0,{"$f":"'Jan-Jun 2024'!BL17","v":0},{"$f":"'Jan-Jun 2024'!BK17+'Jul-Dez 2024'!BK17+'Jan-Jun 2025'!BK17+'Jul-Dez 2025'!BK17+'Jan-Jun 2026'!BK17+'Jul-Dez 2026'!BK17","v":0},{"$nulls":3},0,0,0,null,0,0,0,0,0,0,0,{"$f":"'Jan-Jun 2024'!CB17","v":0},{"$f":"'Jan-Jun 2024'!CA17+'Jul-Dez 2024'!CA17+'Jan-Jun 2025'!CA17+'Jul-Dez 2025'!CA17+'Jan-Jun 2026'!CA17+'Jul-Dez 2026'!CA17","v":0}]
["20h10 - 21h00",{"$nulls":15},"Nossa",{"$nulls":17},"M","ELE",0,0,0,50,0,0,0,0,0,0,0,{"$f":"'Jan-Jun 2024'!AV18","v":0},{"$f":"'Jan-Jun 2024'!AU18+'Jul-Dez 2024'!AU18+'Jan-Jun 2025'!AU18+'Jul-Dez 2025'!AU18+'Jan-Jun 2026'!AU18+'Jul-Dez 2026'!AU18","v":0},null,"T","DT",0,0,0,25,0,0,0,0,0,0,0,{"$f":"'Jan-Jun 2024'!BL18","v":0},{"$f":"'Jan-Jun 2024'!BK18+'Jul-Dez 2024'!BK18+'Jan-Jun 2025'!BK18+'Jul-Dez 2025'!BK18+'Jan-Jun 2026'!BK18+'Jul-Dez 2026'!BK18","v":0},{"$nulls":3},0,0,0,null,0,0,0,0,0,0,0,{"$f":"'Jan-Jun 2024'!CB18","v":0},{"$f":"'Jan-Jun 2024'!CA18+'Jul-Dez 2024'!CA18+'Jan-Jun 2025'!CA18+'Jul-Dez 2025'!CA18+'Jan-Jun 2026'!CA18+'Jul-Dez 2026'!CA18","v":0}]
["21h20 - 22h10",{"$nulls":15},"Senhora",{"$nulls":17},"M","CP",0,0,0,25,0,0,0,0,0,0,0,{"$f":"'Jan-Jun 2024'!AV19","v":0},{"$f":"'Jan-Jun 2024'!AU19+'Jul-Dez 2024'!AU19+'Jan-Jun 2025'!AU19+'Jul-Dez 2025'!AU19+'Jan-Jun 2026'!AU19+'Jul-Dez 2026'!AU19","v":0},{"$nulls":3},0,0,0,null,0,0,0,0,0,0,0,{"$f":"'Jan-Jun 2024'!BL19","v":0},{"$f":"'Jan-Jun 2024'!BK19+'Jul-Dez 2024'!BK19+'Jan-Jun 2025'!BK19+'Jul-Dez 2025'!BK19+'Jan-Jun 2026'!BK19+'Jul-Dez 2026'!BK19","v":0},{"$nulls":3},0,0,0,null,0,0,0,0,0,0,0,{"$f":"'Jan-Jun 2024'!CB19","v":0},{"$f":"'Jan-Jun 2024'!CA19+'Jul-Dez 2024'!CA19+'Jan-Jun 2025'!CA19+'Jul-Dez 2025'!CA19+'Jan-Jun 2026'!CA19+'Jul-Dez 2026'!CA19","v":0}]
["22h10 - 23h00",{"$nulls":35},0,0,0,null,0,0,0,0,0,0,0,{"$f":"'Jan-Jun 2024'!AV20","v":0},{"$f":"'Jan-Jun 2024'!AU20+'Jul-Dez 2024'!AU20+'Jan-Jun 2025'!AU20+'Jul-Dez 2025'!AU20+'Jan-Jun 2026'!AU20+'Jul-Dez 2026'!AU20","v":0},{"$nulls":3},0,0,0,null,0,0,0,0,0,0,0,{"$f":"'Jan-Jun 2024'!BL20","v":0},{"$f":"'Jan-Jun 2024'!BK20+'Jul-Dez 2024'!BK20+'Jan-Jun 2025'!BK20+'Jul-Dez 2025'!BK20+'Jan-Jun 2026'!BK20+'Jul-Dez 2026'!BK20","v":0},{"$nulls":3},0,0,0,null,0,0,0,0,0,0,0,{"$f":"'Jan-Jun 2024'!CB20","v":0},{"$f":"'Jan-Jun 2024'!CA20+'Jul-Dez 2024'!CA20+'Jan-Jun 2025'!CA20+'Jul-Dez 2025'!CA20+'Jan-Jun 2026'!CA20+'Jul-Dez 2026'!CA20","v":0}]
[{"$nulls":36},0,0,0,null,0,0,0,0,0,0,0,{"$f":"'Jan-Jun 2024'!AV21","v":0},{"$f":"'Jan-Jun 2024'!AU21+'Jul-Dez 2024'!AU21+'Jan-Jun 2025'!AU21+'Jul-Dez 2025'!AU21+'Jan-Jun 2026'!AU21+'Jul-Dez 2026'!AU21","v":0},{"$nulls":3},0,0,0,null,0,0,0,0,0,0,0,{"$f":"'Jan-Jun 2024'!BL21","v":0},{"$f":"'Jan-Jun 2024'!BK21+'Jul-Dez 2024'!BK21+'Jan-Jun 2025'!BK21+'Jul-Dez 2025'!BK21+'Jan-Jun 2026'!BK21+'Jul-Dez 2026'!BK21","v":0},{"$nulls":3},0,0,0,null,0,0,0,0,0,0,0,{"$f":"'Jan-Jun 2024'!CB21","v":0},{"$f":"'Jan-Jun 2024'!CA21+'Jul-Dez 2024'!CA21+'Jan-Jun 2025'!CA21+'Jul-Dez 2025'!CA21+'Jan-Jun 2026'!CA21+'Jul-Dez 2026'!CA21","v":0}]
[{"$f":"A15+DAY(EOMONTH(A15,0))","v":"2026-09-01"},null,{"$f":"IF(C23<>\"\",CHOOSE(WEEKDAY(C23,1),\"Dom.\",\"Seg.\",\"Ter.\",\"Qua.\",\"Qui.\",\"Sex.\",\"Sáb.\"),\"\")","v":"Ter."},{"$f":"IF(D23<>\"\",CHOOSE(WEEKDAY(D23,1),\"Dom.\",\"Seg.\",\"Ter.\",\"Qua.\",\"Qui.\",\"Sex.\",\"Sáb.\"),\"\")","v":"Qua."},"Qui.","Sex.","Sáb.","Dom.","Seg.","Ter.","Qua.","Qui.","Sex.","Sáb.","Dom.","Seg.","Ter.","Qua.","Qui.","Sex.","Sáb.","Dom.","Seg.","Ter.","Qua.","Qui.","Sex.","Sáb.","Dom.","Seg.","Ter.","Qua.","",{"$nulls":3},0,0,0,null,0,0,0,0,0,0,0,{"$f":"'Jan-Jun 2024'!AV22","v":0},{"$f":"'Jan-Jun 2024'!AU22+'Jul-Dez 2024'!AU22+'Jan-Jun 2025'!AU22+'Jul-Dez 2025'!AU22+'Jan-Jun 2026'!AU22+'Jul-Dez 2026'!AU22","v":0},null,"M","ICS",0,0,0,25,0,0,0,0,0,0,0,{"$f":"'Jan-Jun 2024'!BL22","v":0},{"$f":"'Jan-Jun 2024'!BK22+'Jul-Dez 2024'!BK22+'Jan-Jun 2025'!BK22+'Jul-Dez 2025'!BK22+'Jan-Jun 2026'!BK22+'Jul-Dez 2026'!BK22","v":0},{"$nulls":3},0,0,0,null,0,0,0,0,0,0,0,{"$f":"'Jan-Jun 2024'!CB22","v":0},{"$f":"'Jan-Jun 2024'!CA22+'Jul-Dez 2024'!CA22+'Jan-Jun 2025'!CA22+'Jul-Dez 2025'!CA22+'Jan-Jun 2026'!CA22+'Jul-Dez 2026'!CA22","v":0}]
[null,null,{"$f":"A22","v":"2026-09-01"},{"$f":"IF(C23=\"\",\"\",IF(DAY(C23)<DAY(EOMONTH(C23,0)),C23+1,\"\"))","v":"2026-09-02"},"2026-09-03","2026-09-04","2026-09-05","2026-09-06","2026-09-07","2026-09-08","2026-09-09","2026-09-10","2026-09-11","2026-09-12","2026-09-13","2026-09-14","2026-09-15","2026-09-16","2026-09-17","2026-09-18","2026-09-19","2026-09-20","2026-09-21","2026-09-22","2026-09-23","2026-09-24","2026-09-25","2026-09-26","2026-09-27","2026-09-28","2026-09-29","2026-09-30","",null,"M","CH",0,0,0,25,0,0,0,0,0,0,0,{"$f":"'Jan-Jun 2024'!AV23","v":0},{"$f":"'Jan-Jun 2024'!AU23+'Jul-Dez 2024'!AU23+'Jan-Jun 2025'!AU23+'Jul-Dez 2025'!AU23+'Jan-Jun 2026'!AU23+'Jul-Dez 2026'!AU23","v":0},{"$nulls":3},0,0,0,null,0,0,0,0,0,0,0,{"$f":"'Jan-Jun 2024'!BL23","v":0},{"$f":"'Jan-Jun 2024'!BK23+'Jul-Dez 2024'!BK23+'Jan-Jun 2025'!BK23+'Jul-Dez 2025'!BK23+'Jan-Jun 2026'!BK23+'Jul-Dez 2026'!BK23","v":0},{"$nulls":3},0,0,0,null,0,0,0,0,0,0,0,{"$f":"'Jan-Jun 2024'!CB23","v":0},{"$f":"'Jan-Jun 2024'!CA23+'Jul-Dez 2024'!CA23+'Jan-Jun 2025'!CA23+'Jul-Dez 2025'!CA23+'Jan-Jun 2026'!CA23+'Jul-Dez 2026'!CA23","v":0}]
["19h20 - 20h10",{"$nulls":33},"M","CLP",0,0,0,50,0,0,0,0,0,0,0,{"$f":"'Jan-Jun 2024'!AV24","v":0},{"$f":"'Jan-Jun 2024'!AU24+'Jul-Dez 2024'!AU24+'Jan-Jun 2025'!AU24+'Jul-Dez 2025'!AU24+'Jan-Jun 2026'!AU24+'Jul-Dez 2026'!AU24","v":0},{"$nulls":3},0,0,0,null,0,0,0,0,0,0,0,{"$f":"'Jan-Jun 2024'!BL24","v":0},{"$f":"'Jan-Jun 2024'!BK24+'Jul-Dez 2024'!BK24+'Jan-Jun 2025'!BK24+'Jul-Dez 2025'!BK24+'Jan-Jun 2026'!BK24+'Jul-Dez 2026'!BK24","v":0},{"$nulls":3},0,0,0,null,0,0,0,0,0,0,0,{"$f":"'Jan-Jun 2024'!CB24","v":0},{"$f":"'Jan-Jun 2024'!CA24+'Jul-Dez 2024'!CA24+'Jan-Jun 2025'!CA24+'Jul-Dez 2025'!CA24+'Jan-Jun 2026'!CA24+'Jul-Dez 2026'!CA24","v":0}]
["20h10 - 21h00",{"$nulls":35},0,0,0,null,0,0,0,0,0,0,0,{"$f":"'Jan-Jun 2024'!AV25","v":0},{"$f":"'Jan-Jun 2024'!AU25+'Jul-Dez 2024'!AU25+'Jan-Jun 2025'!AU25+'Jul-Dez 2025'!AU25+'Jan-Jun 2026'!AU25+'Jul-Dez 2026'!AU25","v":0},{"$nulls":3},0,0,0,null,0,0,0,0,0,0,0,{"$f":"'Jan-Jun 2024'!BL25","v":0},{"$f":"'Jan-Jun 2024'!BK25+'Jul-Dez 2024'!BK25+'Jan-Jun 2025'!BK25+'Jul-Dez 2025'!BK25+'Jan-Jun 2026'!BK25+'Jul-Dez 2026'!BK25","v":0},{"$nulls":3},0,0,0,null,0,0,0,0,0,0,0,{"$f":"'Jan-Jun 2024'!CB25","v":0},{"$f":"'Jan-Jun 2024'!CA25+'Jul-Dez 2024'!CA25+'Jan-Jun 2025'!CA25+'Jul-Dez 2025'!CA25+'Jan-Jun 2026'!CA25+'Jul-Dez 2026'!CA25","v":0}]
["21h20 - 22h10",{"$nulls":35},0,0,0,null,0,0,0,0,0,0,0,{"$f":"'Jan-Jun 2024'!AV26","v":0},{"$f":"'Jan-Jun 2024'!AU26+'Jul-Dez 2024'!AU26+'Jan-Jun 2025'!AU26+'Jul-Dez 2025'!AU26+'Jan-Jun 2026'!AU26+'Jul-Dez 2026'!AU26","v":0},{"$nulls":3},0,0,0,null,0,0,0,0,0,0,0,{"$f":"'Jan-Jun 2024'!BL26","v":0},{"$f":"'Jan-Jun 2024'!BK26+'Jul-Dez 2024'!BK26+'Jan-Jun 2025'!BK26+'Jul-Dez 2025'!BK26+'Jan-Jun 2026'!BK26+'Jul-Dez 2026'!BK26","v":0},{"$nulls":3},0,0,0,null,0,0,0,0,0,0,0,{"$f":"'Jan-Jun 2024'!CB26","v":0},{"$f":"'Jan-Jun 2024'!CA26+'Jul-Dez 2024'!CA26+'Jan-Jun 2025'!CA26+'Jul-Dez 2025'!CA26+'Jan-Jun 2026'!CA26+'Jul-Dez 2026'!CA26","v":0}]
["22h10 - 23h00",{"$nulls":35},0,0,0,null,0,0,0,0,0,0,0,{"$f":"'Jan-Jun 2024'!AV27","v":0},{"$f":"'Jan-Jun 2024'!AU27+'Jul-Dez 2024'!AU27+'Jan-Jun 2025'!AU27+'Jul-Dez 2025'!AU27+'Jan-Jun 2026'!AU27+'Jul-Dez 2026'!AU27","v":0},{"$nulls":3},0,0,0,null,0,0,0,0,0,0,0,{"$f":"'Jan-Jun 2024'!BL27","v":0},{"$f":"'Jan-Jun 2024'!BK27+'Jul-Dez 2024'!BK27+'Jan-Jun 2025'!BK27+'Jul-Dez 2025'!BK27+'Jan-Jun 2026'!BK27+'Jul-Dez 2026'!BK27","v":0},{"$nulls":3},0,0,0,null,0,0,0,0,0,0,0,{"$f":"'Jan-Jun 2024'!CB27","v":0},{"$f":"'Jan-Jun 2024'!CA27+'Jul-Dez 2024'!CA27+'Jan-Jun 2025'!CA27+'Jul-Dez 2025'!CA27+'Jan-Jun 2026'!CA27+'Jul-Dez 2026'!CA27","v":0}]
[{"$nulls":34},"M","DCM",0,0,0,50,0,0,0,0,0,0,0,{"$f":"'Jan-Jun 2024'!AV28","v":0},{"$f":"'Jan-Jun 2024'!AU28+'Jul-Dez 2024'!AU28+'Jan-Jun 2025'!AU28+'Jul-Dez 2025'!AU28+'Jan-Jun 2026'!AU28+'Jul-Dez 2026'!AU28","v":0},{"$nulls":3},0,0,0,null,0,0,0,0,0,0,0,{"$f":"'Jan-Jun 2024'!BL28","v":0},{"$f":"'Jan-Jun 2024'!BK28+'Jul-Dez 2024'!BK28+'Jan-Jun 2025'!BK28+'Jul-Dez 2025'!BK28+'Jan-Jun 2026'!BK28+'Jul-Dez 2026'!BK28","v":0},{"$nulls":3},0,0,0,null,0,0,0,0,0,0,0,{"$f":"'Jan-Jun 2024'!CB28","v":0},{"$f":"'Jan-Jun 2024'!CA28+'Jul-Dez 2024'!CA28+'Jan-Jun 2025'!CA28+'Jul-Dez 2025'!CA28+'Jan-Jun 2026'!CA28+'Jul-Dez 2026'!CA28","v":0}]
[{"$f":"A22+DAY(EOMONTH(A22,0))","v":"2026-10-01"},null,{"$f":"IF(C30<>\"\",CHOOSE(WEEKDAY(C30,1),\"Dom.\",\"Seg.\",\"Ter.\",\"Qua.\",\"Qui.\",\"Sex.\",\"Sáb.\"),\"\")","v":"Qui."},{"$f":"IF(D30<>\"\",CHOOSE(WEEKDAY(D30,1),\"Dom.\",\"Seg.\",\"Ter.\",\"Qua.\",\"Qui.\",\"Sex.\",\"Sáb.\"),\"\")","v":"Sex."},"Sáb.","Dom.","Seg.","Ter.","Qua.","Qui.","Sex.","Sáb.","Dom.","Seg.","Ter.","Qua.","Qui.","Sex.","Sáb.","Dom.","Seg.","Ter.","Qua.","Qui.","Sex.","Sáb.","Dom.","Seg.","Ter.","Qua.","Qui.","Sex.","Sáb.",null,"M","CM",0,0,0,50,0,0,0,0,0,0,0,{"$f":"'Jan-Jun 2024'!AV29","v":0},{"$f":"'Jan-Jun 2024'!AU29+'Jul-Dez 2024'!AU29+'Jan-Jun 2025'!AU29+'Jul-Dez 2025'!AU29+'Jan-Jun 2026'!AU29+'Jul-Dez 2026'!AU29","v":0},{"$nulls":3},0,0,0,null,0,0,0,0,0,0,0,{"$f":"'Jan-Jun 2024'!BL29","v":0},{"$f":"'Jan-Jun 2024'!BK29+'Jul-Dez 2024'!BK29+'Jan-Jun 2025'!BK29+'Jul-Dez 2025'!BK29+'Jan-Jun 2026'!BK29+'Jul-Dez 2026'!BK29","v":0},{"$nulls":3},0,0,0,null,0,0,0,0,0,0,0,{"$f":"'Jan-Jun 2024'!CB29","v":0},{"$f":"'Jan-Jun 2024'!CA29+'Jul-Dez 2024'!CA29+'Jan-Jun 2025'!CA29+'Jul-Dez 2025'!CA29+'Jan-Jun 2026'!CA29+'Jul-Dez 2026'!CA29","v":0}]
[null,null,{"$f":"A29","v":"2026-10-01"},{"$f":"IF(C30=\"\",\"\",IF(DAY(C30)<DAY(EOMONTH(C30,0)),C30+1,\"\"))","v":"2026-10-02"},"2026-10-03","2026-10-04","2026-10-05","2026-10-06",{"$f":"IF(H30=\"\",\"\",IF(DAY(H30)<DAY(EOMONTH(H30,0)),H30+1,\"\"))","v":"2026-10-07"},{"$f":"IF(I30=\"\",\"\",IF(DAY(I30)<DAY(EOMONTH(I30,0)),I30+1,\"\"))","v":"2026-10-08"},"2026-10-09","2026-10-10","2026-10-11","2026-10-12","2026-10-13",{"$f":"IF(O30=\"\",\"\",IF(DAY(O30)<DAY(EOMONTH(O30,0)),O30+1,\"\"))","v":"2026-10-14"},{"$f":"IF(P30=\"\",\"\",IF(DAY(P30)<DAY(EOMONTH(P30,0)),P30+1,\"\"))","v":"2026-10-15"},"2026-10-16","2026-10-17","2026-10-18","2026-10-19","2026-10-20",{"$f":"IF(V30=\"\",\"\",IF(DAY(V30)<DAY(EOMONTH(V30,0)),V30+1,\"\"))","v":"2026-10-21"},{"$f":"IF(W30=\"\",\"\",IF(DAY(W30)<DAY(EOMONTH(W30,0)),W30+1,\"\"))","v":"2026-10-22"},"2026-10-23","2026-10-24","2026-10-25","2026-10-26","2026-10-27",{"$f":"IF(AC30=\"\",\"\",IF(DAY(AC30)<DAY(EOMONTH(AC30,0)),AC30+1,\"\"))","v":"2026-10-28"},{"$f":"IF(AD30=\"\",\"\",IF(DAY(AD30)<DAY(EOMONTH(AD30,0)),AD30+1,\"\"))","v":"2026-10-29"},"2026-10-30","2026-10-31",null,"M","SD",0,0,0,50,0,0,0,0,0,0,0,{"$f":"'Jan-Jun 2024'!AV30","v":0},{"$f":"'Jan-Jun 2024'!AU30+'Jul-Dez 2024'!AU30+'Jan-Jun 2025'!AU30+'Jul-Dez 2025'!AU30+'Jan-Jun 2026'!AU30+'Jul-Dez 2026'!AU30","v":0},{"$nulls":3},0,0,0,null,0,0,0,0,0,0,0,{"$f":"'Jan-Jun 2024'!BL30","v":0},{"$f":"'Jan-Jun 2024'!BK30+'Jul-Dez 2024'!BK30+'Jan-Jun 2025'!BK30+'Jul-Dez 2025'!BK30+'Jan-Jun 2026'!BK30+'Jul-Dez 2026'!BK30","v":0},{"$nulls":3},0,0,0,null,0,0,0,0,0,0,0,{"$f":"'Jan-Jun 2024'!CB30","v":0},{"$f":"'Jan-Jun 2024'!CA30+'Jul-Dez 2024'!CA30+'Jan-Jun 2025'!CA30+'Jul-Dez 2025'!CA30+'Jan-Jun 2026'!CA30+'Jul-Dez 2026'!CA30","v":0}]
["19h20 - 20h10",{"$nulls":33},"M","OEM",0,0,0,50,0,0,0,0,0,0,0,{"$f":"'Jan-Jun 2024'!AV31","v":0},{"$f":"'Jan-Jun 2024'!AU31+'Jul-Dez 2024'!AU31+'Jan-Jun 2025'!AU31+'Jul-Dez 2025'!AU31+'Jan-Jun 2026'!AU31+'Jul-Dez 2026'!AU31","v":0},{"$nulls":3},0,0,0,null,0,0,0,0,0,0,0,{"$f":"'Jan-Jun 2024'!BL31","v":0},{"$f":"'Jan-Jun 2024'!BK31+'Jul-Dez 2024'!BK31+'Jan-Jun 2025'!BK31+'Jul-Dez 2025'!BK31+'Jan-Jun 2026'!BK31+'Jul-Dez 2026'!BK31","v":0},{"$nulls":3},0,0,0,null,0,0,0,0,0,0,0,{"$f":"'Jan-Jun 2024'!CB31","v":0},{"$f":"'Jan-Jun 2024'!CA31+'Jul-Dez 2024'!CA31+'Jan-Jun 2025'!CA31+'Jul-Dez 2025'!CA31+'Jan-Jun 2026'!CA31+'Jul-Dez 2026'!CA31","v":0}]
["20h10 - 21h00",{"$nulls":5},"Repúb.",{"$nulls":27},"M","IP",0,0,0,50,0,0,0,0,0,0,0,{"$f":"'Jan-Jun 2024'!AV32","v":0},{"$f":"'Jan-Jun 2024'!AU32+'Jul-Dez 2024'!AU32+'Jan-Jun 2025'!AU32+'Jul-Dez 2025'!AU32+'Jan-Jun 2026'!AU32+'Jul-Dez 2026'!AU32","v":0},null,"M","EG",0,0,0,50,0,0,0,0,0,0,0,{"$f":"'Jan-Jun 2024'!BL32","v":0},{"$f":"'Jan-Jun 2024'!BK32+'Jul-Dez 2024'!BK32+'Jan-Jun 2025'!BK32+'Jul-Dez 2025'!BK32+'Jan-Jun 2026'!BK32+'Jul-Dez 2026'!BK32","v":0},{"$nulls":3},0,0,0,null,0,0,0,0,0,0,0,{"$f":"'Jan-Jun 2024'!CB32","v":0},{"$f":"'Jan-Jun 2024'!CA32+'Jul-Dez 2024'!CA32+'Jan-Jun 2025'!CA32+'Jul-Dez 2025'!CA32+'Jan-Jun 2026'!CA32+'Jul-Dez 2026'!CA32","v":0}]
["21h20 - 22h10",{"$nulls":35},0,0,0,null,0,0,0,0,0,0,0,{"$f":"'Jan-Jun 2024'!AV33","v":0},{"$f":"'Jan-Jun 2024'!AU33+'Jul-Dez 2024'!AU33+'Jan-Jun 2025'!AU33+'Jul-Dez 2025'!AU33+'Jan-Jun 2026'!AU33+'Jul-Dez 2026'!AU33","v":0},{"$nulls":3},0,0,0,null,0,0,0,0,0,0,0,{"$f":"'Jan-Jun 2024'!BL33","v":0},{"$f":"'Jan-Jun 2024'!BK33+'Jul-Dez 2024'!BK33+'Jan-Jun 2025'!BK33+'Jul-Dez 2025'!BK33+'Jan-Jun 2026'!BK33+'Jul-Dez 2026'!BK33","v":0},{"$nulls":3},0,0,0,null,0,0,0,0,0,0,0,{"$f":"'Jan-Jun 2024'!CB33","v":0},{"$f":"'Jan-Jun 2024'!CA33+'Jul-Dez 2024'!CA33+'Jan-Jun 2025'!CA33+'Jul-Dez 2025'!CA33+'Jan-Jun 2026'!CA33+'Jul-Dez 2026'!CA33","v":0}]
["22h10 - 23h00",{"$nulls":33},"M","ELP",0,0,0,50,0,0,0,0,0,0,0,{"$f":"'Jan-Jun 2024'!AV34","v":0},{"$f":"'Jan-Jun 2024'!AU34+'Jul-Dez 2024'!AU34+'Jan-Jun 2025'!AU34+'Jul-Dez 2025'!AU34+'Jan-Jun 2026'!AU34+'Jul-Dez 2026'!AU34","v":0},null,"M","IGE",0,0,0,60,0,0,0,0,0,0,0,{"$f":"'Jan-Jun 2024'!BL34","v":0},{"$f":"'Jan-Jun 2024'!BK34+'Jul-Dez 2024'!BK34+'Jan-Jun 2025'!BK34+'Jul-Dez 2025'!BK34+'Jan-Jun 2026'!BK34+'Jul-Dez 2026'!BK34","v":0},{"$nulls":3},0,0,0,null,0,0,0,0,0,0,0,{"$f":"'Jan-Jun 2024'!CB34","v":0},{"$f":"'Jan-Jun 2024'!CA34+'Jul-Dez 2024'!CA34+'Jan-Jun 2025'!CA34+'Jul-Dez 2025'!CA34+'Jan-Jun 2026'!CA34+'Jul-Dez 2026'!CA34","v":0}]
[{"$nulls":36},0,0,0,null,0,0,0,0,0,0,0,{"$f":"'Jan-Jun 2024'!AV35","v":0},{"$f":"'Jan-Jun 2024'!AU35+'Jul-Dez 2024'!AU35+'Jan-Jun 2025'!AU35+'Jul-Dez 2025'!AU35+'Jan-Jun 2026'!AU35+'Jul-Dez 2026'!AU35","v":0},{"$nulls":3},0,0,0,null,0,0,0,0,0,0,0,{"$f":"'Jan-Jun 2024'!BL35","v":0},{"$f":"'Jan-Jun 2024'!BK35+'Jul-Dez 2024'!BK35+'Jan-Jun 2025'!BK35+'Jul-Dez 2025'!BK35+'Jan-Jun 2026'!BK35+'Jul-Dez 2026'!BK35","v":0},{"$nulls":3},0,0,0,null,0,0,0,0,0,0,0,{"$f":"'Jan-Jun 2024'!CB35","v":0},{"$f":"'Jan-Jun 2024'!CA35+'Jul-Dez 2024'!CA35+'Jan-Jun 2025'!CA35+'Jul-Dez 2025'!CA35+'Jan-Jun 2026'!CA35+'Jul-Dez 2026'!CA35","v":0}]
[{"$f":"A29+DAY(EOMONTH(A29,0))","v":"2026-11-01"},null,{"$f":"IF(C37<>\"\",CHOOSE(WEEKDAY(C37,1),\"Dom.\",\"Seg.\",\"Ter.\",\"Qua.\",\"Qui.\",\"Sex.\",\"Sáb.\"),\"\")","v":"Dom."},{"$f":"IF(D37<>\"\",CHOOSE(WEEKDAY(D37,1),\"Dom.\",\"Seg.\",\"Ter.\",\"Qua.\",\"Qui.\",\"Sex.\",\"Sáb.\"),\"\")","v":"Seg."},"Ter.","Qua.","Qui.","Sex.","Sáb.","Dom.","Seg.","Ter.","Qua.","Qui.","Sex.","Sáb.","Dom.","Seg.","Ter.","Qua.","Qui.","Sex.","Sáb.","Dom.","Seg.","Ter.","Qua.","Qui.","Sex.","Sáb.","Dom.","Seg.","",{"$nulls":3},0,0,0,null,0,0,0,0,0,0,0,{"$f":"'Jan-Jun 2024'!AV36","v":0},{"$f":"'Jan-Jun 2024'!AU36+'Jul-Dez 2024'!AU36+'Jan-Jun 2025'!AU36+'Jul-Dez 2025'!AU36+'Jan-Jun 2026'!AU36+'Jul-Dez 2026'!AU36","v":0},{"$nulls":3},0,0,0,null,0,0,0,0,0,0,0,{"$f":"'Jan-Jun 2024'!BL36","v":0},{"$f":"'Jan-Jun 2024'!BK36+'Jul-Dez 2024'!BK36+'Jan-Jun 2025'!BK36+'Jul-Dez 2025'!BK36+'Jan-Jun 2026'!BK36+'Jul-Dez 2026'!BK36","v":0},{"$nulls":3},0,0,0,null,0,0,0,0,0,0,0,{"$f":"'Jan-Jun 2024'!CB36","v":0},{"$f":"'Jan-Jun 2024'!CA36+'Jul-Dez 2024'!CA36+'Jan-Jun 2025'!CA36+'Jul-Dez 2025'!CA36+'Jan-Jun 2026'!CA36+'Jul-Dez 2026'!CA36","v":0}]
[null,null,{"$f":"A36","v":"2026-11-01"},{"$f":"IF(C37=\"\",\"\",IF(DAY(C37)<DAY(EOMONTH(C37,0)),C37+1,\"\"))","v":"2026-11-02"},"2026-11-03","2026-11-04","2026-11-05","2026-11-06","2026-11-07","2026-11-08","2026-11-09","2026-11-10","2026-11-11","2026-11-12","2026-11-13","2026-11-14","2026-11-15","2026-11-16","2026-11-17","2026-11-18","2026-11-19","2026-11-20","2026-11-21","2026-11-22","2026-11-23","2026-11-24","2026-11-25","2026-11-26","2026-11-27","2026-11-28","2026-11-29","2026-11-30","",{"$nulls":3},0,0,0,null,0,0,0,0,0,0,0,{"$f":"'Jan-Jun 2024'!AV37","v":0},{"$f":"'Jan-Jun 2024'!AU37+'Jul-Dez 2024'!AU37+'Jan-Jun 2025'!AU37+'Jul-Dez 2025'!AU37+'Jan-Jun 2026'!AU37+'Jul-Dez 2026'!AU37","v":0},{"$nulls":3},0,0,0,null,0,0,0,0,0,0,0,{"$f":"'Jan-Jun 2024'!BL37","v":0},{"$f":"'Jan-Jun 2024'!BK37+'Jul-Dez 2024'!BK37+'Jan-Jun 2025'!BK37+'Jul-Dez 2025'!BK37+'Jan-Jun 2026'!BK37+'Jul-Dez 2026'!BK37","v":0},{"$nulls":3},0,0,0,null,0,0,0,0,0,0,0,{"$f":"'Jan-Jun 2024'!CB37","v":0},{"$f":"'Jan-Jun 2024'!CA37+'Jul-Dez 2024'!CA37+'Jan-Jun 2025'!CA37+'Jul-Dez 2025'!CA37+'Jan-Jun 2026'!CA37+'Jul-Dez 2026'!CA37","v":0}]
["19h20 - 20h10",{"$nulls":33},"M","MM",0,0,0,50,0,0,0,0,0,0,0,{"$f":"'Jan-Jun 2024'!AV38","v":0},{"$f":"'Jan-Jun 2024'!AU38+'Jul-Dez 2024'!AU38+'Jan-Jun 2025'!AU38+'Jul-Dez 2025'!AU38+'Jan-Jun 2026'!AU38+'Jul-Dez 2026'!AU38","v":0},{"$nulls":3},0,0,0,null,0,0,0,0,0,0,0,{"$f":"'Jan-Jun 2024'!BL38","v":0},{"$f":"'Jan-Jun 2024'!BK38+'Jul-Dez 2024'!BK38+'Jan-Jun 2025'!BK38+'Jul-Dez 2025'!BK38+'Jan-Jun 2026'!BK38+'Jul-Dez 2026'!BK38","v":0},{"$nulls":3},0,0,0,null,0,0,0,0,0,0,0,{"$f":"'Jan-Jun 2024'!CB38","v":0},{"$f":"'Jan-Jun 2024'!CA38+'Jul-Dez 2024'!CA38+'Jan-Jun 2025'!CA38+'Jul-Dez 2025'!CA38+'Jan-Jun 2026'!CA38+'Jul-Dez 2026'!CA38","v":0}]
["20h10 - 21h00",null,"Todos",{"$nulls":9},"São",{"$nulls":21},"M","ROB",0,0,0,50,0,0,0,0,0,0,0,{"$f":"'Jan-Jun 2024'!AV39","v":0},{"$f":"'Jan-Jun 2024'!AU39+'Jul-Dez 2024'!AU39+'Jan-Jun 2025'!AU39+'Jul-Dez 2025'!AU39+'Jan-Jun 2026'!AU39+'Jul-Dez 2026'!AU39","v":0},{"$nulls":3},0,0,0,null,0,0,0,0,0,0,0,{"$f":"'Jan-Jun 2024'!BL39","v":0},{"$f":"'Jan-Jun 2024'!BK39+'Jul-Dez 2024'!BK39+'Jan-Jun 2025'!BK39+'Jul-Dez 2025'!BK39+'Jan-Jun 2026'!BK39+'Jul-Dez 2026'!BK39","v":0},{"$nulls":3},0,0,0,null,0,0,0,0,0,0,0,{"$f":"'Jan-Jun 2024'!CB39","v":0},{"$f":"'Jan-Jun 2024'!CA39+'Jul-Dez 2024'!CA39+'Jan-Jun 2025'!CA39+'Jul-Dez 2025'!CA39+'Jan-Jun 2026'!CA39+'Jul-Dez 2026'!CA39","v":0}]
["21h20 - 22h10",null,"Santos",{"$nulls":9},"Marti.",{"$nulls":23},0,0,0,null,0,0,0,0,0,0,0,{"$f":"'Jan-Jun 2024'!AV40","v":0},{"$f":"'Jan-Jun 2024'!AU40+'Jul-Dez 2024'!AU40+'Jan-Jun 2025'!AU40+'Jul-Dez 2025'!AU40+'Jan-Jun 2026'!AU40+'Jul-Dez 2026'!AU40","v":0},{"$nulls":3},0,0,0,null,0,0,0,0,0,0,0,{"$f":"'Jan-Jun 2024'!BL40","v":0},{"$f":"'Jan-Jun 2024'!BK40+'Jul-Dez 2024'!BK40+'Jan-Jun 2025'!BK40+'Jul-Dez 2025'!BK40+'Jan-Jun 2026'!BK40+'Jul-Dez 2026'!BK40","v":0},{"$nulls":3},0,0,0,null,0,0,0,0,0,0,0,{"$f":"'Jan-Jun 2024'!CB40","v":0},{"$f":"'Jan-Jun 2024'!CA40+'Jul-Dez 2024'!CA40+'Jan-Jun 2025'!CA40+'Jul-Dez 2025'!CA40+'Jan-Jun 2026'!CA40+'Jul-Dez 2026'!CA40","v":0}]
["22h10 - 23h00",{"$nulls":35},0,0,0,null,0,0,0,0,0,0,0,{"$f":"'Jan-Jun 2024'!AV41","v":0},{"$f":"'Jan-Jun 2024'!AU41+'Jul-Dez 2024'!AU41+'Jan-Jun 2025'!AU41+'Jul-Dez 2025'!AU41+'Jan-Jun 2026'!AU41+'Jul-Dez 2026'!AU41","v":0},{"$nulls":3},0,0,0,null,0,0,0,0,0,0,0,{"$f":"'Jan-Jun 2024'!BL41","v":0},{"$f":"'Jan-Jun 2024'!BK41+'Jul-Dez 2024'!BK41+'Jan-Jun 2025'!BK41+'Jul-Dez 2025'!BK41+'Jan-Jun 2026'!BK41+'Jul-Dez 2026'!BK41","v":0},{"$nulls":3},0,0,0,null,0,0,0,0,0,0,0,{"$f":"'Jan-Jun 2024'!CB41","v":0},{"$f":"'Jan-Jun 2024'!CA41+'Jul-Dez 2024'!CA41+'Jan-Jun 2025'!CA41+'Jul-Dez 2025'!CA41+'Jan-Jun 2026'!CA41+'Jul-Dez 2026'!CA41","v":0}]
[{"$nulls":36},0,0,0,null,0,0,0,0,0,0,0,{"$f":"'Jan-Jun 2024'!AV42","v":0},{"$f":"'Jan-Jun 2024'!AU42+'Jul-Dez 2024'!AU42+'Jan-Jun 2025'!AU42+'Jul-Dez 2025'!AU42+'Jan-Jun 2026'!AU42+'Jul-Dez 2026'!AU42","v":0},{"$nulls":3},0,0,0,null,0,0,0,0,0,0,0,{"$f":"'Jan-Jun 2024'!BL42","v":0},{"$f":"'Jan-Jun 2024'!BK42+'Jul-Dez 2024'!BK42+'Jan-Jun 2025'!BK42+'Jul-Dez 2025'!BK42+'Jan-Jun 2026'!BK42+'Jul-Dez 2026'!BK42","v":0},{"$nulls":3},0,0,0,null,0,0,0,0,0,0,0,{"$f":"'Jan-Jun 2024'!CB42","v":0},{"$f":"'Jan-Jun 2024'!CA42+'Jul-Dez 2024'!CA42+'Jan-Jun 2025'!CA42+'Jul-Dez 2025'!CA42+'Jan-Jun 2026'!CA42+'Jul-Dez 2026'!CA42","v":0}]
[{"$f":"A36+DAY(EOMONTH(A36,0))","v":"2026-12-01"},null,{"$f":"IF(C44<>\"\",CHOOSE(WEEKDAY(C44,1),\"Dom.\",\"Seg.\",\"Ter.\",\"Qua.\",\"Qui.\",\"Sex.\",\"Sáb.\"),\"\")","v":"Ter."},{"$f":"IF(D44<>\"\",CHOOSE(WEEKDAY(D44,1),\"Dom.\",\"Seg.\",\"Ter.\",\"Qua.\",\"Qui.\",\"Sex.\",\"Sáb.\"),\"\")","v":"Qua."},"Qui.","Sex.","Sáb.","Dom.","Seg.","Ter.","Qua.","Qui.","Sex.","Sáb.","Dom.","Seg.","Ter.","Qua.","Qui.","Sex.","Sáb.","Dom.","Seg.","Ter.","Qua.","Qui.","Sex.","Sáb.","Dom.","Seg.","Ter.","Qua.","Qui.",null,"T","MET",0,0,0,50,0,0,0,0,0,0,0,{"$f":"'Jan-Jun 2024'!AV43","v":0},{"$f":"'Jan-Jun 2024'!AU43+'Jul-Dez 2024'!AU43+'Jan-Jun 2025'!AU43+'Jul-Dez 2025'!AU43+'Jan-Jun 2026'!AU43+'Jul-Dez 2026'!AU43","v":0},{"$nulls":3},0,0,0,null,0,0,0,0,0,0,0,{"$f":"'Jan-Jun 2024'!BL43","v":0},{"$f":"'Jan-Jun 2024'!BK43+'Jul-Dez 2024'!BK43+'Jan-Jun 2025'!BK43+'Jul-Dez 2025'!BK43+'Jan-Jun 2026'!BK43+'Jul-Dez 2026'!BK43","v":0},{"$nulls":3},0,0,0,null,0,0,0,0,0,0,0,{"$f":"'Jan-Jun 2024'!CB43","v":0},{"$f":"'Jan-Jun 2024'!CA43+'Jul-Dez 2024'!CA43+'Jan-Jun 2025'!CA43+'Jul-Dez 2025'!CA43+'Jan-Jun 2026'!CA43+'Jul-Dez 2026'!CA43","v":0}]
[null,null,{"$f":"A43","v":"2026-12-01"},{"$f":"IF(C44=\"\",\"\",IF(DAY(C44)<DAY(EOMONTH(C44,0)),C44+1,\"\"))","v":"2026-12-02"},"2026-12-03","2026-12-04","2026-12-05","2026-12-06","2026-12-07","2026-12-08",{"$f":"IF(J44=\"\",\"\",IF(DAY(J44)<DAY(EOMONTH(J44,0)),J44+1,\"\"))","v":"2026-12-09"},{"$f":"IF(K44=\"\",\"\",IF(DAY(K44)<DAY(EOMONTH(K44,0)),K44+1,\"\"))","v":"2026-12-10"},"2026-12-11","2026-12-12","2026-12-13","2026-12-14","2026-12-15",{"$f":"IF(Q44=\"\",\"\",IF(DAY(Q44)<DAY(EOMONTH(Q44,0)),Q44+1,\"\"))","v":"2026-12-16"},{"$f":"IF(R44=\"\",\"\",IF(DAY(R44)<DAY(EOMONTH(R44,0)),R44+1,\"\"))","v":"2026-12-17"},"2026-12-18","2026-12-19","2026-12-20","2026-12-21","2026-12-22",{"$f":"IF(X44=\"\",\"\",IF(DAY(X44)<DAY(EOMONTH(X44,0)),X44+1,\"\"))","v":"2026-12-23"},{"$f":"IF(Y44=\"\",\"\",IF(DAY(Y44)<DAY(EOMONTH(Y44,0)),Y44+1,\"\"))","v":"2026-12-24"},{"$f":"IF(Z44=\"\",\"\",IF(DAY(Z44)<DAY(EOMONTH(Z44,0)),Z44+1,\"\"))","v":"2026-12-25"},{"$f":"IF(AA44=\"\",\"\",IF(DAY(AA44)<DAY(EOMONTH(AA44,0)),AA44+1,\"\"))","v":"2026-12-26"},{"$f":"IF(AB44=\"\",\"\",IF(DAY(AB44)<DAY(EOMONTH(AB44,0)),AB44+1,\"\"))","v":"2026-12-27"},{"$f":"IF(AC44=\"\",\"\",IF(DAY(AC44)<DAY(EOMONTH(AC44,0)),AC44+1,\"\"))","v":"2026-12-28"},{"$f":"IF(AD44=\"\",\"\",IF(DAY(AD44)<DAY(EOMONTH(AD44,0)),AD44+1,\"\"))","v":"2026-12-29"},{"$f":"IF(AE44=\"\",\"\",IF(DAY(AE44)<DAY(EOMONTH(AE44,0)),AE44+1,\"\"))","v":"2026-12-30"},{"$f":"IF(AF44=\"\",\"\",IF(DAY(AF44)<DAY(EOMONTH(AF44,0)),AF44+1,\"\"))","v":"2026-12-31"},null,"P","MET1",0,0,0,26,0,0,0,0,0,0,0,{"$f":"'Jan-Jun 2024'!AV44","v":0},{"$f":"'Jan-Jun 2024'!AU44+'Jul-Dez 2024'!AU44+'Jan-Jun 2025'!AU44+'Jul-Dez 2025'!AU44+'Jan-Jun 2026'!AU44+'Jul-Dez 2026'!AU44","v":0},{"$nulls":3},0,0,0,null,0,0,0,0,0,0,0,{"$f":"'Jan-Jun 2024'!BL44","v":0},{"$f":"'Jan-Jun 2024'!BK44+'Jul-Dez 2024'!BK44+'Jan-Jun 2025'!BK44+'Jul-Dez 2025'!BK44+'Jan-Jun 2026'!BK44+'Jul-Dez 2026'!BK44","v":0},{"$nulls":3},0,0,0,null,0,0,0,0,0,0,0,{"$f":"'Jan-Jun 2024'!CB44","v":0},{"$f":"'Jan-Jun 2024'!CA44+'Jul-Dez 2024'!CA44+'Jan-Jun 2025'!CA44+'Jul-Dez 2025'!CA44+'Jan-Jun 2026'!CA44+'Jul-Dez 2026'!CA44","v":0}]
["19h20 - 20h10",{"$nulls":33},"P","MET2",0,0,0,24,0,0,0,0,0,0,0,{"$f":"'Jan-Jun 2024'!AV45","v":0},{"$f":"'Jan-Jun 2024'!AU45+'Jul-Dez 2024'!AU45+'Jan-Jun 2025'!AU45+'Jul-Dez 2025'!AU45+'Jan-Jun 2026'!AU45+'Jul-Dez 2026'!AU45","v":0},{"$nulls":3},0,0,0,null,0,0,0,0,0,0,0,{"$f":"'Jan-Jun 2024'!BL45","v":0},{"$f":"'Jan-Jun 2024'!BK45+'Jul-Dez 2024'!BK45+'Jan-Jun 2025'!BK45+'Jul-Dez 2025'!BK45+'Jan-Jun 2026'!BK45+'Jul-Dez 2026'!BK45","v":0},{"$nulls":3},0,0,0,null,0,0,0,0,0,0,0,{"$f":"'Jan-Jun 2024'!CB45","v":0},{"$f":"'Jan-Jun 2024'!CA45+'Jul-Dez 2024'!CA45+'Jan-Jun 2025'!CA45+'Jul-Dez 2025'!CA45+'Jan-Jun 2026'!CA45+'Jul-Dez 2026'!CA45","v":0}]
["20h10 - 21h00",null,"Rest.",{"$nulls":6},"Imacu.",{"$nulls":16},"Natal",{"$nulls":7},"P","MET3",0,0,0,0,0,0,0,0,0,0,0,{"$f":"'Jan-Jun 2024'!AV46","v":0},{"$f":"'Jan-Jun 2024'!AU46+'Jul-Dez 2024'!AU46+'Jan-Jun 2025'!AU46+'Jul-Dez 2025'!AU46+'Jan-Jun 2026'!AU46+'Jul-Dez 2026'!AU46","v":0},{"$nulls":3},0,0,0,null,0,0,0,0,0,0,0,{"$f":"'Jan-Jun 2024'!BL46","v":0},{"$f":"'Jan-Jun 2024'!BK46+'Jul-Dez 2024'!BK46+'Jan-Jun 2025'!BK46+'Jul-Dez 2025'!BK46+'Jan-Jun 2026'!BK46+'Jul-Dez 2026'!BK46","v":0},{"$nulls":3},0,0,{"$f":"IF(BO46=$DI$8,BR46,IF(BO46=$DI$9,BS47+BR46,IF(BO46=$DI$10,IF(BO47=$DI$10,BS47+BR46,BR46),)))","v":0},null,0,0,0,0,0,0,0,{"$f":"'Jan-Jun 2024'!CB46","v":0},{"$f":"'Jan-Jun 2024'!CA46+'Jul-Dez 2024'!CA46+'Jan-Jun 2025'!CA46+'Jul-Dez 2025'!CA46+'Jan-Jun 2026'!CA46+'Jul-Dez 2026'!CA46","v":0}]
["21h20 - 22h10",null,"Indep.",{"$nulls":6},"Concei.",{"$nulls":26},0,0,0,null,0,0,0,0,0,0,0,{"$f":"'Jan-Jun 2024'!AV47","v":0},{"$f":"'Jan-Jun 2024'!AU47+'Jul-Dez 2024'!AU47+'Jan-Jun 2025'!AU47+'Jul-Dez 2025'!AU47+'Jan-Jun 2026'!AU47+'Jul-Dez 2026'!AU47","v":0},{"$nulls":3},0,0,0,null,0,0,0,0,0,0,0,{"$f":"'Jan-Jun 2024'!BL47","v":0},{"$f":"'Jan-Jun 2024'!BK47+'Jul-Dez 2024'!BK47+'Jan-Jun 2025'!BK47+'Jul-Dez 2025'!BK47+'Jan-Jun 2026'!BK47+'Jul-Dez 2026'!BK47","v":0},{"$nulls":3},0,0,0,null,0,0,0,0,0,0,0,{"$f":"'Jan-Jun 2024'!CB47","v":0},{"$f":"'Jan-Jun 2024'!CA47+'Jul-Dez 2024'!CA47+'Jan-Jun 2025'!CA47+'Jul-Dez 2025'!CA47+'Jan-Jun 2026'!CA47+'Jul-Dez 2026'!CA47","v":0}]
["22h10 - 23h00",{"$nulls":35},0,0,0,null,0,0,0,0,0,0,0,{"$f":"'Jan-Jun 2024'!AV48","v":0},{"$f":"'Jan-Jun 2024'!AU48+'Jul-Dez 2024'!AU48+'Jan-Jun 2025'!AU48+'Jul-Dez 2025'!AU48+'Jan-Jun 2026'!AU48+'Jul-Dez 2026'!AU48","v":0},{"$nulls":3},0,0,0,null,0,0,0,0,0,0,0,{"$f":"'Jan-Jun 2024'!BL48","v":0},{"$f":"'Jan-Jun 2024'!BK48+'Jul-Dez 2024'!BK48+'Jan-Jun 2025'!BK48+'Jul-Dez 2025'!BK48+'Jan-Jun 2026'!BK48+'Jul-Dez 2026'!BK48","v":0},{"$nulls":3},0,0,0,null,0,0,0,0,0,0,0,{"$f":"'Jan-Jun 2024'!CB48","v":0},{"$f":"'Jan-Jun 2024'!CA48+'Jul-Dez 2024'!CA48+'Jan-Jun 2025'!CA48+'Jul-Dez 2025'!CA48+'Jan-Jun 2026'!CA48+'Jul-Dez 2026'!CA48","v":0}]
[null,"UFCD","Módulo",{"$nulls":6},"Cód.","H","Formador",null,null,"Ini.","Fim",null,"Componente",null,null,"Módulo",{"$nulls":6},"H","Formador",null,null,"Ini.","Fim",null,"M","CNC",0,0,0,50,0,0,0,0,0,0,0,{"$f":"'Jan-Jun 2024'!AV49","v":0},{"$f":"'Jan-Jun 2024'!AU49+'Jul-Dez 2024'!AU49+'Jan-Jun 2025'!AU49+'Jul-Dez 2025'!AU49+'Jan-Jun 2026'!AU49+'Jul-Dez 2026'!AU49","v":0},{"$nulls":3},0,0,0,null,0,0,0,0,0,0,0,{"$f":"'Jan-Jun 2024'!BL49","v":0},{"$f":"'Jan-Jun 2024'!BK49+'Jul-Dez 2024'!BK49+'Jan-Jun 2025'!BK49+'Jul-Dez 2025'!BK49+'Jan-Jun 2026'!BK49+'Jul-Dez 2026'!BK49","v":0},{"$nulls":3},0,0,0,null,0,0,0,0,0,0,0,{"$f":"'Jan-Jun 2024'!CB49","v":0},{"$f":"'Jan-Jun 2024'!CA49+'Jul-Dez 2024'!CA49+'Jan-Jun 2025'!CA49+'Jul-Dez 2025'!CA49+'Jan-Jun 2026'!CA49+'Jul-Dez 2026'!CA49","v":0}]
["Formação Geral e Científica\n",5146,"IGO","Introdução à Gestão das Organizações",{"$nulls":5},"B153",25,"Filipa Norte",{"$nulls":5},"Formação Tecnologica",6407,"PFL","Processos de Fundição / Ligação",{"$nulls":5},"D333",25,"Pedro Santos",{"$nulls":5},"M","CAM",0,0,0,50,0,0,0,0,0,0,0,{"$f":"'Jan-Jun 2024'!AV50","v":0},{"$f":"'Jan-Jun 2024'!AU50+'Jul-Dez 2024'!AU50+'Jan-Jun 2025'!AU50+'Jul-Dez 2025'!AU50+'Jan-Jun 2026'!AU50+'Jul-Dez 2026'!AU50","v":0},{"$nulls":3},0,0,0,null,0,0,0,0,0,0,0,{"$f":"'Jan-Jun 2024'!BL50","v":0},{"$f":"'Jan-Jun 2024'!BK50+'Jul-Dez 2024'!BK50+'Jan-Jun 2025'!BK50+'Jul-Dez 2025'!BK50+'Jan-Jun 2026'!BK50+'Jul-Dez 2026'!BK50","v":0},{"$nulls":3},0,0,0,null,0,0,0,0,0,0,0,{"$f":"'Jan-Jun 2024'!CB50","v":0},{"$f":"'Jan-Jun 2024'!CA50+'Jul-Dez 2024'!CA50+'Jan-Jun 2025'!CA50+'Jul-Dez 2025'!CA50+'Jan-Jun 2026'!CA50+'Jul-Dez 2026'!CA50","v":0}]
[null,5152,"GMQ","Gestão e Motivação para a Qualidade",{"$nulls":5},"B155",25,"Luís Ferreira",{"$nulls":6},6408,"PCC","Processos de Conformação / Corte",{"$nulls":5},"D334",25,"Pedro Santos",{"$nulls":5},"M","PAC",0,0,0,50,0,0,0,0,0,0,0,{"$f":"'Jan-Jun 2024'!AV51","v":0},{"$f":"'Jan-Jun 2024'!AU51+'Jul-Dez 2024'!AU51+'Jan-Jun 2025'!AU51+'Jul-Dez 2025'!AU51+'Jan-Jun 2026'!AU51+'Jul-Dez 2026'!AU51","v":0},{"$nulls":3},0,0,0,null,0,0,0,0,0,0,0,{"$f":"'Jan-Jun 2024'!BL51","v":0},{"$f":"'Jan-Jun 2024'!BK51+'Jul-Dez 2024'!BK51+'Jan-Jun 2025'!BK51+'Jul-Dez 2025'!BK51+'Jan-Jun 2026'!BK51+'Jul-Dez 2026'!BK51","v":0},{"$nulls":3},0,0,0,null,0,0,0,0,0,0,0,{"$f":"'Jan-Jun 2024'!CB51","v":0},{"$f":"'Jan-Jun 2024'!CA51+'Jul-Dez 2024'!CA51+'Jan-Jun 2025'!CA51+'Jul-Dez 2025'!CA51+'Jan-Jun 2026'!CA51+'Jul-Dez 2026'!CA51","v":0}]
[null,5149,"SGQ","Sistama de Gestão da Qualidade ISO 9001",{"$nulls":5},"F369",25,"Luís Ferreira",{"$nulls":6},6409,"PAA","Processos por Arranque de Apara",{"$nulls":5},"C588",25,"Miguel Franco",{"$nulls":7},0,0,0,null,0,0,0,0,0,0,0,{"$f":"'Jan-Jun 2024'!AV52","v":0},{"$f":"'Jan-Jun 2024'!AU52+'Jul-Dez 2024'!AU52+'Jan-Jun 2025'!AU52+'Jul-Dez 2025'!AU52+'Jan-Jun 2026'!AU52+'Jul-Dez 2026'!AU52","v":0},{"$nulls":3},0,0,0,null,0,0,0,0,0,0,0,{"$f":"'Jan-Jun 2024'!BL52","v":0},{"$f":"'Jan-Jun 2024'!BK52+'Jul-Dez 2024'!BK52+'Jan-Jun 2025'!BK52+'Jul-Dez 2025'!BK52+'Jan-Jun 2026'!BK52+'Jul-Dez 2026'!BK52","v":0},{"$nulls":3},0,0,0,null,0,0,0,0,0,0,0,{"$f":"'Jan-Jun 2024'!CB52","v":0},{"$f":"'Jan-Jun 2024'!CA52+'Jul-Dez 2024'!CA52+'Jan-Jun 2025'!CA52+'Jul-Dez 2025'!CA52+'Jan-Jun 2026'!CA52+'Jul-Dez 2026'!CA52","v":0}]
[null,349,"ASHST","Ambiente, Segurança, Higiene e Saúde no Trabalho",{"$nulls":5},"F423",25,"António Maltez",{"$nulls":6},6410,"IME","Instalação de Máquinas Elétricas",{"$nulls":5},"K252",50,"Emanuel Serrano",{"$nulls":7},0,0,0,null,0,0,0,0,0,0,0,{"$f":"'Jan-Jun 2024'!AV53","v":0},{"$f":"'Jan-Jun 2024'!AU53+'Jul-Dez 2024'!AU53+'Jan-Jun 2025'!AU53+'Jul-Dez 2025'!AU53+'Jan-Jun 2026'!AU53+'Jul-Dez 2026'!AU53","v":0},{"$nulls":3},0,0,0,null,0,0,0,0,0,0,0,{"$f":"'Jan-Jun 2024'!BL53","v":0},{"$f":"'Jan-Jun 2024'!BK53+'Jul-Dez 2024'!BK53+'Jan-Jun 2025'!BK53+'Jul-Dez 2025'!BK53+'Jan-Jun 2026'!BK53+'Jul-Dez 2026'!BK53","v":0},{"$nulls":3},0,0,0,null,0,0,0,0,0,0,0,{"$f":"'Jan-Jun 2024'!CB53","v":0},{"$f":"'Jan-Jun 2024'!CA53+'Jul-Dez 2024'!CA53+'Jan-Jun 2025'!CA53+'Jul-Dez 2025'!CA53+'Jan-Jun 2026'!CA53+'Jul-Dez 2026'!CA53","v":0}]
[null,5653,"DT","Direito do Trabalho",{"$nulls":5},"B154",25,"Natasha Esteves",{"$nulls":6},6411,"ELE","Eletrónica",{"$nulls":5},"K253",50,"Marco Martinho",{"$nulls":7},0,0,0,null,0,0,0,0,0,0,0,{"$f":"'Jan-Jun 2024'!AV54","v":0},{"$f":"'Jan-Jun 2024'!AU54+'Jul-Dez 2024'!AU54+'Jan-Jun 2025'!AU54+'Jul-Dez 2025'!AU54+'Jan-Jun 2026'!AU54+'Jul-Dez 2026'!AU54","v":0},{"$nulls":3},0,0,0,null,0,0,0,0,0,0,0,{"$f":"'Jan-Jun 2024'!BL54","v":0},{"$f":"'Jan-Jun 2024'!BK54+'Jul-Dez 2024'!BK54+'Jan-Jun 2025'!BK54+'Jul-Dez 2025'!BK54+'Jan-Jun 2026'!BK54+'Jul-Dez 2026'!BK54","v":0},{"$nulls":3},0,0,0,null,0,0,0,0,0,0,0,{"$f":"'Jan-Jun 2024'!CB54","v":0},{"$f":"'Jan-Jun 2024'!CA54+'Jul-Dez 2024'!CA54+'Jan-Jun 2025'!CA54+'Jul-Dez 2025'!CA54+'Jan-Jun 2026'!CA54+'Jul-Dez 2026'!CA54","v":0}]
[null,5768,"ICS","Inglês em Contexto Socioprofissional",{"$nulls":5},"L046",25,"Helena Abelho",{"$nulls":6},6412,"CP","Circuitos Pneumáticos",{"$nulls":5},"E329",25,"Vítor Caetano",{"$nulls":7},0,0,0,null,0,0,0,0,0,0,0,{"$f":"'Jan-Jun 2024'!AV55","v":0},{"$f":"'Jan-Jun 2024'!AU55+'Jul-Dez 2024'!AU55+'Jan-Jun 2025'!AU55+'Jul-Dez 2025'!AU55+'Jan-Jun 2026'!AU55+'Jul-Dez 2026'!AU55","v":0},{"$nulls":3},0,0,0,null,0,0,0,0,0,0,0,{"$f":"'Jan-Jun 2024'!BL55","v":0},{"$f":"'Jan-Jun 2024'!BK55+'Jul-Dez 2024'!BK55+'Jan-Jun 2025'!BK55+'Jul-Dez 2025'!BK55+'Jan-Jun 2026'!BK55+'Jul-Dez 2026'!BK55","v":0},{"$nulls":3},0,0,0,null,0,0,0,0,0,0,0,{"$f":"'Jan-Jun 2024'!CB55","v":0},{"$f":"'Jan-Jun 2024'!CA55+'Jul-Dez 2024'!CA55+'Jan-Jun 2025'!CA55+'Jul-Dez 2025'!CA55+'Jan-Jun 2026'!CA55+'Jul-Dez 2026'!CA55","v":0}]
[{"$nulls":18},6413,"CH","Circuitos Óleo-Hidráulicos",{"$nulls":5},"E330",25,"Vítor Caetano",{"$nulls":7},0,0,0,null,0,0,0,0,0,0,0,{"$f":"'Jan-Jun 2024'!AV56","v":0},{"$f":"'Jan-Jun 2024'!AU56+'Jul-Dez 2024'!AU56+'Jan-Jun 2025'!AU56+'Jul-Dez 2025'!AU56+'Jan-Jun 2026'!AU56+'Jul-Dez 2026'!AU56","v":0},{"$nulls":3},0,0,0,null,0,0,0,0,0,0,0,{"$f":"'Jan-Jun 2024'!BL56","v":0},{"$f":"'Jan-Jun 2024'!BK56+'Jul-Dez 2024'!BK56+'Jan-Jun 2025'!BK56+'Jul-Dez 2025'!BK56+'Jan-Jun 2026'!BK56+'Jul-Dez 2026'!BK56","v":0},{"$nulls":3},0,0,0,null,0,0,0,0,0,0,0,{"$f":"'Jan-Jun 2024'!CB56","v":0},{"$f":"'Jan-Jun 2024'!CA56+'Jul-Dez 2024'!CA56+'Jan-Jun 2025'!CA56+'Jul-Dez 2025'!CA56+'Jan-Jun 2026'!CA56+'Jul-Dez 2026'!CA56","v":0}]
[{"$nulls":18},6414,"CLP","Controladores Lógicos Programáveis",{"$nulls":5},"C589",50,"Rafael Matos",{"$nulls":7},0,0,0,null,0,0,0,0,0,0,0,{"$f":"'Jan-Jun 2024'!AV57","v":0},{"$f":"'Jan-Jun 2024'!AU57+'Jul-Dez 2024'!AU57+'Jan-Jun 2025'!AU57+'Jul-Dez 2025'!AU57+'Jan-Jun 2026'!AU57+'Jul-Dez 2026'!AU57","v":0},{"$nulls":3},0,0,0,null,0,0,0,0,0,0,0,{"$f":"'Jan-Jun 2024'!BL57","v":0},{"$f":"'Jan-Jun 2024'!BK57+'Jul-Dez 2024'!BK57+'Jan-Jun 2025'!BK57+'Jul-Dez 2025'!BK57+'Jan-Jun 2026'!BK57+'Jul-Dez 2026'!BK57","v":0},{"$nulls":3},0,0,0,null,0,0,0,0,0,0,0,{"$f":"'Jan-Jun 2024'!CB57","v":0},{"$f":"'Jan-Jun 2024'!CA57+'Jul-Dez 2024'!CA57+'Jan-Jun 2025'!CA57+'Jul-Dez 2025'!CA57+'Jan-Jun 2026'!CA57+'Jul-Dez 2026'!CA57","v":0}]
[{"$nulls":18},6415,"DCM","Desenho de Construções Mecânicas",{"$nulls":5},"A438",50,"Luís Carvalho",{"$nulls":7},0,0,0,null,0,0,0,0,0,0,0,{"$f":"'Jan-Jun 2024'!AV58","v":0},{"$f":"'Jan-Jun 2024'!AU58+'Jul-Dez 2024'!AU58+'Jan-Jun 2025'!AU58+'Jul-Dez 2025'!AU58+'Jan-Jun 2026'!AU58+'Jul-Dez 2026'!AU58","v":0},{"$nulls":3},0,0,0,null,0,0,0,0,0,0,0,{"$f":"'Jan-Jun 2024'!BL58","v":0},{"$f":"'Jan-Jun 2024'!BK58+'Jul-Dez 2024'!BK58+'Jan-Jun 2025'!BK58+'Jul-Dez 2025'!BK58+'Jan-Jun 2026'!BK58+'Jul-Dez 2026'!BK58","v":0},{"$nulls":3},0,0,0,null,0,0,0,0,0,0,0,{"$f":"'Jan-Jun 2024'!CB58","v":0},{"$f":"'Jan-Jun 2024'!CA58+'Jul-Dez 2024'!CA58+'Jan-Jun 2025'!CA58+'Jul-Dez 2025'!CA58+'Jan-Jun 2026'!CA58+'Jul-Dez 2026'!CA58","v":0}]
[{"$nulls":18},6416,"CM","Ciência dos Materiais",{"$nulls":5},"C590",50,"Luís Carvalho",{"$nulls":5},"M","APF",0,0,0,25,0,0,0,0,0,0,0,{"$f":"'Jan-Jun 2024'!AV59","v":0},{"$f":"'Jan-Jun 2024'!AU59+'Jul-Dez 2024'!AU59+'Jan-Jun 2025'!AU59+'Jul-Dez 2025'!AU59+'Jan-Jun 2026'!AU59+'Jul-Dez 2026'!AU59","v":0},{"$nulls":3},0,0,0,null,0,0,0,0,0,0,0,{"$f":"'Jan-Jun 2024'!BL59","v":0},{"$f":"'Jan-Jun 2024'!BK59+'Jul-Dez 2024'!BK59+'Jan-Jun 2025'!BK59+'Jul-Dez 2025'!BK59+'Jan-Jun 2026'!BK59+'Jul-Dez 2026'!BK59","v":0},{"$nulls":3},0,0,0,null,0,0,0,0,0,0,0,{"$f":"'Jan-Jun 2024'!CB59","v":0},{"$f":"'Jan-Jun 2024'!CA59+'Jul-Dez 2024'!CA59+'Jan-Jun 2025'!CA59+'Jul-Dez 2025'!CA59+'Jan-Jun 2026'!CA59+'Jul-Dez 2026'!CA59","v":0}]
[{"$nulls":18},6417,"SD","Sistemas Digitais",{"$nulls":5},"I159",50,"Rafael Matos",{"$nulls":7},0,0,0,null,0,0,0,0,0,0,0,{"$f":"'Jan-Jun 2024'!AV60","v":0},{"$f":"'Jan-Jun 2024'!AU60+'Jul-Dez 2024'!AU60+'Jan-Jun 2025'!AU60+'Jul-Dez 2025'!AU60+'Jan-Jun 2026'!AU60+'Jul-Dez 2026'!AU60","v":0},{"$nulls":3},0,0,0,null,0,0,0,0,0,0,0,{"$f":"'Jan-Jun 2024'!BL60","v":0},{"$f":"'Jan-Jun 2024'!BK60+'Jul-Dez 2024'!BK60+'Jan-Jun 2025'!BK60+'Jul-Dez 2025'!BK60+'Jan-Jun 2026'!BK60+'Jul-Dez 2026'!BK60","v":0},{"$nulls":3},0,0,0,null,0,0,0,0,0,0,0,{"$f":"'Jan-Jun 2024'!CB60","v":0},{"$f":"'Jan-Jun 2024'!CA60+'Jul-Dez 2024'!CA60+'Jan-Jun 2025'!CA60+'Jul-Dez 2025'!CA60+'Jan-Jun 2026'!CA60+'Jul-Dez 2026'!CA60","v":0}]
[{"$nulls":18},6418,"OEM","Órgãos e Elementos de Máquinas",{"$nulls":5},"C591",50,"Luís Carvalho",{"$nulls":7},0,0,0,null,0,0,0,0,0,0,0,{"$f":"'Jan-Jun 2024'!AV61","v":0},{"$f":"'Jan-Jun 2024'!AU61+'Jul-Dez 2024'!AU61+'Jan-Jun 2025'!AU61+'Jul-Dez 2025'!AU61+'Jan-Jun 2026'!AU61+'Jul-Dez 2026'!AU61","v":0},{"$nulls":3},0,0,0,null,0,0,0,0,0,0,0,{"$f":"'Jan-Jun 2024'!BL61","v":0},{"$f":"'Jan-Jun 2024'!BK61+'Jul-Dez 2024'!BK61+'Jan-Jun 2025'!BK61+'Jul-Dez 2025'!BK61+'Jan-Jun 2026'!BK61+'Jul-Dez 2026'!BK61","v":0},{"$nulls":3},0,0,0,null,0,0,0,0,0,0,0,{"$f":"'Jan-Jun 2024'!CB61","v":0},{"$f":"'Jan-Jun 2024'!CA61+'Jul-Dez 2024'!CA61+'Jan-Jun 2025'!CA61+'Jul-Dez 2025'!CA61+'Jan-Jun 2026'!CA61+'Jul-Dez 2026'!CA61","v":0}]
[null,null,"EG","Eletricidade Geral",{"$nulls":5},"K264",50,"Rafael Matos",{"$nulls":6},6419,"IP","Introdução à Programação",{"$nulls":5},"I160",50,"Vítor Caetano",{"$nulls":7},0,0,0,null,0,0,0,0,0,0,0,{"$f":"'Jan-Jun 2024'!AV62","v":0},{"$f":"'Jan-Jun 2024'!AU62+'Jul-Dez 2024'!AU62+'Jan-Jun 2025'!AU62+'Jul-Dez 2025'!AU62+'Jan-Jun 2026'!AU62+'Jul-Dez 2026'!AU62","v":0},{"$nulls":3},0,0,0,null,0,0,0,0,0,0,0,{"$f":"'Jan-Jun 2024'!BL62","v":0},{"$f":"'Jan-Jun 2024'!BK62+'Jul-Dez 2024'!BK62+'Jan-Jun 2025'!BK62+'Jul-Dez 2025'!BK62+'Jan-Jun 2026'!BK62+'Jul-Dez 2026'!BK62","v":0},{"$nulls":3},0,0,0,null,0,0,0,0,0,0,0,{"$f":"'Jan-Jun 2024'!CB62","v":0},{"$f":"'Jan-Jun 2024'!CA62+'Jul-Dez 2024'!CA62+'Jan-Jun 2025'!CA62+'Jul-Dez 2025'!CA62+'Jan-Jun 2026'!CA62+'Jul-Dez 2026'!CA62","v":0}]
[{"$nulls":18},6420,"ELP","Eletrónica de Potência - Fundamentos",{"$nulls":5},"K254",50,"Marco Martinho",{"$nulls":7},0,0,0,null,0,0,0,0,0,0,0,{"$f":"'Jan-Jun 2024'!AV63","v":0},{"$f":"'Jan-Jun 2024'!AU63+'Jul-Dez 2024'!AU63+'Jan-Jun 2025'!AU63+'Jul-Dez 2025'!AU63+'Jan-Jun 2026'!AU63+'Jul-Dez 2026'!AU63","v":0},{"$nulls":3},0,0,0,null,0,0,0,0,0,0,0,{"$f":"'Jan-Jun 2024'!BL63","v":0},{"$f":"'Jan-Jun 2024'!BK63+'Jul-Dez 2024'!BK63+'Jan-Jun 2025'!BK63+'Jul-Dez 2025'!BK63+'Jan-Jun 2026'!BK63+'Jul-Dez 2026'!BK63","v":0},{"$nulls":3},0,0,0,null,0,0,0,0,0,0,0,{"$f":"'Jan-Jun 2024'!CB63","v":0},{"$f":"'Jan-Jun 2024'!CA63+'Jul-Dez 2024'!CA63+'Jan-Jun 2025'!CA63+'Jul-Dez 2025'!CA63+'Jan-Jun 2026'!CA63+'Jul-Dez 2026'!CA63","v":0}]
[null,null,"IGE","Inteligência Emocional e Gestão Emocional",{"$nulls":6},60,"Marta Leal",{"$nulls":6},6421,"MM","Microprocessadores / Microcontroladores",{"$nulls":5},"I161",50,"Marco Martinho",{"$nulls":7},0,0,0,null,0,0,0,0,0,0,0,{"$f":"'Jan-Jun 2024'!AV64","v":0},{"$f":"'Jan-Jun 2024'!AU64+'Jul-Dez 2024'!AU64+'Jan-Jun 2025'!AU64+'Jul-Dez 2025'!AU64+'Jan-Jun 2026'!AU64+'Jul-Dez 2026'!AU64","v":0},{"$nulls":3},0,0,0,null,0,0,0,0,0,0,0,{"$f":"'Jan-Jun 2024'!BL64","v":0},{"$f":"'Jan-Jun 2024'!BK64+'Jul-Dez 2024'!BK64+'Jan-Jun 2025'!BK64+'Jul-Dez 2025'!BK64+'Jan-Jun 2026'!BK64+'Jul-Dez 2026'!BK64","v":0},{"$nulls":3},0,0,0,null,0,0,0,0,0,0,0,{"$f":"'Jan-Jun 2024'!CB64","v":0},{"$f":"'Jan-Jun 2024'!CA64+'Jul-Dez 2024'!CA64+'Jan-Jun 2025'!CA64+'Jul-Dez 2025'!CA64+'Jan-Jun 2026'!CA64+'Jul-Dez 2026'!CA64","v":0}]
[{"$nulls":18},5134,"ROB","Robótica - Fundamentos",{"$nulls":5},"E331",50,"Marco Martinho",{"$nulls":7},0,0,0,null,0,0,0,0,0,0,0,{"$f":"'Jan-Jun 2024'!AV65","v":0},{"$f":"'Jan-Jun 2024'!AU65+'Jul-Dez 2024'!AU65+'Jan-Jun 2025'!AU65+'Jul-Dez 2025'!AU65+'Jan-Jun 2026'!AU65+'Jul-Dez 2026'!AU65","v":0},{"$nulls":3},0,0,0,null,0,0,0,0,0,0,0,{"$f":"'Jan-Jun 2024'!BL65","v":0},{"$f":"'Jan-Jun 2024'!BK65+'Jul-Dez 2024'!BK65+'Jan-Jun 2025'!BK65+'Jul-Dez 2025'!BK65+'Jan-Jun 2026'!BK65+'Jul-Dez 2026'!BK65","v":0},{"$nulls":3},0,0,0,null,0,0,0,0,0,0,0,{"$f":"'Jan-Jun 2024'!CB65","v":0},{"$f":"'Jan-Jun 2024'!CA65+'Jul-Dez 2024'!CA65+'Jan-Jun 2025'!CA65+'Jul-Dez 2025'!CA65+'Jan-Jun 2026'!CA65+'Jul-Dez 2026'!CA65","v":0}]
[{"$nulls":18},6422,"MET","Metrologia por Coordenadas",{"$nulls":5},"C592",50,"Miguel Franco",{"$nulls":7},0,0,0,null,0,0,0,0,0,0,0,{"$f":"'Jan-Jun 2024'!AV66","v":0},{"$f":"'Jan-Jun 2024'!AU66+'Jul-Dez 2024'!AU66+'Jan-Jun 2025'!AU66+'Jul-Dez 2025'!AU66+'Jan-Jun 2026'!AU66+'Jul-Dez 2026'!AU66","v":0},{"$nulls":3},0,0,0,null,0,0,0,0,0,0,0,{"$f":"'Jan-Jun 2024'!BL66","v":0},{"$f":"'Jan-Jun 2024'!BK66+'Jul-Dez 2024'!BK66+'Jan-Jun 2025'!BK66+'Jul-Dez 2025'!BK66+'Jan-Jun 2026'!BK66+'Jul-Dez 2026'!BK66","v":0},{"$nulls":3},0,0,0,null,0,0,0,0,0,0,0,{"$f":"'Jan-Jun 2024'!CB66","v":0},{"$f":"'Jan-Jun 2024'!CA66+'Jul-Dez 2024'!CA66+'Jan-Jun 2025'!CA66+'Jul-Dez 2025'!CA66+'Jan-Jun 2026'!CA66+'Jul-Dez 2026'!CA66","v":0}]
[{"$nulls":18},6423,"CNC","CNC - Comando Numérico por Computador",{"$nulls":5},"C593",50,"Miguel Paulo",{"$nulls":7},0,0,0,null,0,0,0,0,0,0,0,{"$f":"'Jan-Jun 2024'!AV67","v":0},{"$f":"'Jan-Jun 2024'!AU67+'Jul-Dez 2024'!AU67+'Jan-Jun 2025'!AU67+'Jul-Dez 2025'!AU67+'Jan-Jun 2026'!AU67+'Jul-Dez 2026'!AU67","v":0},{"$nulls":3},0,0,0,null,0,0,0,0,0,0,0,{"$f":"'Jan-Jun 2024'!BL67","v":0},{"$f":"'Jan-Jun 2024'!BK67+'Jul-Dez 2024'!BK67+'Jan-Jun 2025'!BK67+'Jul-Dez 2025'!BK67+'Jan-Jun 2026'!BK67+'Jul-Dez 2026'!BK67","v":0},{"$nulls":3},0,0,0,null,0,0,0,0,0,0,0,{"$f":"'Jan-Jun 2024'!CB67","v":0},{"$f":"'Jan-Jun 2024'!CA67+'Jul-Dez 2024'!CA67+'Jan-Jun 2025'!CA67+'Jul-Dez 2025'!CA67+'Jan-Jun 2026'!CA67+'Jul-Dez 2026'!CA67","v":0}]
[null,null,"Salas:",null,"SEG","TER","QUA","QUI","SEX",{"$nulls":9},6424,"CAM","CAM - Fabricação Assistida por Computador",{"$nulls":5},"C594",50,"João Franco",{"$nulls":7},0,0,0,null,0,0,0,0,0,0,0,{"$f":"'Jan-Jun 2024'!AV68","v":0},{"$f":"'Jan-Jun 2024'!AU68+'Jul-Dez 2024'!AU68+'Jan-Jun 2025'!AU68+'Jul-Dez 2025'!AU68+'Jan-Jun 2026'!AU68+'Jul-Dez 2026'!AU68","v":0},{"$nulls":3},0,0,0,null,0,0,0,0,0,0,0,{"$f":"'Jan-Jun 2024'!BL68","v":0},{"$f":"'Jan-Jun 2024'!BK68+'Jul-Dez 2024'!BK68+'Jan-Jun 2025'!BK68+'Jul-Dez 2025'!BK68+'Jan-Jun 2026'!BK68+'Jul-Dez 2026'!BK68","v":0},{"$nulls":3},0,0,0,null,0,0,0,0,0,0,0,{"$f":"'Jan-Jun 2024'!CB68","v":0},{"$f":"'Jan-Jun 2024'!CA68+'Jul-Dez 2024'!CA68+'Jan-Jun 2025'!CA68+'Jul-Dez 2025'!CA68+'Jan-Jun 2026'!CA68+'Jul-Dez 2026'!CA68","v":0}]
[{"$nulls":18},6425,"PAC","Projecto Assistido por Computador",{"$nulls":5},"A434",50,"João Catarino",{"$nulls":7},0,0,0,null,0,0,0,0,0,0,0,{"$f":"'Jan-Jun 2024'!AV69","v":0},{"$f":"'Jan-Jun 2024'!AU69+'Jul-Dez 2024'!AU69+'Jan-Jun 2025'!AU69+'Jul-Dez 2025'!AU69+'Jan-Jun 2026'!AU69+'Jul-Dez 2026'!AU69","v":0},{"$nulls":3},0,0,0,null,0,0,0,0,0,0,0,{"$f":"'Jan-Jun 2024'!BL69","v":0},{"$f":"'Jan-Jun 2024'!BK69+'Jul-Dez 2024'!BK69+'Jan-Jun 2025'!BK69+'Jul-Dez 2025'!BK69+'Jan-Jun 2026'!BK69+'Jul-Dez 2026'!BK69","v":0},{"$nulls":3},0,0,0,null,0,0,0,0,0,0,0,{"$f":"'Jan-Jun 2024'!CB69","v":0},{"$f":"'Jan-Jun 2024'!CA69+'Jul-Dez 2024'!CA69+'Jan-Jun 2025'!CA69+'Jul-Dez 2025'!CA69+'Jan-Jun 2026'!CA69+'Jul-Dez 2026'!CA69","v":0}]
[{"$nulls":17},"Estágio",null,"PCT","Prática em Contexto Trabalho",{"$nulls":5},"K259",560,"Tutores",{"$nulls":7},0,0,0,null,0,0,0,0,0,0,0,{"$f":"'Jan-Jun 2024'!AV70","v":0},{"$f":"'Jan-Jun 2024'!AU70+'Jul-Dez 2024'!AU70+'Jan-Jun 2025'!AU70+'Jul-Dez 2025'!AU70+'Jan-Jun 2026'!AU70+'Jul-Dez 2026'!AU70","v":0},{"$nulls":3},0,0,0,null,0,0,0,0,0,0,0,{"$f":"'Jan-Jun 2024'!BL70","v":0},{"$f":"'Jan-Jun 2024'!BK70+'Jul-Dez 2024'!BK70+'Jan-Jun 2025'!BK70+'Jul-Dez 2025'!BK70+'Jan-Jun 2026'!BK70+'Jul-Dez 2026'!BK70","v":0},{"$nulls":3},0,0,0,null,0,0,0,0,0,0,0,{"$f":"'Jan-Jun 2024'!CB70","v":0},{"$f":"'Jan-Jun 2024'!CA70+'Jul-Dez 2024'!CA70+'Jan-Jun 2025'!CA70+'Jul-Dez 2025'!CA70+'Jan-Jun 2026'!CA70+'Jul-Dez 2026'!CA70","v":0}]
[null,null,"R. Quantitativas:",{"$nulls":14},"Projecto Final",null,"APF","Acompanhamento ao Projeto Final",{"$nulls":6},16,"Orientadores",{"$nulls":7},0,0,0,null,0,0,0,0,0,0,0,{"$f":"'Jan-Jun 2024'!AV71","v":0},{"$f":"'Jan-Jun 2024'!AU71+'Jul-Dez 2024'!AU71+'Jan-Jun 2025'!AU71+'Jul-Dez 2025'!AU71+'Jan-Jun 2026'!AU71+'Jul-Dez 2026'!AU71","v":0},{"$nulls":3},0,0,0,null,0,0,0,0,0,0,0,{"$f":"'Jan-Jun 2024'!BL71","v":0},{"$f":"'Jan-Jun 2024'!BK71+'Jul-Dez 2024'!BK71+'Jan-Jun 2025'!BK71+'Jul-Dez 2025'!BK71+'Jan-Jun 2026'!BK71+'Jul-Dez 2026'!BK71","v":0},{"$nulls":3},0,0,0,null,0,0,0,0,0,0,0,{"$f":"'Jan-Jun 2024'!CB71","v":0},{"$f":"'Jan-Jun 2024'!CA71+'Jul-Dez 2024'!CA71+'Jan-Jun 2025'!CA71+'Jul-Dez 2025'!CA71+'Jan-Jun 2026'!CA71+'Jul-Dez 2026'!CA71","v":0}]
[{"$nulls":19},"PFI","Projecto Final Integrado - Apresentação e Discussão",{"$nulls":7},"Júri",{"$nulls":7},0,{"$f":"IF($AK$4=$DH$8,AU72,IF($AK$4=$DH$9,AV72,IF($AK$4=$DH$10,AW72,IF($AK$4=$DH$11,AO72,IF($AK$4=$DH$12,AP72,IF($AK$4=$DH$13,AQ72,IF($AK$4=$DH$14,AR72,IF($AK$4=$DH$15,AS72,IF($AK$4=$DH$16,AT72,\"\")))))))))","v":0},0,null,0,0,0,0,0,0,0,{"$f":"'Jan-Jun 2024'!AV72","v":0},{"$f":"'Jan-Jun 2024'!AU72+'Jul-Dez 2024'!AU72+'Jan-Jun 2025'!AU72+'Jul-Dez 2025'!AU72+'Jan-Jun 2026'!AU72+'Jul-Dez 2026'!AU72","v":0},{"$nulls":3},0,{"$f":"IF($AK$4=$DH$8,BK72,IF($AK$4=$DH$9,BL72,IF($AK$4=$DH$10,BM72,IF($AK$4=$DH$11,BE72,IF($AK$4=$DH$12,BF72,IF($AK$4=$DH$13,BG72,IF($AK$4=$DH$14,BH72,IF($AK$4=$DH$15,BI72,IF($AK$4=$DH$16,BJ72,\"\")))))))))","v":0},0,null,0,0,0,0,0,0,0,{"$f":"'Jan-Jun 2024'!BL72","v":0},{"$f":"'Jan-Jun 2024'!BK72+'Jul-Dez 2024'!BK72+'Jan-Jun 2025'!BK72+'Jul-Dez 2025'!BK72+'Jan-Jun 2026'!BK72+'Jul-Dez 2026'!BK72","v":0},{"$nulls":3},0,{"$f":"IF($AK$4=$DH$8,CA72,IF($AK$4=$DH$9,CB72,IF($AK$4=$DH$10,CC72,IF($AK$4=$DH$11,BU72,IF($AK$4=$DH$12,BV72,IF($AK$4=$DH$13,BW72,IF($AK$4=$DH$14,BX72,IF($AK$4=$DH$15,BY72,IF($AK$4=$DH$16,BZ72,\"\")))))))))","v":0},0,null,0,0,0,0,0,0,0,{"$f":"'Jan-Jun 2024'!CB72","v":0},{"$f":"'Jan-Jun 2024'!CA72+'Jul-Dez 2024'!CA72+'Jan-Jun 2025'!CA72+'Jul-Dez 2025'!CA72+'Jan-Jun 2026'!CA72+'Jul-Dez 2026'!CA72","v":0}]
[{"$nulls":36},{"$f":"IF(AI73=$DI$8,AM73,IF(AI73=$DI$9,AM73,IF(AI73=$DI$10,AL73,)))","v":0},0,{"$f":"IF(AI73=$DI$8,AL73,IF(AI73=$DI$9,AM74+AL73,IF(AI73=$DI$10,IF(AI74=$DI$10,AM74+AL73,AL73),)))","v":0},null,{"$f":"COUNTIF($C$10:$AG$13,$AJ73)","v":0},{"$f":"COUNTIF($C$17:$AG$20,$AJ73)","v":0},{"$f":"COUNTIF($C$24:$AG$27,$AJ73)","v":0},{"$f":"COUNTIF($C$31:$AG$34,$AJ73)","v":0},{"$f":"COUNTIF($C$38:$AG$41,$AJ73)","v":0},{"$f":"COUNTIF($C$45:$AG$48,$AJ73)","v":0},{"$f":"SUM(AO73:AT73)","v":0},{"$f":"'Jan-Jun 2024'!AV73","v":0},{"$f":"'Jan-Jun 2024'!AU73+'Jul-Dez 2024'!AU73+'Jan-Jun 2025'!AU73+'Jul-Dez 2025'!AU73+'Jan-Jun 2026'!AU73+'Jul-Dez 2026'!AU73","v":0},{"$nulls":3},{"$f":"IF(AY73=$DI$8,BC73,IF(AY73=$DI$9,BC73,IF(AY73=$DI$10,BB73,)))","v":0},0,{"$f":"IF(AY73=$DI$8,BB73,IF(AY73=$DI$9,BC74+BB73,IF(AY73=$DI$10,IF(AY74=$DI$10,BC74+BB73,BB73),)))","v":0},null,{"$f":"COUNTIF($C$10:$AG$13,$AZ73)","v":0},{"$f":"COUNTIF($C$17:$AG$20,$AZ73)","v":0},{"$f":"COUNTIF($C$24:$AG$27,$AZ73)","v":0},{"$f":"COUNTIF($C$31:$AG$34,$AZ73)","v":0},{"$f":"COUNTIF($C$38:$AG$41,$AZ73)","v":0},{"$f":"COUNTIF($C$45:$AG$48,$AZ73)","v":0},{"$f":"SUM(BE73:BJ73)","v":0},{"$f":"'Jan-Jun 2024'!BL73","v":0},{"$f":"'Jan-Jun 2024'!BK73+'Jul-Dez 2024'!BK73+'Jan-Jun 2025'!BK73+'Jul-Dez 2025'!BK73+'Jan-Jun 2026'!BK73+'Jul-Dez 2026'!BK73","v":0},{"$nulls":3},{"$f":"IF(BO73=$DI$8,BS73,IF(BO73=$DI$9,BS73,IF(BO73=$DI$10,BR73,)))","v":0},0,{"$f":"IF(BO73=$DI$8,BR73,IF(BO73=$DI$9,BS74+BR73,IF(BO73=$DI$10,IF(BO74=$DI$10,BS74+BR73,BR73),)))","v":0},null,{"$f":"COUNTIF($C$10:$AG$13,$BP73)","v":0},{"$f":"COUNTIF($C$17:$AG$20,$BP73)","v":0},{"$f":"COUNTIF($C$24:$AG$27,$BP73)","v":0},{"$f":"COUNTIF($C$31:$AG$34,$BP73)","v":0},{"$f":"COUNTIF($C$38:$AG$41,$BP73)","v":0},{"$f":"COUNTIF($C$45:$AG$48,$BP73)","v":0},{"$f":"SUM(BU73:BZ73)","v":0},{"$f":"'Jan-Jun 2024'!CB73","v":0},{"$f":"'Jan-Jun 2024'!CA73+'Jul-Dez 2024'!CA73+'Jan-Jun 2025'!CA73+'Jul-Dez 2025'!CA73+'Jan-Jun 2026'!CA73+'Jul-Dez 2026'!CA73","v":0}]
[]
[{"$nulls":36},{"$f":"SUMIF(AI8:AI73,\"=M\",AK8:AK73)+SUMIF(AI8:AI73,\"=T\",AK8:AK73)","v":0},null,null,{"$f":"SUMIF(AI8:AI73,\"=M\",AN8:AN73)+SUMIF(AI8:AI73,\"=T\",AN8:AN73)","v":900},{"$nulls":12},{"$f":"SUMIF(AY8:AY73,\"=M\",BA8:BA73)+SUMIF(AY8:AY73,\"=T\",BA8:BA73)","v":0},null,null,{"$f":"SUMIF(AY8:AY73,\"=M\",BD8:BD73)+SUMIF(AY8:AY73,\"=T\",BD8:BD73)","v":260},{"$nulls":12},{"$f":"SUMIF(BO8:BO73,\"=M\",BQ8:BQ73)+SUMIF(BO8:BO73,\"=T\",BQ8:BQ73)","v":0},null,null,{"$f":"SUMIF(BO8:BO73,\"=M\",BT8:BT73)+SUMIF(BO8:BO73,\"=T\",BT8:BT73)","v":0}]
[{"$nulls":34},"Totais",null,{"$f":"AK75+BA75+BQ75","v":0},null,null,{"$f":"AN75+BD75+BT75","v":1160}]

{"sheet":"Jan-Jun 2027","index":7,"n_rows":76,"n_cols":113,"rows_kept":76,"merged":[[0,25,0,32],[0,34,2,39],[0,40,6,40],[0,41,6,41],[0,42,6,42],[0,43,6,43],[0,44,6,44],[0,45,6,45],[0,46,6,46],[0,47,6,47],[0,48,6,48],[0,50,2,55],[0,56,6,56],[0,57,6,57],[0,58,6,58],[0,59,6,59],[0,60,6,60],[0,61,6,61],[0,62,6,62],[0,63,6,63],[0,64,6,64],[0,66,2,71],[0,72,6,72],[0,73,6,73],[0,74,6,74],[0,75,6,75],[0,76,6,76],[0,77,6,77],[0,78,6,78],[0,79,6,79],[0,80,6,80],[0,111,6,111],[0,112,6,112],[1,25,1,32],[2,25,2,32],[3,25,3,32],[3,34,6,34],[3,35,6,35],[3,36,6,36],[3,37,6,37],[3,38,6,38],[3,39,6,39],[3,50,6,50],[3,51,6,51],[3,52,6,52],[3,53,6,53],[3,54,6,54],[3,55,6,55],[3,66,6,66],[3,67,6,67],[3,68,6,68],[3,69,6,69],[3,70,6,70],[3,71,6,71],[4,0,4,2],[4,3,4,9],[4,10,4,13],[4,14,4,21],[4,22,4,26],[4,27,4,29],[4,30,4,32],[5,0,5,2],[5,3,5,9],[5,10,5,13],[5,14,5,21],[5,22,5,26],[5,27,5,29],[5,30,5,32],[6,0,6,2],[6,3,6,9],[6,10,6,13],[6,14,6,21],[6,22,6,26],[6,27,6,29],[6,30,6,32],[7,0,8,1],[9,0,9,1],[10,0,10,1],[11,0,11,1],[12,0,12,1],[14,0,15,1],[16,0,16,1],[17,0,17,1],[18,0,18,1],[19,0,19,1],[21,0,22,1],[23,0,23,1],[24,0,24,1],[25,0,25,1],[26,0,26,1],[28,0,29,1],[30,0,30,1],[31,0,31,1],[32,0,32,1],[33,0,33,1],[35,0,36,1],[37,0,37,1],[38,0,38,1],[39,0,39,1],[40,0,40,1],[42,0,43,1],[44,0,44,1],[45,0,45,1],[46,0,46,1],[47,0,47,1],[48,2,48,8],[48,11,48,13],[48,17,48,19],[48,20,48,25],[48,28,48,30],[49,0,54,0],[49,3,49,8],[49,11,49,13],[49,17,68,17],[49,20,49,25],[49,28,49,30],[50,3,50,8],[50,11,50,13],[50,20,50,25],[50,28,50,30],[51,3,51,8],[51,11,51,13],[51,20,51,25],[51,28,51,30],[52,3,52,8],[52,11,52,13],[52,20,52,25],[52,28,52,30],[53,3,53,8],[53,11,53,13],[53,20,53,25],[53,28,53,30],[54,3,54,8],[54,11,54,13],[54,20,54,25],[54,28,54,30],[55,20,55,25],[55,28,55,30],[56,3,56,9],[56,20,56,25],[56,28,56,30],[57,4,57,9],[57,20,57,25],[57,28,57,30],[58,4,58,9],[58,20,58,25],[58,28,58,30],[59,4,59,9],[59,20,59,25],[59,28,59,30],[60,20,60,25],[60,28,60,30],[61,3,61,8],[61,20,61,25],[61,28,61,30],[62,20,62,25],[62,28,62,30],[63,3,63,8],[63,20,63,25],[63,28,63,30],[64,20,64,25],[64,28,64,30],[65,20,65,25],[65,28,65,30],[66,20,66,25],[66,28,66,30],[67,2,68,3],[67,20,67,25],[67,28,67,30],[68,20,68,25],[68,28,68,30],[69,20,69,25],[69,28,69,30],[70,4,70,5],[70,6,70,7],[70,8,70,9],[70,17,71,17],[70,20,70,25],[70,28,70,30],[71,20,71,25],[71,28,71,30],[75,34,75,35]]}
[{"$nulls":40},{"$f":"TEXT(#REF!,\"mmm\")","v":{"$error":"#REF!"}},{"$f":"TEXT($A$11,\"mmm\")","v":"20h10 - 21h00"},{"$f":"TEXT($A$18,\"mmm\")","v":"20h10 - 21h00"},{"$f":"TEXT($A$25,\"mmm\")","v":"20h10 - 21h00"},{"$f":"TEXT($A$32,\"mmm\")","v":"20h10 - 21h00"},{"$f":"TEXT($A$39,\"mmm\")","v":"20h10 - 21h00"},"Total  Folha","Total Global","Total  Acum.",{"$nulls":7},{"$f":"TEXT(#REF!,\"mmm\")","v":{"$error":"#REF!"}},{"$f":"TEXT($A$11,\"mmm\")","v":"20h10 - 21h00"},{"$f":"TEXT($A$18,\"mmm\")","v":"20h10 - 21h00"},{"$f":"TEXT($A$25,\"mmm\")","v":"20h10 - 21h00"},{"$f":"TEXT($A$32,\"mmm\")","v":"20h10 - 21h00"},{"$f":"TEXT($A$39,\"mmm\")","v":"20h10 - 21h00"},"Total  Folha","Total Global","Total  Acum.",{"$nulls":7},{"$f":"TEXT(#REF!,\"mmm\")","v":{"$error":"#REF!"}},{"$f":"TEXT($A$11,\"mmm\")","v":"20h10 - 21h00"},{"$f":"TEXT($A$18,\"mmm\")","v":"20h10 - 21h00"},{"$f":"TEXT($A$25,\"mmm\")","v":"20h10 - 21h00"},{"$f":"TEXT($A$32,\"mmm\")","v":"20h10 - 21h00"},{"$f":"TEXT($A$39,\"mmm\")","v":"20h10 - 21h00"},"Total  Folha","Total Global","Total  Acum.",{"$nulls":30},"tipo_soma","tipo_contador"]
[{"$nulls":25},"Director(a):"]
[{"$nulls":25},"(Cristina Botas)"]
[{"$nulls":34},"Tipo","Módulo","ST","Origem","Cálculo","Objetivo",{"$nulls":10},"Tipo","Módulo",{"$f":"AK4","v":"ST"},"Origem","Cálculo","Objetivo",{"$nulls":10},"Tipo","Módulo",{"$f":"AK4","v":"ST"},"Origem","Cálculo","Objetivo"]
["MODALIDADE:",null,null,"CET - Tecnologia Mecatrónica",{"$nulls":6},"CODÍGO DA AÇÃO:",{"$nulls":3},66406,{"$nulls":12},"       U.O.:",null,null,"Torres Vedras"]
["PLANEAMENTO:",null,null,"Vítor Caetano",{"$nulls":6},"SAÍDA PROFISSIONAL: Técnico/a Especialista em Mecatrónica",{"$nulls":3},"Técnico/a Especialista em Mecatrónica",{"$nulls":12},"DATA INÍCIO:",null,null,"2022-11-15"]
["COORDENADOR:",{"$nulls":9},"DURAÇÃO:",{"$nulls":3},"1560 H",{"$nulls":12},"DATA FIM  (previsto):"]
["2027-01-01",null,{"$f":"IF(C9<>\"\",CHOOSE(WEEKDAY(C9,1),\"Dom.\",\"Seg.\",\"Ter.\",\"Qua.\",\"Qui.\",\"Sex.\",\"Sáb.\"),\"\")","v":"Sex."},{"$f":"IF(D9<>\"\",CHOOSE(WEEKDAY(D9,1),\"Dom.\",\"Seg.\",\"Ter.\",\"Qua.\",\"Qui.\",\"Sex.\",\"Sáb.\"),\"\")","v":"Sáb."},"Dom.","Seg.","Ter.","Qua.","Qui.","Sex.","Sáb.","Dom.","Seg.","Ter.","Qua.","Qui.","Sex.","Sáb.","Dom.","Seg.","Ter.","Qua.","Qui.","Sex.","Sáb.","Dom.","Seg.","Ter.","Qua.","Qui.","Sex.","Sáb.","Dom.",null,"T","PFL",{"$f":"IF(AI8=$DI$8,AM8,IF(AI8=$DI$9,AM8,IF(AI8=$DI$10,AL8,)))","v":0},{"$f":"IF($AK$4=$DH$8,AU8,IF($AK$4=$DH$9,AV8,IF($AK$4=$DH$10,AW8,IF($AK$4=$DH$11,AO8,IF($AK$4=$DH$12,AP8,IF($AK$4=$DH$13,AQ8,IF($AK$4=$DH$14,AR8,IF($AK$4=$DH$15,AS8,IF($AK$4=$DH$16,AT8,\"\")))))))))","v":0},{"$f":"IF(AI8=$DI$8,AL8,IF(AI8=$DI$9,AM9+AL8,IF(AI8=$DI$10,IF(AI9=$DI$10,AM9+AL8,AL8),)))","v":0},25,{"$f":"COUNTIF($C$10:$AG$13,$AJ8)","v":0},{"$f":"COUNTIF($C$17:$AG$20,$AJ8)","v":0},{"$f":"COUNTIF($C$24:$AG$27,$AJ8)","v":0},{"$f":"COUNTIF($C$31:$AG$34,$AJ8)","v":0},{"$f":"COUNTIF($C$38:$AG$41,$AJ8)","v":0},{"$f":"COUNTIF($C$45:$AG$48,$AJ8)","v":0},{"$f":"SUM(AO8:AT8)","v":0},{"$f":"'Jan-Jun 2024'!AV8","v":0},{"$f":"'Jan-Jun 2024'!AU8+'Jul-Dez 2024'!AU8+'Jan-Jun 2025'!AU8+'Jul-Dez 2025'!AU8+'Jan-Jun 2026'!AU8+'Jul-Dez 2026'!AU8+'Jan-Jun 2027'!AU8","v":0},null,"M","IGO",{"$f":"IF(AY8=$DI$8,BC8,IF(AY8=$DI$9,BC8,IF(AY8=$DI$10,BB8,)))","v":0},{"$f":"IF($AK$4=$DH$8,BK8,IF($AK$4=$DH$9,BL8,IF($AK$4=$DH$10,BM8,IF($AK$4=$DH$11,BE8,IF($AK$4=$DH$12,BF8,IF($AK$4=$DH$13,BG8,IF($AK$4=$DH$14,BH8,IF($AK$4=$DH$15,BI8,IF($AK$4=$DH$16,BJ8,\"\")))))))))","v":0},{"$f":"IF(AY8=$DI$8,BB8,IF(AY8=$DI$9,BC9+BB8,IF(AY8=$DI$10,IF(AY9=$DI$10,BC9+BB8,BB8),)))","v":0},25,{"$f":"COUNTIF($C$10:$AG$13,$AZ8)","v":0},{"$f":"COUNTIF($C$17:$AG$20,$AZ8)","v":0},{"$f":"COUNTIF($C$24:$AG$27,$AZ8)","v":0},{"$f":"COUNTIF($C$31:$AG$34,$AZ8)","v":0},{"$f":"COUNTIF($C$38:$AG$41,$AZ8)","v":0},{"$f":"COUNTIF($C$45:$AG$48,$AZ8)","v":0},{"$f":"SUM(BE8:BJ8)","v":0},{"$f":"'Jan-Jun 2024'!BL8","v":0},{"$f":"'Jan-Jun 2024'!BK8+'Jul-Dez 2024'!BK8+'Jan-Jun 2025'!BK8+'Jul-Dez 2025'!BK8+'Jan-Jun 2026'!BK8+'Jul-Dez 2026'!BK8+'Jan-Jun 2027'!BK8","v":0},{"$nulls":3},{"$f":"IF(BO8=$DI$8,BS8,IF(BO8=$DI$9,BS8,IF(BO8=$DI$10,BR8,)))","v":0},{"$f":"IF($AK$4=$DH$8,CA8,IF($AK$4=$DH$9,CB8,IF($AK$4=$DH$10,CC8,IF($AK$4=$DH$11,BU8,IF($AK$4=$DH$12,BV8,IF($AK$4=$DH$13,BW8,IF($AK$4=$DH$14,BX8,IF($AK$4=$DH$15,BY8,IF($AK$4=$DH$16,BZ8,\"\")))))))))","v":0},{"$f":"IF(BO8=$DI$8,BR8,IF(BO8=$DI$9,BS9+BR8,IF(BO8=$DI$10,IF(BO9=$DI$10,BS9+BR8,BR8),)))","v":0},null,{"$f":"COUNTIF($C$10:$AG$13,$BP8)","v":0},{"$f":"COUNTIF($C$17:$AG$20,$BP8)","v":0},{"$f":"COUNTIF($C$24:$AG$27,$BP8)","v":0},{"$f":"COUNTIF($C$31:$AG$34,$BP8)","v":0},{"$f":"COUNTIF($C$38:$AG$41,$BP8)","v":0},{"$f":"COUNTIF($C$45:$AG$48,$BP8)","v":0},{"$f":"SUM(BU8:BZ8)","v":0},{"$f":"'Jan-Jun 2024'!CB8","v":0},{"$f":"'Jan-Jun 2024'!CA8+'Jul-Dez 2024'!CA8+'Jan-Jun 2025'!CA8+'Jul-Dez 2025'!CA8+'Jan-Jun 2026'!CA8+'Jul-Dez 2026'!CA8+'Jan-Jun 2027'!CA8","v":0},{"$nulls":30},"SF","M"]
[null,null,{"$f":"A8","v":"2027-01-01"},{"$f":"IF(C9=\"\",\"\",IF(DAY(C9)<DAY(EOMONTH(C9,0)),C9+1,\"\"))","v":"2027-01-02"},{"$f":"IF(D9=\"\",\"\",IF(DAY(D9)<DAY(EOMONTH(D9,0)),D9+1,\"\"))","v":"2027-01-03"},"2027-01-04","2027-01-05","2027-01-06",{"$f":"IF(H9=\"\",\"\",IF(DAY(H9)<DAY(EOMONTH(H9,0)),H9+1,\"\"))","v":"2027-01-07"},{"$f":"IF(I9=\"\",\"\",IF(DAY(I9)<DAY(EOMONTH(I9,0)),I9+1,\"\"))","v":"2027-01-08"},{"$f":"IF(J9=\"\",\"\",IF(DAY(J9)<DAY(EOMONTH(J9,0)),J9+1,\"\"))","v":"2027-01-09"},{"$f":"IF(K9=\"\",\"\",IF(DAY(K9)<DAY(EOMONTH(K9,0)),K9+1,\"\"))","v":"2027-01-10"},"2027-01-11","2027-01-12","2027-01-13",{"$f":"IF(O9=\"\",\"\",IF(DAY(O9)<DAY(EOMONTH(O9,0)),O9+1,\"\"))","v":"2027-01-14"},{"$f":"IF(P9=\"\",\"\",IF(DAY(P9)<DAY(EOMONTH(P9,0)),P9+1,\"\"))","v":"2027-01-15"},{"$f":"IF(Q9=\"\",\"\",IF(DAY(Q9)<DAY(EOMONTH(Q9,0)),Q9+1,\"\"))","v":"2027-01-16"},{"$f":"IF(R9=\"\",\"\",IF(DAY(R9)<DAY(EOMONTH(R9,0)),R9+1,\"\"))","v":"2027-01-17"},"2027-01-18","2027-01-19","2027-01-20",{"$f":"IF(V9=\"\",\"\",IF(DAY(V9)<DAY(EOMONTH(V9,0)),V9+1,\"\"))","v":"2027-01-21"},{"$f":"IF(W9=\"\",\"\",IF(DAY(W9)<DAY(EOMONTH(W9,0)),W9+1,\"\"))","v":"2027-01-22"},{"$f":"IF(X9=\"\",\"\",IF(DAY(X9)<DAY(EOMONTH(X9,0)),X9+1,\"\"))","v":"2027-01-23"},{"$f":"IF(Y9=\"\",\"\",IF(DAY(Y9)<DAY(EOMONTH(Y9,0)),Y9+1,\"\"))","v":"2027-01-24"},"2027-01-25","2027-01-26","2027-01-27",{"$f":"IF(AC9=\"\",\"\",IF(DAY(AC9)<DAY(EOMONTH(AC9,0)),AC9+1,\"\"))","v":"2027-01-28"},{"$f":"IF(AD9=\"\",\"\",IF(DAY(AD9)<DAY(EOMONTH(AD9,0)),AD9+1,\"\"))","v":"2027-01-29"},{"$f":"IF(AE9=\"\",\"\",IF(DAY(AE9)<DAY(EOMONTH(AE9,0)),AE9+1,\"\"))","v":"2027-01-30"},{"$f":"IF(AF9=\"\",\"\",IF(DAY(AF9)<DAY(EOMONTH(AF9,0)),AF9+1,\"\"))","v":"2027-01-31"},null,"P","PFL1",{"$f":"IF(AI9=$DI$8,AM9,IF(AI9=$DI$9,AM9,IF(AI9=$DI$10,AL9,)))","v":0},0,{"$f":"IF(AI9=$DI$8,AL9,IF(AI9=$DI$9,AM10+AL9,IF(AI9=$DI$10,IF(AI10=$DI$10,AM10+AL9,AL9),)))","v":0},7,{"$f":"COUNTIF($C$10:$AG$13,$AJ9)","v":0},{"$f":"COUNTIF($C$17:$AG$20,$AJ9)","v":0},{"$f":"COUNTIF($C$24:$AG$27,$AJ9)","v":0},{"$f":"COUNTIF($C$31:$AG$34,$AJ9)","v":0},{"$f":"COUNTIF($C$38:$AG$41,$AJ9)","v":0},{"$f":"COUNTIF($C$45:$AG$48,$AJ9)","v":0},{"$f":"SUM(AO9:AT9)","v":0},{"$f":"'Jan-Jun 2024'!AV9","v":0},{"$f":"'Jan-Jun 2024'!AU9+'Jul-Dez 2024'!AU9+'Jan-Jun 2025'!AU9+'Jul-Dez 2025'!AU9+'Jan-Jun 2026'!AU9+'Jul-Dez 2026'!AU9+'Jan-Jun 2027'!AU9","v":0},{"$nulls":3},{"$f":"IF(AY9=$DI$8,BC9,IF(AY9=$DI$9,BC9,IF(AY9=$DI$10,BB9,)))","v":0},0,{"$f":"IF(AY9=$DI$8,BB9,IF(AY9=$DI$9,BC10+BB9,IF(AY9=$DI$10,IF(AY10=$DI$10,BC10+BB9,BB9),)))","v":0},null,{"$f":"COUNTIF($C$10:$AG$13,$AZ9)","v":0},{"$f":"COUNTIF($C$17:$AG$20,$AZ9)","v":0},{"$f":"COUNTIF($C$24:$AG$27,$AZ9)","v":0},{"$f":"COUNTIF($C$31:$AG$34,$AZ9)","v":0},{"$f":"COUNTIF($C$38:$AG$41,$AZ9)","v":0},{"$f":"COUNTIF($C$45:$AG$48,$AZ9)","v":0},{"$f":"SUM(BE9:BJ9)","v":0},{"$f":"'Jan-Jun 2024'!BL9","v":0},{"$f":"'Jan-Jun 2024'!BK9+'Jul-Dez 2024'!BK9+'Jan-Jun 2025'!BK9+'Jul-Dez 2025'!BK9+'Jan-Jun 2026'!BK9+'Jul-Dez 2026'!BK9+'Jan-Jun 2027'!BK9","v":0},{"$nulls":3},{"$f":"IF(BO9=$DI$8,BS9,IF(BO9=$DI$9,BS9,IF(BO9=$DI$10,BR9,)))","v":0},0,{"$f":"IF(BO9=$DI$8,BR9,IF(BO9=$DI$9,BS10+BR9,IF(BO9=$DI$10,IF(BO10=$DI$10,BS10+BR9,BR9),)))","v":0},null,{"$f":"COUNTIF($C$10:$AG$13,$BP9)","v":0},{"$f":"COUNTIF($C$17:$AG$20,$BP9)","v":0},{"$f":"COUNTIF($C$24:$AG$27,$BP9)","v":0},{"$f":"COUNTIF($C$31:$AG$34,$BP9)","v":0},{"$f":"COUNTIF($C$38:$AG$41,$BP9)","v":0},{"$f":"COUNTIF($C$45:$AG$48,$BP9)","v":0},{"$f":"SUM(BU9:BZ9)","v":0},{"$f":"'Jan-Jun 2024'!CB9","v":0},{"$f":"'Jan-Jun 2024'!CA9+'Jul-Dez 2024'!CA9+'Jan-Jun 2025'!CA9+'Jul-Dez 2025'!CA9+'Jan-Jun 2026'!CA9+'Jul-Dez 2026'!CA9+'Jan-Jun 2027'!CA9","v":0},{"$nulls":30},"ST","T"]
["19h20 - 20h10",{"$nulls":33},"P","PFL2",0,0,0,18,0,0,0,0,0,0,0,{"$f":"'Jan-Jun 2024'!AV10","v":0},{"$f":"'Jan-Jun 2024'!AU10+'Jul-Dez 2024'!AU10+'Jan-Jun 2025'!AU10+'Jul-Dez 2025'!AU10+'Jan-Jun 2026'!AU10+'Jul-Dez 2026'!AU10+'Jan-Jun 2027'!AU10","v":0},{"$nulls":3},0,0,0,null,0,0,0,0,0,0,0,{"$f":"'Jan-Jun 2024'!BL10","v":0},{"$f":"'Jan-Jun 2024'!BK10+'Jul-Dez 2024'!BK10+'Jan-Jun 2025'!BK10+'Jul-Dez 2025'!BK10+'Jan-Jun 2026'!BK10+'Jul-Dez 2026'!BK10+'Jan-Jun 2027'!BK10","v":0},{"$nulls":3},0,0,0,null,0,0,0,0,0,0,0,{"$f":"'Jan-Jun 2024'!CB10","v":0},{"$f":"'Jan-Jun 2024'!CA10+'Jul-Dez 2024'!CA10+'Jan-Jun 2025'!CA10+'Jul-Dez 2025'!CA10+'Jan-Jun 2026'!CA10+'Jul-Dez 2026'!CA10+'Jan-Jun 2027'!CA10","v":0},{"$nulls":30},"SA","P"]
["20h10 - 21h00",null,"Ano",{"$nulls":33},0,0,0,null,0,0,0,0,0,0,0,{"$f":"'Jan-Jun 2024'!AV11","v":0},{"$f":"'Jan-Jun 2024'!AU11+'Jul-Dez 2024'!AU11+'Jan-Jun 2025'!AU11+'Jul-Dez 2025'!AU11+'Jan-Jun 2026'!AU11+'Jul-Dez 2026'!AU11+'Jan-Jun 2027'!AU11","v":0},null,"M","GMQ",0,0,0,25,0,0,0,0,0,0,0,{"$f":"'Jan-Jun 2024'!BL11","v":0},{"$f":"'Jan-Jun 2024'!BK11+'Jul-Dez 2024'!BK11+'Jan-Jun 2025'!BK11+'Jul-Dez 2025'!BK11+'Jan-Jun 2026'!BK11+'Jul-Dez 2026'!BK11+'Jan-Jun 2027'!BK11","v":0},{"$nulls":3},0,0,0,null,0,0,0,0,0,0,0,{"$f":"'Jan-Jun 2024'!CB11","v":0},{"$f":"'Jan-Jun 2024'!CA11+'Jul-Dez 2024'!CA11+'Jan-Jun 2025'!CA11+'Jul-Dez 2025'!CA11+'Jan-Jun 2026'!CA11+'Jul-Dez 2026'!CA11+'Jan-Jun 2027'!CA11","v":0},{"$nulls":30},{"$f":"TEXT(A8,\"mmm\")","v":"jan"}]
["21h20 - 22h10",null,"Novo",{"$nulls":31},"T","PCC",0,0,0,25,0,0,0,0,0,0,0,{"$f":"'Jan-Jun 2024'!AV12","v":0},{"$f":"'Jan-Jun 2024'!AU12+'Jul-Dez 2024'!AU12+'Jan-Jun 2025'!AU12+'Jul-Dez 2025'!AU12+'Jan-Jun 2026'!AU12+'Jul-Dez 2026'!AU12+'Jan-Jun 2027'!AU12","v":0},{"$nulls":3},0,0,0,null,0,0,0,0,0,0,0,{"$f":"'Jan-Jun 2024'!BL12","v":0},{"$f":"'Jan-Jun 2024'!BK12+'Jul-Dez 2024'!BK12+'Jan-Jun 2025'!BK12+'Jul-Dez 2025'!BK12+'Jan-Jun 2026'!BK12+'Jul-Dez 2026'!BK12+'Jan-Jun 2027'!BK12","v":0},{"$nulls":3},0,0,0,null,0,0,0,0,0,0,0,{"$f":"'Jan-Jun 2024'!CB12","v":0},{"$f":"'Jan-Jun 2024'!CA12+'Jul-Dez 2024'!CA12+'Jan-Jun 2025'!CA12+'Jul-Dez 2025'!CA12+'Jan-Jun 2026'!CA12+'Jul-Dez 2026'!CA12+'Jan-Jun 2027'!CA12","v":0},{"$nulls":30},{"$f":"TEXT(A15,\"mmm\")","v":"fev"}]
["22h10 - 23h00",{"$nulls":33},"P","PCC1",0,0,0,7,0,0,0,0,0,0,0,{"$f":"'Jan-Jun 2024'!AV13","v":0},{"$f":"'Jan-Jun 2024'!AU13+'Jul-Dez 2024'!AU13+'Jan-Jun 2025'!AU13+'Jul-Dez 2025'!AU13+'Jan-Jun 2026'!AU13+'Jul-Dez 2026'!AU13+'Jan-Jun 2027'!AU13","v":0},{"$nulls":3},0,0,0,null,0,0,0,0,0,0,0,{"$f":"'Jan-Jun 2024'!BL13","v":0},{"$f":"'Jan-Jun 2024'!BK13+'Jul-Dez 2024'!BK13+'Jan-Jun 2025'!BK13+'Jul-Dez 2025'!BK13+'Jan-Jun 2026'!BK13+'Jul-Dez 2026'!BK13+'Jan-Jun 2027'!BK13","v":0},{"$nulls":3},0,0,0,null,0,0,0,0,0,0,0,{"$f":"'Jan-Jun 2024'!CB13","v":0},{"$f":"'Jan-Jun 2024'!CA13+'Jul-Dez 2024'!CA13+'Jan-Jun 2025'!CA13+'Jul-Dez 2025'!CA13+'Jan-Jun 2026'!CA13+'Jul-Dez 2026'!CA13+'Jan-Jun 2027'!CA13","v":0},{"$nulls":30},{"$f":"TEXT(A22,\"mmm\")","v":"mar"}]
[{"$nulls":34},"P","PCC2",0,0,0,18,0,0,0,0,0,0,0,{"$f":"'Jan-Jun 2024'!AV14","v":0},{"$f":"'Jan-Jun 2024'!AU14+'Jul-Dez 2024'!AU14+'Jan-Jun 2025'!AU14+'Jul-Dez 2025'!AU14+'Jan-Jun 2026'!AU14+'Jul-Dez 2026'!AU14+'Jan-Jun 2027'!AU14","v":0},null,"M","SGQ",0,0,0,25,0,0,0,0,0,0,0,{"$f":"'Jan-Jun 2024'!BL14","v":0},{"$f":"'Jan-Jun 2024'!BK14+'Jul-Dez 2024'!BK14+'Jan-Jun 2025'!BK14+'Jul-Dez 2025'!BK14+'Jan-Jun 2026'!BK14+'Jul-Dez 2026'!BK14+'Jan-Jun 2027'!BK14","v":0},{"$nulls":3},0,0,0,null,0,0,0,0,0,0,0,{"$f":"'Jan-Jun 2024'!CB14","v":0},{"$f":"'Jan-Jun 2024'!CA14+'Jul-Dez 2024'!CA14+'Jan-Jun 2025'!CA14+'Jul-Dez 2025'!CA14+'Jan-Jun 2026'!CA14+'Jul-Dez 2026'!CA14+'Jan-Jun 2027'!CA14","v":0},{"$nulls":30},{"$f":"TEXT(A29,\"mmm\")","v":"abr"}]
[{"$f":"A8+DAY(EOMONTH(A8,0))","v":"2027-02-01"},null,{"$f":"IF(C16<>\"\",CHOOSE(WEEKDAY(C16,1),\"Dom.\",\"Seg.\",\"Ter.\",\"Qua.\",\"Qui.\",\"Sex.\",\"Sáb.\"),\"\")","v":"Seg."},{"$f":"IF(D16<>\"\",CHOOSE(WEEKDAY(D16,1),\"Dom.\",\"Seg.\",\"Ter.\",\"Qua.\",\"Qui.\",\"Sex.\",\"Sáb.\"),\"\")","v":"Ter."},"Qua.","Qui.","Sex.","Sáb.","Dom.","Seg.","Ter.","Qua.","Qui.","Sex.","Sáb.","Dom.","Seg.","Ter.","Qua.","Qui.","Sex.","Sáb.","Dom.","Seg.","Ter.","Qua.","Qui.","Sex.","Sáb.","Dom.","","","",{"$nulls":3},0,0,0,null,0,0,0,0,0,0,0,{"$f":"'Jan-Jun 2024'!AV15","v":0},{"$f":"'Jan-Jun 2024'!AU15+'Jul-Dez 2024'!AU15+'Jan-Jun 2025'!AU15+'Jul-Dez 2025'!AU15+'Jan-Jun 2026'!AU15+'Jul-Dez 2026'!AU15+'Jan-Jun 2027'!AU15","v":0},{"$nulls":3},0,0,0,null,0,0,0,0,0,0,0,{"$f":"'Jan-Jun 2024'!BL15","v":0},{"$f":"'Jan-Jun 2024'!BK15+'Jul-Dez 2024'!BK15+'Jan-Jun 2025'!BK15+'Jul-Dez 2025'!BK15+'Jan-Jun 2026'!BK15+'Jul-Dez 2026'!BK15+'Jan-Jun 2027'!BK15","v":0},{"$nulls":3},0,0,0,null,0,0,0,0,0,0,0,{"$f":"'Jan-Jun 2024'!CB15","v":0},{"$f":"'Jan-Jun 2024'!CA15+'Jul-Dez 2024'!CA15+'Jan-Jun 2025'!CA15+'Jul-Dez 2025'!CA15+'Jan-Jun 2026'!CA15+'Jul-Dez 2026'!CA15+'Jan-Jun 2027'!CA15","v":0},{"$nulls":30},{"$f":"TEXT(A36,\"mmm\")","v":"mai"}]
[null,null,{"$f":"A15","v":"2027-02-01"},{"$f":"IF(C16=\"\",\"\",IF(DAY(C16)<DAY(EOMONTH(C16,0)),C16+1,\"\"))","v":"2027-02-02"},"2027-02-03",{"$f":"IF(E16=\"\",\"\",IF(DAY(E16)<DAY(EOMONTH(E16,0)),E16+1,\"\"))","v":"2027-02-04"},{"$f":"IF(F16=\"\",\"\",IF(DAY(F16)<DAY(EOMONTH(F16,0)),F16+1,\"\"))","v":"2027-02-05"},{"$f":"IF(G16=\"\",\"\",IF(DAY(G16)<DAY(EOMONTH(G16,0)),G16+1,\"\"))","v":"2027-02-06"},{"$f":"IF(H16=\"\",\"\",IF(DAY(H16)<DAY(EOMONTH(H16,0)),H16+1,\"\"))","v":"2027-02-07"},"2027-02-08","2027-02-09","2027-02-10",{"$f":"IF(L16=\"\",\"\",IF(DAY(L16)<DAY(EOMONTH(L16,0)),L16+1,\"\"))","v":"2027-02-11"},{"$f":"IF(M16=\"\",\"\",IF(DAY(M16)<DAY(EOMONTH(M16,0)),M16+1,\"\"))","v":"2027-02-12"},{"$f":"IF(N16=\"\",\"\",IF(DAY(N16)<DAY(EOMONTH(N16,0)),N16+1,\"\"))","v":"2027-02-13"},{"$f":"IF(O16=\"\",\"\",IF(DAY(O16)<DAY(EOMONTH(O16,0)),O16+1,\"\"))","v":"2027-02-14"},"2027-02-15","2027-02-16","2027-02-17",{"$f":"IF(S16=\"\",\"\",IF(DAY(S16)<DAY(EOMONTH(S16,0)),S16+1,\"\"))","v":"2027-02-18"},{"$f":"IF(T16=\"\",\"\",IF(DAY(T16)<DAY(EOMONTH(T16,0)),T16+1,\"\"))","v":"2027-02-19"},{"$f":"IF(U16=\"\",\"\",IF(DAY(U16)<DAY(EOMONTH(U16,0)),U16+1,\"\"))","v":"2027-02-20"},{"$f":"IF(V16=\"\",\"\",IF(DAY(V16)<DAY(EOMONTH(V16,0)),V16+1,\"\"))","v":"2027-02-21"},"2027-02-22","2027-02-23","2027-02-24",{"$f":"IF(Z16=\"\",\"\",IF(DAY(Z16)<DAY(EOMONTH(Z16,0)),Z16+1,\"\"))","v":"2027-02-25"},{"$f":"IF(AA16=\"\",\"\",IF(DAY(AA16)<DAY(EOMONTH(AA16,0)),AA16+1,\"\"))","v":"2027-02-26"},{"$f":"IF(AB16=\"\",\"\",IF(DAY(AB16)<DAY(EOMONTH(AB16,0)),AB16+1,\"\"))","v":"2027-02-27"},{"$f":"IF(AC16=\"\",\"\",IF(DAY(AC16)<DAY(EOMONTH(AC16,0)),AC16+1,\"\"))","v":"2027-02-28"},"","","",null,"M","PAA",0,0,0,25,0,0,0,0,0,0,0,{"$f":"'Jan-Jun 2024'!AV16","v":0},{"$f":"'Jan-Jun 2024'!AU16+'Jul-Dez 2024'!AU16+'Jan-Jun 2025'!AU16+'Jul-Dez 2025'!AU16+'Jan-Jun 2026'!AU16+'Jul-Dez 2026'!AU16+'Jan-Jun 2027'!AU16","v":0},{"$nulls":3},0,0,0,null,0,0,0,0,0,0,0,{"$f":"'Jan-Jun 2024'!BL16","v":0},{"$f":"'Jan-Jun 2024'!BK16+'Jul-Dez 2024'!BK16+'Jan-Jun 2025'!BK16+'Jul-Dez 2025'!BK16+'Jan-Jun 2026'!BK16+'Jul-Dez 2026'!BK16+'Jan-Jun 2027'!BK16","v":0},{"$nulls":3},0,0,0,null,0,0,0,0,0,0,0,{"$f":"'Jan-Jun 2024'!CB16","v":0},{"$f":"'Jan-Jun 2024'!CA16+'Jul-Dez 2024'!CA16+'Jan-Jun 2025'!CA16+'Jul-Dez 2025'!CA16+'Jan-Jun 2026'!CA16+'Jul-Dez 2026'!CA16+'Jan-Jun 2027'!CA16","v":0},{"$nulls":30},{"$f":"TEXT(A43,\"mmm\")","v":"jun"}]
["19h20 - 20h10",{"$nulls":33},"M","IME",0,0,0,50,0,0,0,0,0,0,0,{"$f":"'Jan-Jun 2024'!AV17","v":0},{"$f":"'Jan-Jun 2024'!AU17+'Jul-Dez 2024'!AU17+'Jan-Jun 2025'!AU17+'Jul-Dez 2025'!AU17+'Jan-Jun 2026'!AU17+'Jul-Dez 2026'!AU17+'Jan-Jun 2027'!AU17","v":0},null,"M","ASHST",0,0,0,25,0,0,0,0,0,0,0,{"$f":"'Jan-Jun 2024'!BL17","v":0},{"$f":"'Jan-Jun 2024'!BK17+'Jul-Dez 2024'!BK17+'Jan-Jun 2025'!BK17+'Jul-Dez 2025'!BK17+'Jan-Jun 2026'!BK17+'Jul-Dez 2026'!BK17+'Jan-Jun 2027'!BK17","v":0},{"$nulls":3},0,0,0,null,0,0,0,0,0,0,0,{"$f":"'Jan-Jun 2024'!CB17","v":0},{"$f":"'Jan-Jun 2024'!CA17+'Jul-Dez 2024'!CA17+'Jan-Jun 2025'!CA17+'Jul-Dez 2025'!CA17+'Jan-Jun 2026'!CA17+'Jul-Dez 2026'!CA17+'Jan-Jun 2027'!CA17","v":0}]
["20h10 - 21h00",{"$nulls":9},"Entrudo",{"$nulls":23},"M","ELE",0,0,0,50,0,0,0,0,0,0,0,{"$f":"'Jan-Jun 2024'!AV18","v":0},{"$f":"'Jan-Jun 2024'!AU18+'Jul-Dez 2024'!AU18+'Jan-Jun 2025'!AU18+'Jul-Dez 2025'!AU18+'Jan-Jun 2026'!AU18+'Jul-Dez 2026'!AU18+'Jan-Jun 2027'!AU18","v":0},null,"T","DT",0,0,0,25,0,0,0,0,0,0,0,{"$f":"'Jan-Jun 2024'!BL18","v":0},{"$f":"'Jan-Jun 2024'!BK18+'Jul-Dez 2024'!BK18+'Jan-Jun 2025'!BK18+'Jul-Dez 2025'!BK18+'Jan-Jun 2026'!BK18+'Jul-Dez 2026'!BK18+'Jan-Jun 2027'!BK18","v":0},{"$nulls":3},0,0,0,null,0,0,0,0,0,0,0,{"$f":"'Jan-Jun 2024'!CB18","v":0},{"$f":"'Jan-Jun 2024'!CA18+'Jul-Dez 2024'!CA18+'Jan-Jun 2025'!CA18+'Jul-Dez 2025'!CA18+'Jan-Jun 2026'!CA18+'Jul-Dez 2026'!CA18+'Jan-Jun 2027'!CA18","v":0}]
["21h20 - 22h10",{"$nulls":33},"M","CP",0,0,0,25,0,0,0,0,0,0,0,{"$f":"'Jan-Jun 2024'!AV19","v":0},{"$f":"'Jan-Jun 2024'!AU19+'Jul-Dez 2024'!AU19+'Jan-Jun 2025'!AU19+'Jul-Dez 2025'!AU19+'Jan-Jun 2026'!AU19+'Jul-Dez 2026'!AU19+'Jan-Jun 2027'!AU19","v":0},{"$nulls":3},0,0,0,null,0,0,0,0,0,0,0,{"$f":"'Jan-Jun 2024'!BL19","v":0},{"$f":"'Jan-Jun 2024'!BK19+'Jul-Dez 2024'!BK19+'Jan-Jun 2025'!BK19+'Jul-Dez 2025'!BK19+'Jan-Jun 2026'!BK19+'Jul-Dez 2026'!BK19+'Jan-Jun 2027'!BK19","v":0},{"$nulls":3},0,0,0,null,0,0,0,0,0,0,0,{"$f":"'Jan-Jun 2024'!CB19","v":0},{"$f":"'Jan-Jun 2024'!CA19+'Jul-Dez 2024'!CA19+'Jan-Jun 2025'!CA19+'Jul-Dez 2025'!CA19+'Jan-Jun 2026'!CA19+'Jul-Dez 2026'!CA19+'Jan-Jun 2027'!CA19","v":0}]
["22h10 - 23h00",{"$nulls":35},0,0,0,null,0,0,0,0,0,0,0,{"$f":"'Jan-Jun 2024'!AV20","v":0},{"$f":"'Jan-Jun 2024'!AU20+'Jul-Dez 2024'!AU20+'Jan-Jun 2025'!AU20+'Jul-Dez 2025'!AU20+'Jan-Jun 2026'!AU20+'Jul-Dez 2026'!AU20+'Jan-Jun 2027'!AU20","v":0},{"$nulls":3},0,0,0,null,0,0,0,0,0,0,0,{"$f":"'Jan-Jun 2024'!BL20","v":0},{"$f":"'Jan-Jun 2024'!BK20+'Jul-Dez 2024'!BK20+'Jan-Jun 2025'!BK20+'Jul-Dez 2025'!BK20+'Jan-Jun 2026'!BK20+'Jul-Dez 2026'!BK20+'Jan-Jun 2027'!BK20","v":0},{"$nulls":3},0,0,0,null,0,0,0,0,0,0,0,{"$f":"'Jan-Jun 2024'!CB20","v":0},{"$f":"'Jan-Jun 2024'!CA20+'Jul-Dez 2024'!CA20+'Jan-Jun 2025'!CA20+'Jul-Dez 2025'!CA20+'Jan-Jun 2026'!CA20+'Jul-Dez 2026'!CA20+'Jan-Jun 2027'!CA20","v":0}]
[{"$nulls":36},0,0,0,null,0,0,0,0,0,0,0,{"$f":"'Jan-Jun 2024'!AV21","v":0},{"$f":"'Jan-Jun 2024'!AU21+'Jul-Dez 2024'!AU21+'Jan-Jun 2025'!AU21+'Jul-Dez 2025'!AU21+'Jan-Jun 2026'!AU21+'Jul-Dez 2026'!AU21+'Jan-Jun 2027'!AU21","v":0},{"$nulls":3},0,0,0,null,0,0,0,0,0,0,0,{"$f":"'Jan-Jun 2024'!BL21","v":0},{"$f":"'Jan-Jun 2024'!BK21+'Jul-Dez 2024'!BK21+'Jan-Jun 2025'!BK21+'Jul-Dez 2025'!BK21+'Jan-Jun 2026'!BK21+'Jul-Dez 2026'!BK21+'Jan-Jun 2027'!BK21","v":0},{"$nulls":3},0,0,0,null,0,0,0,0,0,0,0,{"$f":"'Jan-Jun 2024'!CB21","v":0},{"$f":"'Jan-Jun 2024'!CA21+'Jul-Dez 2024'!CA21+'Jan-Jun 2025'!CA21+'Jul-Dez 2025'!CA21+'Jan-Jun 2026'!CA21+'Jul-Dez 2026'!CA21+'Jan-Jun 2027'!CA21","v":0}]
[{"$f":"A15+DAY(EOMONTH(A15,0))","v":"2027-03-01"},null,{"$f":"IF(C23<>\"\",CHOOSE(WEEKDAY(C23,1),\"Dom.\",\"Seg.\",\"Ter.\",\"Qua.\",\"Qui.\",\"Sex.\",\"Sáb.\"),\"\")","v":"Seg."},{"$f":"IF(D23<>\"\",CHOOSE(WEEKDAY(D23,1),\"Dom.\",\"Seg.\",\"Ter.\",\"Qua.\",\"Qui.\",\"Sex.\",\"Sáb.\"),\"\")","v":"Ter."},"Qua.","Qui.","Sex.","Sáb.","Dom.","Seg.","Ter.","Qua.","Qui.","Sex.","Sáb.","Dom.","Seg.","Ter.","Qua.","Qui.","Sex.","Sáb.","Dom.","Seg.","Ter.","Qua.","Qui.","Sex.","Sáb.","Dom.","Seg.","Ter.","Qua.",{"$nulls":3},0,0,0,null,0,0,0,0,0,0,0,{"$f":"'Jan-Jun 2024'!AV22","v":0},{"$f":"'Jan-Jun 2024'!AU22+'Jul-Dez 2024'!AU22+'Jan-Jun 2025'!AU22+'Jul-Dez 2025'!AU22+'Jan-Jun 2026'!AU22+'Jul-Dez 2026'!AU22+'Jan-Jun 2027'!AU22","v":0},null,"M","ICS",0,0,0,25,0,0,0,0,0,0,0,{"$f":"'Jan-Jun 2024'!BL22","v":0},{"$f":"'Jan-Jun 2024'!BK22+'Jul-Dez 2024'!BK22+'Jan-Jun 2025'!BK22+'Jul-Dez 2025'!BK22+'Jan-Jun 2026'!BK22+'Jul-Dez 2026'!BK22+'Jan-Jun 2027'!BK22","v":0},{"$nulls":3},0,0,0,null,0,0,0,0,0,0,0,{"$f":"'Jan-Jun 2024'!CB22","v":0},{"$f":"'Jan-Jun 2024'!CA22+'Jul-Dez 2024'!CA22+'Jan-Jun 2025'!CA22+'Jul-Dez 2025'!CA22+'Jan-Jun 2026'!CA22+'Jul-Dez 2026'!CA22+'Jan-Jun 2027'!CA22","v":0}]
[null,null,{"$f":"A22","v":"2027-03-01"},{"$f":"IF(C23=\"\",\"\",IF(DAY(C23)<DAY(EOMONTH(C23,0)),C23+1,\"\"))","v":"2027-03-02"},"2027-03-03","2027-03-04","2027-03-05","2027-03-06","2027-03-07",{"$f":"IF(I23=\"\",\"\",IF(DAY(I23)<DAY(EOMONTH(I23,0)),I23+1,\"\"))","v":"2027-03-08"},{"$f":"IF(J23=\"\",\"\",IF(DAY(J23)<DAY(EOMONTH(J23,0)),J23+1,\"\"))","v":"2027-03-09"},"2027-03-10","2027-03-11","2027-03-12","2027-03-13","2027-03-14",{"$f":"IF(P23=\"\",\"\",IF(DAY(P23)<DAY(EOMONTH(P23,0)),P23+1,\"\"))","v":"2027-03-15"},{"$f":"IF(Q23=\"\",\"\",IF(DAY(Q23)<DAY(EOMONTH(Q23,0)),Q23+1,\"\"))","v":"2027-03-16"},"2027-03-17","2027-03-18","2027-03-19","2027-03-20","2027-03-21",{"$f":"IF(W23=\"\",\"\",IF(DAY(W23)<DAY(EOMONTH(W23,0)),W23+1,\"\"))","v":"2027-03-22"},{"$f":"IF(X23=\"\",\"\",IF(DAY(X23)<DAY(EOMONTH(X23,0)),X23+1,\"\"))","v":"2027-03-23"},"2027-03-24","2027-03-25","2027-03-26","2027-03-27","2027-03-28",{"$f":"IF(AD23=\"\",\"\",IF(DAY(AD23)<DAY(EOMONTH(AD23,0)),AD23+1,\"\"))","v":"2027-03-29"},{"$f":"IF(AE23=\"\",\"\",IF(DAY(AE23)<DAY(EOMONTH(AE23,0)),AE23+1,\"\"))","v":"2027-03-30"},"2027-03-31",null,"M","CH",0,0,0,25,0,0,0,0,0,0,0,{"$f":"'Jan-Jun 2024'!AV23","v":0},{"$f":"'Jan-Jun 2024'!AU23+'Jul-Dez 2024'!AU23+'Jan-Jun 2025'!AU23+'Jul-Dez 2025'!AU23+'Jan-Jun 2026'!AU23+'Jul-Dez 2026'!AU23+'Jan-Jun 2027'!AU23","v":0},{"$nulls":3},0,0,0,null,0,0,0,0,0,0,0,{"$f":"'Jan-Jun 2024'!BL23","v":0},{"$f":"'Jan-Jun 2024'!BK23+'Jul-Dez 2024'!BK23+'Jan-Jun 2025'!BK23+'Jul-Dez 2025'!BK23+'Jan-Jun 2026'!BK23+'Jul-Dez 2026'!BK23+'Jan-Jun 2027'!BK23","v":0},{"$nulls":3},0,0,0,null,0,0,0,0,0,0,0,{"$f":"'Jan-Jun 2024'!CB23","v":0},{"$f":"'Jan-Jun 2024'!CA23+'Jul-Dez 2024'!CA23+'Jan-Jun 2025'!CA23+'Jul-Dez 2025'!CA23+'Jan-Jun 2026'!CA23+'Jul-Dez 2026'!CA23+'Jan-Jun 2027'!CA23","v":0}]
["19h20 - 20h10",{"$nulls":26},"Sexta",{"$nulls":6},"M","CLP",0,0,0,50,0,0,0,0,0,0,0,{"$f":"'Jan-Jun 2024'!AV24","v":0},{"$f":"'Jan-Jun 2024'!AU24+'Jul-Dez 2024'!AU24+'Jan-Jun 2025'!AU24+'Jul-Dez 2025'!AU24+'Jan-Jun 2026'!AU24+'Jul-Dez 2026'!AU24+'Jan-Jun 2027'!AU24","v":0},{"$nulls":3},0,0,0,null,0,0,0,0,0,0,0,{"$f":"'Jan-Jun 2024'!BL24","v":0},{"$f":"'Jan-Jun 2024'!BK24+'Jul-Dez 2024'!BK24+'Jan-Jun 2025'!BK24+'Jul-Dez 2025'!BK24+'Jan-Jun 2026'!BK24+'Jul-Dez 2026'!BK24+'Jan-Jun 2027'!BK24","v":0},{"$nulls":3},0,0,0,null,0,0,0,0,0,0,0,{"$f":"'Jan-Jun 2024'!CB24","v":0},{"$f":"'Jan-Jun 2024'!CA24+'Jul-Dez 2024'!CA24+'Jan-Jun 2025'!CA24+'Jul-Dez 2025'!CA24+'Jan-Jun 2026'!CA24+'Jul-Dez 2026'!CA24+'Jan-Jun 2027'!CA24","v":0}]
["20h10 - 21h00",{"$nulls":26},"Feira",null,"Pascoa",{"$nulls":6},0,0,0,null,0,0,0,0,0,0,0,{"$f":"'Jan-Jun 2024'!AV25","v":0},{"$f":"'Jan-Jun 2024'!AU25+'Jul-Dez 2024'!AU25+'Jan-Jun 2025'!AU25+'Jul-Dez 2025'!AU25+'Jan-Jun 2026'!AU25+'Jul-Dez 2026'!AU25+'Jan-Jun 2027'!AU25","v":0},{"$nulls":3},0,0,0,null,0,0,0,0,0,0,0,{"$f":"'Jan-Jun 2024'!BL25","v":0},{"$f":"'Jan-Jun 2024'!BK25+'Jul-Dez 2024'!BK25+'Jan-Jun 2025'!BK25+'Jul-Dez 2025'!BK25+'Jan-Jun 2026'!BK25+'Jul-Dez 2026'!BK25+'Jan-Jun 2027'!BK25","v":0},{"$nulls":3},0,0,0,null,0,0,0,0,0,0,0,{"$f":"'Jan-Jun 2024'!CB25","v":0},{"$f":"'Jan-Jun 2024'!CA25+'Jul-Dez 2024'!CA25+'Jan-Jun 2025'!CA25+'Jul-Dez 2025'!CA25+'Jan-Jun 2026'!CA25+'Jul-Dez 2026'!CA25+'Jan-Jun 2027'!CA25","v":0}]
["21h20 - 22h10",{"$nulls":26},"Santa",{"$nulls":8},0,0,0,null,0,0,0,0,0,0,0,{"$f":"'Jan-Jun 2024'!AV26","v":0},{"$f":"'Jan-Jun 2024'!AU26+'Jul-Dez 2024'!AU26+'Jan-Jun 2025'!AU26+'Jul-Dez 2025'!AU26+'Jan-Jun 2026'!AU26+'Jul-Dez 2026'!AU26+'Jan-Jun 2027'!AU26","v":0},{"$nulls":3},0,0,0,null,0,0,0,0,0,0,0,{"$f":"'Jan-Jun 2024'!BL26","v":0},{"$f":"'Jan-Jun 2024'!BK26+'Jul-Dez 2024'!BK26+'Jan-Jun 2025'!BK26+'Jul-Dez 2025'!BK26+'Jan-Jun 2026'!BK26+'Jul-Dez 2026'!BK26+'Jan-Jun 2027'!BK26","v":0},{"$nulls":3},0,0,0,null,0,0,0,0,0,0,0,{"$f":"'Jan-Jun 2024'!CB26","v":0},{"$f":"'Jan-Jun 2024'!CA26+'Jul-Dez 2024'!CA26+'Jan-Jun 2025'!CA26+'Jul-Dez 2025'!CA26+'Jan-Jun 2026'!CA26+'Jul-Dez 2026'!CA26+'Jan-Jun 2027'!CA26","v":0}]
["22h10 - 23h00",{"$nulls":35},0,0,0,null,0,0,0,0,0,0,0,{"$f":"'Jan-Jun 2024'!AV27","v":0},{"$f":"'Jan-Jun 2024'!AU27+'Jul-Dez 2024'!AU27+'Jan-Jun 2025'!AU27+'Jul-Dez 2025'!AU27+'Jan-Jun 2026'!AU27+'Jul-Dez 2026'!AU27+'Jan-Jun 2027'!AU27","v":0},{"$nulls":3},0,0,0,null,0,0,0,0,0,0,0,{"$f":"'Jan-Jun 2024'!BL27","v":0},{"$f":"'Jan-Jun 2024'!BK27+'Jul-Dez 2024'!BK27+'Jan-Jun 2025'!BK27+'Jul-Dez 2025'!BK27+'Jan-Jun 2026'!BK27+'Jul-Dez 2026'!BK27+'Jan-Jun 2027'!BK27","v":0},{"$nulls":3},0,0,0,null,0,0,0,0,0,0,0,{"$f":"'Jan-Jun 2024'!CB27","v":0},{"$f":"'Jan-Jun 2024'!CA27+'Jul-Dez 2024'!CA27+'Jan-Jun 2025'!CA27+'Jul-Dez 2025'!CA27+'Jan-Jun 2026'!CA27+'Jul-Dez 2026'!CA27+'Jan-Jun 2027'!CA27","v":0}]
[{"$nulls":34},"M","DCM",0,0,0,50,0,0,0,0,0,0,0,{"$f":"'Jan-Jun 2024'!AV28","v":0},{"$f":"'Jan-Jun 2024'!AU28+'Jul-Dez 2024'!AU28+'Jan-Jun 2025'!AU28+'Jul-Dez 2025'!AU28+'Jan-Jun 2026'!AU28+'Jul-Dez 2026'!AU28+'Jan-Jun 2027'!AU28","v":0},{"$nulls":3},0,0,0,null,0,0,0,0,0,0,0,{"$f":"'Jan-Jun 2024'!BL28","v":0},{"$f":"'Jan-Jun 2024'!BK28+'Jul-Dez 2024'!BK28+'Jan-Jun 2025'!BK28+'Jul-Dez 2025'!BK28+'Jan-Jun 2026'!BK28+'Jul-Dez 2026'!BK28+'Jan-Jun 2027'!BK28","v":0},{"$nulls":3},0,0,0,null,0,0,0,0,0,0,0,{"$f":"'Jan-Jun 2024'!CB28","v":0},{"$f":"'Jan-Jun 2024'!CA28+'Jul-Dez 2024'!CA28+'Jan-Jun 2025'!CA28+'Jul-Dez 2025'!CA28+'Jan-Jun 2026'!CA28+'Jul-Dez 2026'!CA28+'Jan-Jun 2027'!CA28","v":0}]
[{"$f":"A22+DAY(EOMONTH(A22,0))","v":"2027-04-01"},null,{"$f":"IF(C30<>\"\",CHOOSE(WEEKDAY(C30,1),\"Dom.\",\"Seg.\",\"Ter.\",\"Qua.\",\"Qui.\",\"Sex.\",\"Sáb.\"),\"\")","v":"Qui."},{"$f":"IF(D30<>\"\",CHOOSE(WEEKDAY(D30,1),\"Dom.\",\"Seg.\",\"Ter.\",\"Qua.\",\"Qui.\",\"Sex.\",\"Sáb.\"),\"\")","v":"Sex."},"Sáb.","Dom.","Seg.","Ter.","Qua.","Qui.","Sex.","Sáb.","Dom.","Seg.","Ter.","Qua.","Qui.","Sex.","Sáb.","Dom.","Seg.","Ter.","Qua.","Qui.","Sex.","Sáb.","Dom.","Seg.","Ter.","Qua.","Qui.","Sex.","",null,"M","CM",0,0,0,50,0,0,0,0,0,0,0,{"$f":"'Jan-Jun 2024'!AV29","v":0},{"$f":"'Jan-Jun 2024'!AU29+'Jul-Dez 2024'!AU29+'Jan-Jun 2025'!AU29+'Jul-Dez 2025'!AU29+'Jan-Jun 2026'!AU29+'Jul-Dez 2026'!AU29+'Jan-Jun 2027'!AU29","v":0},{"$nulls":3},0,0,0,null,0,0,0,0,0,0,0,{"$f":"'Jan-Jun 2024'!BL29","v":0},{"$f":"'Jan-Jun 2024'!BK29+'Jul-Dez 2024'!BK29+'Jan-Jun 2025'!BK29+'Jul-Dez 2025'!BK29+'Jan-Jun 2026'!BK29+'Jul-Dez 2026'!BK29+'Jan-Jun 2027'!BK29","v":0},{"$nulls":3},0,0,0,null,0,0,0,0,0,0,0,{"$f":"'Jan-Jun 2024'!CB29","v":0},{"$f":"'Jan-Jun 2024'!CA29+'Jul-Dez 2024'!CA29+'Jan-Jun 2025'!CA29+'Jul-Dez 2025'!CA29+'Jan-Jun 2026'!CA29+'Jul-Dez 2026'!CA29+'Jan-Jun 2027'!CA29","v":0}]
[null,null,{"$f":"A29","v":"2027-04-01"},{"$f":"IF(C30=\"\",\"\",IF(DAY(C30)<DAY(EOMONTH(C30,0)),C30+1,\"\"))","v":"2027-04-02"},"2027-04-03","2027-04-04","2027-04-05",{"$f":"IF(G30=\"\",\"\",IF(DAY(G30)<DAY(EOMONTH(G30,0)),G30+1,\"\"))","v":"2027-04-06"},{"$f":"IF(H30=\"\",\"\",IF(DAY(H30)<DAY(EOMONTH(H30,0)),H30+1,\"\"))","v":"2027-04-07"},"2027-04-08","2027-04-09","2027-04-10","2027-04-11","2027-04-12",{"$f":"IF(N30=\"\",\"\",IF(DAY(N30)<DAY(EOMONTH(N30,0)),N30+1,\"\"))","v":"2027-04-13"},{"$f":"IF(O30=\"\",\"\",IF(DAY(O30)<DAY(EOMONTH(O30,0)),O30+1,\"\"))","v":"2027-04-14"},"2027-04-15","2027-04-16","2027-04-17","2027-04-18","2027-04-19",{"$f":"IF(U30=\"\",\"\",IF(DAY(U30)<DAY(EOMONTH(U30,0)),U30+1,\"\"))","v":"2027-04-20"},{"$f":"IF(V30=\"\",\"\",IF(DAY(V30)<DAY(EOMONTH(V30,0)),V30+1,\"\"))","v":"2027-04-21"},"2027-04-22","2027-04-23","2027-04-24","2027-04-25","2027-04-26",{"$f":"IF(AB30=\"\",\"\",IF(DAY(AB30)<DAY(EOMONTH(AB30,0)),AB30+1,\"\"))","v":"2027-04-27"},{"$f":"IF(AC30=\"\",\"\",IF(DAY(AC30)<DAY(EOMONTH(AC30,0)),AC30+1,\"\"))","v":"2027-04-28"},"2027-04-29","2027-04-30","",null,"M","SD",0,0,0,50,0,0,0,0,0,0,0,{"$f":"'Jan-Jun 2024'!AV30","v":0},{"$f":"'Jan-Jun 2024'!AU30+'Jul-Dez 2024'!AU30+'Jan-Jun 2025'!AU30+'Jul-Dez 2025'!AU30+'Jan-Jun 2026'!AU30+'Jul-Dez 2026'!AU30+'Jan-Jun 2027'!AU30","v":0},{"$nulls":3},0,0,0,null,0,0,0,0,0,0,0,{"$f":"'Jan-Jun 2024'!BL30","v":0},{"$f":"'Jan-Jun 2024'!BK30+'Jul-Dez 2024'!BK30+'Jan-Jun 2025'!BK30+'Jul-Dez 2025'!BK30+'Jan-Jun 2026'!BK30+'Jul-Dez 2026'!BK30+'Jan-Jun 2027'!BK30","v":0},{"$nulls":3},0,0,0,null,0,0,0,0,0,0,0,{"$f":"'Jan-Jun 2024'!CB30","v":0},{"$f":"'Jan-Jun 2024'!CA30+'Jul-Dez 2024'!CA30+'Jan-Jun 2025'!CA30+'Jul-Dez 2025'!CA30+'Jan-Jun 2026'!CA30+'Jul-Dez 2026'!CA30+'Jan-Jun 2027'!CA30","v":0}]
["19h20 - 20h10",{"$nulls":33},"M","OEM",0,0,0,50,0,0,0,0,0,0,0,{"$f":"'Jan-Jun 2024'!AV31","v":0},{"$f":"'Jan-Jun 2024'!AU31+'Jul-Dez 2024'!AU31+'Jan-Jun 2025'!AU31+'Jul-Dez 2025'!AU31+'Jan-Jun 2026'!AU31+'Jul-Dez 2026'!AU31+'Jan-Jun 2027'!AU31","v":0},{"$nulls":3},0,0,0,null,0,0,0,0,0,0,0,{"$f":"'Jan-Jun 2024'!BL31","v":0},{"$f":"'Jan-Jun 2024'!BK31+'Jul-Dez 2024'!BK31+'Jan-Jun 2025'!BK31+'Jul-Dez 2025'!BK31+'Jan-Jun 2026'!BK31+'Jul-Dez 2026'!BK31+'Jan-Jun 2027'!BK31","v":0},{"$nulls":3},0,0,0,null,0,0,0,0,0,0,0,{"$f":"'Jan-Jun 2024'!CB31","v":0},{"$f":"'Jan-Jun 2024'!CA31+'Jul-Dez 2024'!CA31+'Jan-Jun 2025'!CA31+'Jul-Dez 2025'!CA31+'Jan-Jun 2026'!CA31+'Jul-Dez 2026'!CA31+'Jan-Jun 2027'!CA31","v":0}]
["20h10 - 21h00",{"$nulls":25},"Liberd.",{"$nulls":7},"M","IP",0,0,0,50,0,0,0,0,0,0,0,{"$f":"'Jan-Jun 2024'!AV32","v":0},{"$f":"'Jan-Jun 2024'!AU32+'Jul-Dez 2024'!AU32+'Jan-Jun 2025'!AU32+'Jul-Dez 2025'!AU32+'Jan-Jun 2026'!AU32+'Jul-Dez 2026'!AU32+'Jan-Jun 2027'!AU32","v":0},null,"M","EG",0,0,0,50,0,0,0,0,0,0,0,{"$f":"'Jan-Jun 2024'!BL32","v":0},{"$f":"'Jan-Jun 2024'!BK32+'Jul-Dez 2024'!BK32+'Jan-Jun 2025'!BK32+'Jul-Dez 2025'!BK32+'Jan-Jun 2026'!BK32+'Jul-Dez 2026'!BK32+'Jan-Jun 2027'!BK32","v":0},{"$nulls":3},0,0,0,null,0,0,0,0,0,0,0,{"$f":"'Jan-Jun 2024'!CB32","v":0},{"$f":"'Jan-Jun 2024'!CA32+'Jul-Dez 2024'!CA32+'Jan-Jun 2025'!CA32+'Jul-Dez 2025'!CA32+'Jan-Jun 2026'!CA32+'Jul-Dez 2026'!CA32+'Jan-Jun 2027'!CA32","v":0}]
["21h20 - 22h10",{"$nulls":35},0,0,0,null,0,0,0,0,0,0,0,{"$f":"'Jan-Jun 2024'!AV33","v":0},{"$f":"'Jan-Jun 2024'!AU33+'Jul-Dez 2024'!AU33+'Jan-Jun 2025'!AU33+'Jul-Dez 2025'!AU33+'Jan-Jun 2026'!AU33+'Jul-Dez 2026'!AU33+'Jan-Jun 2027'!AU33","v":0},{"$nulls":3},0,0,0,null,0,0,0,0,0,0,0,{"$f":"'Jan-Jun 2024'!BL33","v":0},{"$f":"'Jan-Jun 2024'!BK33+'Jul-Dez 2024'!BK33+'Jan-Jun 2025'!BK33+'Jul-Dez 2025'!BK33+'Jan-Jun 2026'!BK33+'Jul-Dez 2026'!BK33+'Jan-Jun 2027'!BK33","v":0},{"$nulls":3},0,0,0,null,0,0,0,0,0,0,0,{"$f":"'Jan-Jun 2024'!CB33","v":0},{"$f":"'Jan-Jun 2024'!CA33+'Jul-Dez 2024'!CA33+'Jan-Jun 2025'!CA33+'Jul-Dez 2025'!CA33+'Jan-Jun 2026'!CA33+'Jul-Dez 2026'!CA33+'Jan-Jun 2027'!CA33","v":0}]
["22h10 - 23h00",{"$nulls":33},"M","ELP",0,0,0,50,0,0,0,0,0,0,0,{"$f":"'Jan-Jun 2024'!AV34","v":0},{"$f":"'Jan-Jun 2024'!AU34+'Jul-Dez 2024'!AU34+'Jan-Jun 2025'!AU34+'Jul-Dez 2025'!AU34+'Jan-Jun 2026'!AU34+'Jul-Dez 2026'!AU34+'Jan-Jun 2027'!AU34","v":0},null,"M","IGE",0,0,0,60,0,0,0,0,0,0,0,{"$f":"'Jan-Jun 2024'!BL34","v":0},{"$f":"'Jan-Jun 2024'!BK34+'Jul-Dez 2024'!BK34+'Jan-Jun 2025'!BK34+'Jul-Dez 2025'!BK34+'Jan-Jun 2026'!BK34+'Jul-Dez 2026'!BK34+'Jan-Jun 2027'!BK34","v":0},{"$nulls":3},0,0,0,null,0,0,0,0,0,0,0,{"$f":"'Jan-Jun 2024'!CB34","v":0},{"$f":"'Jan-Jun 2024'!CA34+'Jul-Dez 2024'!CA34+'Jan-Jun 2025'!CA34+'Jul-Dez 2025'!CA34+'Jan-Jun 2026'!CA34+'Jul-Dez 2026'!CA34+'Jan-Jun 2027'!CA34","v":0}]
[{"$nulls":36},0,0,0,null,0,0,0,0,0,0,0,{"$f":"'Jan-Jun 2024'!AV35","v":0},{"$f":"'Jan-Jun 2024'!AU35+'Jul-Dez 2024'!AU35+'Jan-Jun 2025'!AU35+'Jul-Dez 2025'!AU35+'Jan-Jun 2026'!AU35+'Jul-Dez 2026'!AU35+'Jan-Jun 2027'!AU35","v":0},{"$nulls":3},0,0,0,null,0,0,0,0,0,0,0,{"$f":"'Jan-Jun 2024'!BL35","v":0},{"$f":"'Jan-Jun 2024'!BK35+'Jul-Dez 2024'!BK35+'Jan-Jun 2025'!BK35+'Jul-Dez 2025'!BK35+'Jan-Jun 2026'!BK35+'Jul-Dez 2026'!BK35+'Jan-Jun 2027'!BK35","v":0},{"$nulls":3},0,0,0,null,0,0,0,0,0,0,0,{"$f":"'Jan-Jun 2024'!CB35","v":0},{"$f":"'Jan-Jun 2024'!CA35+'Jul-Dez 2024'!CA35+'Jan-Jun 2025'!CA35+'Jul-Dez 2025'!CA35+'Jan-Jun 2026'!CA35+'Jul-Dez 2026'!CA35+'Jan-Jun 2027'!CA35","v":0}]
[{"$f":"A29+DAY(EOMONTH(A29,0))","v":"2027-05-01"},null,{"$f":"IF(C37<>\"\",CHOOSE(WEEKDAY(C37,1),\"Dom.\",\"Seg.\",\"Ter.\",\"Qua.\",\"Qui.\",\"Sex.\",\"Sáb.\"),\"\")","v":"Sáb."},{"$f":"IF(D37<>\"\",CHOOSE(WEEKDAY(D37,1),\"Dom.\",\"Seg.\",\"Ter.\",\"Qua.\",\"Qui.\",\"Sex.\",\"Sáb.\"),\"\")","v":"Dom."},"Seg.","Ter.","Qua.","Qui.","Sex.","Sáb.","Dom.","Seg.","Ter.","Qua.","Qui.","Sex.","Sáb.","Dom.","Seg.","Ter.","Qua.","Qui.","Sex.","Sáb.","Dom.","Seg.","Ter.","Qua.","Qui.","Sex.","Sáb.","Dom.","Seg.",{"$nulls":3},0,0,0,null,0,0,0,0,0,0,0,{"$f":"'Jan-Jun 2024'!AV36","v":0},{"$f":"'Jan-Jun 2024'!AU36+'Jul-Dez 2024'!AU36+'Jan-Jun 2025'!AU36+'Jul-Dez 2025'!AU36+'Jan-Jun 2026'!AU36+'Jul-Dez 2026'!AU36+'Jan-Jun 2027'!AU36","v":0},{"$nulls":3},0,0,0,null,0,0,0,0,0,0,0,{"$f":"'Jan-Jun 2024'!BL36","v":0},{"$f":"'Jan-Jun 2024'!BK36+'Jul-Dez 2024'!BK36+'Jan-Jun 2025'!BK36+'Jul-Dez 2025'!BK36+'Jan-Jun 2026'!BK36+'Jul-Dez 2026'!BK36+'Jan-Jun 2027'!BK36","v":0},{"$nulls":3},0,0,0,null,0,0,0,0,0,0,0,{"$f":"'Jan-Jun 2024'!CB36","v":0},{"$f":"'Jan-Jun 2024'!CA36+'Jul-Dez 2024'!CA36+'Jan-Jun 2025'!CA36+'Jul-Dez 2025'!CA36+'Jan-Jun 2026'!CA36+'Jul-Dez 2026'!CA36+'Jan-Jun 2027'!CA36","v":0}]
[null,null,{"$f":"A36","v":"2027-05-01"},{"$f":"IF(C37=\"\",\"\",IF(DAY(C37)<DAY(EOMONTH(C37,0)),C37+1,\"\"))","v":"2027-05-02"},{"$f":"IF(D37=\"\",\"\",IF(DAY(D37)<DAY(EOMONTH(D37,0)),D37+1,\"\"))","v":"2027-05-03"},{"$f":"IF(E37=\"\",\"\",IF(DAY(E37)<DAY(EOMONTH(E37,0)),E37+1,\"\"))","v":"2027-05-04"},"2027-05-05","2027-05-06","2027-05-07","2027-05-08","2027-05-09",{"$f":"IF(K37=\"\",\"\",IF(DAY(K37)<DAY(EOMONTH(K37,0)),K37+1,\"\"))","v":"2027-05-10"},{"$f":"IF(L37=\"\",\"\",IF(DAY(L37)<DAY(EOMONTH(L37,0)),L37+1,\"\"))","v":"2027-05-11"},"2027-05-12","2027-05-13","2027-05-14","2027-05-15","2027-05-16",{"$f":"IF(R37=\"\",\"\",IF(DAY(R37)<DAY(EOMONTH(R37,0)),R37+1,\"\"))","v":"2027-05-17"},{"$f":"IF(S37=\"\",\"\",IF(DAY(S37)<DAY(EOMONTH(S37,0)),S37+1,\"\"))","v":"2027-05-18"},"2027-05-19","2027-05-20","2027-05-21","2027-05-22","2027-05-23",{"$f":"IF(Y37=\"\",\"\",IF(DAY(Y37)<DAY(EOMONTH(Y37,0)),Y37+1,\"\"))","v":"2027-05-24"},{"$f":"IF(Z37=\"\",\"\",IF(DAY(Z37)<DAY(EOMONTH(Z37,0)),Z37+1,\"\"))","v":"2027-05-25"},"2027-05-26","2027-05-27","2027-05-28","2027-05-29","2027-05-30","2027-05-31",{"$nulls":3},0,0,0,null,0,0,0,0,0,0,0,{"$f":"'Jan-Jun 2024'!AV37","v":0},{"$f":"'Jan-Jun 2024'!AU37+'Jul-Dez 2024'!AU37+'Jan-Jun 2025'!AU37+'Jul-Dez 2025'!AU37+'Jan-Jun 2026'!AU37+'Jul-Dez 2026'!AU37+'Jan-Jun 2027'!AU37","v":0},{"$nulls":3},0,0,0,null,0,0,0,0,0,0,0,{"$f":"'Jan-Jun 2024'!BL37","v":0},{"$f":"'Jan-Jun 2024'!BK37+'Jul-Dez 2024'!BK37+'Jan-Jun 2025'!BK37+'Jul-Dez 2025'!BK37+'Jan-Jun 2026'!BK37+'Jul-Dez 2026'!BK37+'Jan-Jun 2027'!BK37","v":0},{"$nulls":3},0,0,0,null,0,0,0,0,0,0,0,{"$f":"'Jan-Jun 2024'!CB37","v":0},{"$f":"'Jan-Jun 2024'!CA37+'Jul-Dez 2024'!CA37+'Jan-Jun 2025'!CA37+'Jul-Dez 2025'!CA37+'Jan-Jun 2026'!CA37+'Jul-Dez 2026'!CA37+'Jan-Jun 2027'!CA37","v":0}]
["19h20 - 20h10",{"$nulls":27},"Corpo",{"$nulls":5},"M","MM",0,0,0,50,0,0,0,0,0,0,0,{"$f":"'Jan-Jun 2024'!AV38","v":0},{"$f":"'Jan-Jun 2024'!AU38+'Jul-Dez 2024'!AU38+'Jan-Jun 2025'!AU38+'Jul-Dez 2025'!AU38+'Jan-Jun 2026'!AU38+'Jul-Dez 2026'!AU38+'Jan-Jun 2027'!AU38","v":0},{"$nulls":3},0,0,0,null,0,0,0,0,0,0,0,{"$f":"'Jan-Jun 2024'!BL38","v":0},{"$f":"'Jan-Jun 2024'!BK38+'Jul-Dez 2024'!BK38+'Jan-Jun 2025'!BK38+'Jul-Dez 2025'!BK38+'Jan-Jun 2026'!BK38+'Jul-Dez 2026'!BK38+'Jan-Jun 2027'!BK38","v":0},{"$nulls":3},0,0,0,null,0,0,0,0,0,0,0,{"$f":"'Jan-Jun 2024'!CB38","v":0},{"$f":"'Jan-Jun 2024'!CA38+'Jul-Dez 2024'!CA38+'Jan-Jun 2025'!CA38+'Jul-Dez 2025'!CA38+'Jan-Jun 2026'!CA38+'Jul-Dez 2026'!CA38+'Jan-Jun 2027'!CA38","v":0}]
["20h10 - 21h00",null,"Trab.",{"$nulls":25},"de",{"$nulls":5},"M","ROB",0,0,0,50,0,0,0,0,0,0,0,{"$f":"'Jan-Jun 2024'!AV39","v":0},{"$f":"'Jan-Jun 2024'!AU39+'Jul-Dez 2024'!AU39+'Jan-Jun 2025'!AU39+'Jul-Dez 2025'!AU39+'Jan-Jun 2026'!AU39+'Jul-Dez 2026'!AU39+'Jan-Jun 2027'!AU39","v":0},{"$nulls":3},0,0,0,null,0,0,0,0,0,0,0,{"$f":"'Jan-Jun 2024'!BL39","v":0},{"$f":"'Jan-Jun 2024'!BK39+'Jul-Dez 2024'!BK39+'Jan-Jun 2025'!BK39+'Jul-Dez 2025'!BK39+'Jan-Jun 2026'!BK39+'Jul-Dez 2026'!BK39+'Jan-Jun 2027'!BK39","v":0},{"$nulls":3},0,0,0,null,0,0,0,0,0,0,0,{"$f":"'Jan-Jun 2024'!CB39","v":0},{"$f":"'Jan-Jun 2024'!CA39+'Jul-Dez 2024'!CA39+'Jan-Jun 2025'!CA39+'Jul-Dez 2025'!CA39+'Jan-Jun 2026'!CA39+'Jul-Dez 2026'!CA39+'Jan-Jun 2027'!CA39","v":0}]
["21h20 - 22h10",{"$nulls":27},"Deus",{"$nulls":7},0,0,0,null,0,0,0,0,0,0,0,{"$f":"'Jan-Jun 2024'!AV40","v":0},{"$f":"'Jan-Jun 2024'!AU40+'Jul-Dez 2024'!AU40+'Jan-Jun 2025'!AU40+'Jul-Dez 2025'!AU40+'Jan-Jun 2026'!AU40+'Jul-Dez 2026'!AU40+'Jan-Jun 2027'!AU40","v":0},{"$nulls":3},0,0,0,null,0,0,0,0,0,0,0,{"$f":"'Jan-Jun 2024'!BL40","v":0},{"$f":"'Jan-Jun 2024'!BK40+'Jul-Dez 2024'!BK40+'Jan-Jun 2025'!BK40+'Jul-Dez 2025'!BK40+'Jan-Jun 2026'!BK40+'Jul-Dez 2026'!BK40+'Jan-Jun 2027'!BK40","v":0},{"$nulls":3},0,0,0,null,0,0,0,0,0,0,0,{"$f":"'Jan-Jun 2024'!CB40","v":0},{"$f":"'Jan-Jun 2024'!CA40+'Jul-Dez 2024'!CA40+'Jan-Jun 2025'!CA40+'Jul-Dez 2025'!CA40+'Jan-Jun 2026'!CA40+'Jul-Dez 2026'!CA40+'Jan-Jun 2027'!CA40","v":0}]
["22h10 - 23h00",{"$nulls":35},0,0,0,null,0,0,0,0,0,0,0,{"$f":"'Jan-Jun 2024'!AV41","v":0},{"$f":"'Jan-Jun 2024'!AU41+'Jul-Dez 2024'!AU41+'Jan-Jun 2025'!AU41+'Jul-Dez 2025'!AU41+'Jan-Jun 2026'!AU41+'Jul-Dez 2026'!AU41+'Jan-Jun 2027'!AU41","v":0},{"$nulls":3},0,0,0,null,0,0,0,0,0,0,0,{"$f":"'Jan-Jun 2024'!BL41","v":0},{"$f":"'Jan-Jun 2024'!BK41+'Jul-Dez 2024'!BK41+'Jan-Jun 2025'!BK41+'Jul-Dez 2025'!BK41+'Jan-Jun 2026'!BK41+'Jul-Dez 2026'!BK41+'Jan-Jun 2027'!BK41","v":0},{"$nulls":3},0,0,0,null,0,0,0,0,0,0,0,{"$f":"'Jan-Jun 2024'!CB41","v":0},{"$f":"'Jan-Jun 2024'!CA41+'Jul-Dez 2024'!CA41+'Jan-Jun 2025'!CA41+'Jul-Dez 2025'!CA41+'Jan-Jun 2026'!CA41+'Jul-Dez 2026'!CA41+'Jan-Jun 2027'!CA41","v":0}]
[{"$nulls":36},0,0,0,null,0,0,0,0,0,0,0,{"$f":"'Jan-Jun 2024'!AV42","v":0},{"$f":"'Jan-Jun 2024'!AU42+'Jul-Dez 2024'!AU42+'Jan-Jun 2025'!AU42+'Jul-Dez 2025'!AU42+'Jan-Jun 2026'!AU42+'Jul-Dez 2026'!AU42+'Jan-Jun 2027'!AU42","v":0},{"$nulls":3},0,0,0,null,0,0,0,0,0,0,0,{"$f":"'Jan-Jun 2024'!BL42","v":0},{"$f":"'Jan-Jun 2024'!BK42+'Jul-Dez 2024'!BK42+'Jan-Jun 2025'!BK42+'Jul-Dez 2025'!BK42+'Jan-Jun 2026'!BK42+'Jul-Dez 2026'!BK42+'Jan-Jun 2027'!BK42","v":0},{"$nulls":3},0,0,0,null,0,0,0,0,0,0,0,{"$f":"'Jan-Jun 2024'!CB42","v":0},{"$f":"'Jan-Jun 2024'!CA42+'Jul-Dez 2024'!CA42+'Jan-Jun 2025'!CA42+'Jul-Dez 2025'!CA42+'Jan-Jun 2026'!CA42+'Jul-Dez 2026'!CA42+'Jan-Jun 2027'!CA42","v":0}]
[{"$f":"A36+DAY(EOMONTH(A36,0))","v":"2027-06-01"},null,{"$f":"IF(C44<>\"\",CHOOSE(WEEKDAY(C44,1),\"Dom.\",\"Seg.\",\"Ter.\",\"Qua.\",\"Qui.\",\"Sex.\",\"Sáb.\"),\"\")","v":"Ter."},{"$f":"IF(D44<>\"\",CHOOSE(WEEKDAY(D44,1),\"Dom.\",\"Seg.\",\"Ter.\",\"Qua.\",\"Qui.\",\"Sex.\",\"Sáb.\"),\"\")","v":"Qua."},"Qui.","Sex.","Sáb.","Dom.","Seg.","Ter.","Qua.","Qui.","Sex.","Sáb.","Dom.","Seg.","Ter.","Qua.","Qui.","Sex.","Sáb.","Dom.","Seg.","Ter.","Qua.","Qui.","Sex.","Sáb.","Dom.","Seg.","Ter.","Qua.","",null,"T","MET",0,0,0,50,0,0,0,0,0,0,0,{"$f":"'Jan-Jun 2024'!AV43","v":0},{"$f":"'Jan-Jun 2024'!AU43+'Jul-Dez 2024'!AU43+'Jan-Jun 2025'!AU43+'Jul-Dez 2025'!AU43+'Jan-Jun 2026'!AU43+'Jul-Dez 2026'!AU43+'Jan-Jun 2027'!AU43","v":0},{"$nulls":3},0,0,0,null,0,0,0,0,0,0,0,{"$f":"'Jan-Jun 2024'!BL43","v":0},{"$f":"'Jan-Jun 2024'!BK43+'Jul-Dez 2024'!BK43+'Jan-Jun 2025'!BK43+'Jul-Dez 2025'!BK43+'Jan-Jun 2026'!BK43+'Jul-Dez 2026'!BK43+'Jan-Jun 2027'!BK43","v":0},{"$nulls":3},0,0,0,null,0,0,0,0,0,0,0,{"$f":"'Jan-Jun 2024'!CB43","v":0},{"$f":"'Jan-Jun 2024'!CA43+'Jul-Dez 2024'!CA43+'Jan-Jun 2025'!CA43+'Jul-Dez 2025'!CA43+'Jan-Jun 2026'!CA43+'Jul-Dez 2026'!CA43+'Jan-Jun 2027'!CA43","v":0}]
[null,null,{"$f":"A43","v":"2027-06-01"},{"$f":"IF(C44=\"\",\"\",IF(DAY(C44)<DAY(EOMONTH(C44,0)),C44+1,\"\"))","v":"2027-06-02"},"2027-06-03","2027-06-04","2027-06-05","2027-06-06","2027-06-07",{"$f":"IF(I44=\"\",\"\",IF(DAY(I44)<DAY(EOMONTH(I44,0)),I44+1,\"\"))","v":"2027-06-08"},{"$f":"IF(J44=\"\",\"\",IF(DAY(J44)<DAY(EOMONTH(J44,0)),J44+1,\"\"))","v":"2027-06-09"},"2027-06-10","2027-06-11","2027-06-12","2027-06-13","2027-06-14",{"$f":"IF(P44=\"\",\"\",IF(DAY(P44)<DAY(EOMONTH(P44,0)),P44+1,\"\"))","v":"2027-06-15"},{"$f":"IF(Q44=\"\",\"\",IF(DAY(Q44)<DAY(EOMONTH(Q44,0)),Q44+1,\"\"))","v":"2027-06-16"},"2027-06-17","2027-06-18","2027-06-19","2027-06-20","2027-06-21",{"$f":"IF(W44=\"\",\"\",IF(DAY(W44)<DAY(EOMONTH(W44,0)),W44+1,\"\"))","v":"2027-06-22"},{"$f":"IF(X44=\"\",\"\",IF(DAY(X44)<DAY(EOMONTH(X44,0)),X44+1,\"\"))","v":"2027-06-23"},"2027-06-24","2027-06-25","2027-06-26","2027-06-27","2027-06-28",{"$f":"IF(AD44=\"\",\"\",IF(DAY(AD44)<DAY(EOMONTH(AD44,0)),AD44+1,\"\"))","v":"2027-06-29"},{"$f":"IF(AE44=\"\",\"\",IF(DAY(AE44)<DAY(EOMONTH(AE44,0)),AE44+1,\"\"))","v":"2027-06-30"},"",null,"P","MET1",0,0,0,26,0,0,0,0,0,0,0,{"$f":"'Jan-Jun 2024'!AV44","v":0},{"$f":"'Jan-Jun 2024'!AU44+'Jul-Dez 2024'!AU44+'Jan-Jun 2025'!AU44+'Jul-Dez 2025'!AU44+'Jan-Jun 2026'!AU44+'Jul-Dez 2026'!AU44+'Jan-Jun 2027'!AU44","v":0},{"$nulls":3},0,0,0,null,0,0,0,0,0,0,0,{"$f":"'Jan-Jun 2024'!BL44","v":0},{"$f":"'Jan-Jun 2024'!BK44+'Jul-Dez 2024'!BK44+'Jan-Jun 2025'!BK44+'Jul-Dez 2025'!BK44+'Jan-Jun 2026'!BK44+'Jul-Dez 2026'!BK44+'Jan-Jun 2027'!BK44","v":0},{"$nulls":3},0,0,0,null,0,0,0,0,0,0,0,{"$f":"'Jan-Jun 2024'!CB44","v":0},{"$f":"'Jan-Jun 2024'!CA44+'Jul-Dez 2024'!CA44+'Jan-Jun 2025'!CA44+'Jul-Dez 2025'!CA44+'Jan-Jun 2026'!CA44+'Jul-Dez 2026'!CA44+'Jan-Jun 2027'!CA44","v":0}]
["19h20 - 20h10",{"$nulls":10},"Dia",{"$nulls":22},"P","MET2",0,0,0,24,0,0,0,0,0,0,0,{"$f":"'Jan-Jun 2024'!AV45","v":0},{"$f":"'Jan-Jun 2024'!AU45+'Jul-Dez 2024'!AU45+'Jan-Jun 2025'!AU45+'Jul-Dez 2025'!AU45+'Jan-Jun 2026'!AU45+'Jul-Dez 2026'!AU45+'Jan-Jun 2027'!AU45","v":0},{"$nulls":3},0,0,0,null,0,0,0,0,0,0,0,{"$f":"'Jan-Jun 2024'!BL45","v":0},{"$f":"'Jan-Jun 2024'!BK45+'Jul-Dez 2024'!BK45+'Jan-Jun 2025'!BK45+'Jul-Dez 2025'!BK45+'Jan-Jun 2026'!BK45+'Jul-Dez 2026'!BK45+'Jan-Jun 2027'!BK45","v":0},{"$nulls":3},0,0,0,null,0,0,0,0,0,0,0,{"$f":"'Jan-Jun 2024'!CB45","v":0},{"$f":"'Jan-Jun 2024'!CA45+'Jul-Dez 2024'!CA45+'Jan-Jun 2025'!CA45+'Jul-Dez 2025'!CA45+'Jan-Jun 2026'!CA45+'Jul-Dez 2026'!CA45+'Jan-Jun 2027'!CA45","v":0}]
["20h10 - 21h00",{"$nulls":10},"de",{"$nulls":22},"P","MET3",0,0,0,0,0,0,0,0,0,0,0,{"$f":"'Jan-Jun 2024'!AV46","v":0},{"$f":"'Jan-Jun 2024'!AU46+'Jul-Dez 2024'!AU46+'Jan-Jun 2025'!AU46+'Jul-Dez 2025'!AU46+'Jan-Jun 2026'!AU46+'Jul-Dez 2026'!AU46+'Jan-Jun 2027'!AU46","v":0},{"$nulls":3},0,0,0,null,0,0,0,0,0,0,0,{"$f":"'Jan-Jun 2024'!BL46","v":0},{"$f":"'Jan-Jun 2024'!BK46+'Jul-Dez 2024'!BK46+'Jan-Jun 2025'!BK46+'Jul-Dez 2025'!BK46+'Jan-Jun 2026'!BK46+'Jul-Dez 2026'!BK46+'Jan-Jun 2027'!BK46","v":0},{"$nulls":3},0,0,{"$f":"IF(BO46=$DI$8,BR46,IF(BO46=$DI$9,BS47+BR46,IF(BO46=$DI$10,IF(BO47=$DI$10,BS47+BR46,BR46),)))","v":0},null,0,0,0,0,0,0,0,{"$f":"'Jan-Jun 2024'!CB46","v":0},{"$f":"'Jan-Jun 2024'!CA46+'Jul-Dez 2024'!CA46+'Jan-Jun 2025'!CA46+'Jul-Dez 2025'!CA46+'Jan-Jun 2026'!CA46+'Jul-Dez 2026'!CA46+'Jan-Jun 2027'!CA46","v":0}]
["21h20 - 22h10",{"$nulls":10},"Port.",{"$nulls":24},0,0,0,null,0,0,0,0,0,0,0,{"$f":"'Jan-Jun 2024'!AV47","v":0},{"$f":"'Jan-Jun 2024'!AU47+'Jul-Dez 2024'!AU47+'Jan-Jun 2025'!AU47+'Jul-Dez 2025'!AU47+'Jan-Jun 2026'!AU47+'Jul-Dez 2026'!AU47+'Jan-Jun 2027'!AU47","v":0},{"$nulls":3},0,0,0,null,0,0,0,0,0,0,0,{"$f":"'Jan-Jun 2024'!BL47","v":0},{"$f":"'Jan-Jun 2024'!BK47+'Jul-Dez 2024'!BK47+'Jan-Jun 2025'!BK47+'Jul-Dez 2025'!BK47+'Jan-Jun 2026'!BK47+'Jul-Dez 2026'!BK47+'Jan-Jun 2027'!BK47","v":0},{"$nulls":3},0,0,0,null,0,0,0,0,0,0,0,{"$f":"'Jan-Jun 2024'!CB47","v":0},{"$f":"'Jan-Jun 2024'!CA47+'Jul-Dez 2024'!CA47+'Jan-Jun 2025'!CA47+'Jul-Dez 2025'!CA47+'Jan-Jun 2026'!CA47+'Jul-Dez 2026'!CA47+'Jan-Jun 2027'!CA47","v":0}]
["22h10 - 23h00",{"$nulls":35},0,0,0,null,0,0,0,0,0,0,0,{"$f":"'Jan-Jun 2024'!AV48","v":0},{"$f":"'Jan-Jun 2024'!AU48+'Jul-Dez 2024'!AU48+'Jan-Jun 2025'!AU48+'Jul-Dez 2025'!AU48+'Jan-Jun 2026'!AU48+'Jul-Dez 2026'!AU48+'Jan-Jun 2027'!AU48","v":0},{"$nulls":3},0,0,0,null,0,0,0,0,0,0,0,{"$f":"'Jan-Jun 2024'!BL48","v":0},{"$f":"'Jan-Jun 2024'!BK48+'Jul-Dez 2024'!BK48+'Jan-Jun 2025'!BK48+'Jul-Dez 2025'!BK48+'Jan-Jun 2026'!BK48+'Jul-Dez 2026'!BK48+'Jan-Jun 2027'!BK48","v":0},{"$nulls":3},0,0,0,null,0,0,0,0,0,0,0,{"$f":"'Jan-Jun 2024'!CB48","v":0},{"$f":"'Jan-Jun 2024'!CA48+'Jul-Dez 2024'!CA48+'Jan-Jun 2025'!CA48+'Jul-Dez 2025'!CA48+'Jan-Jun 2026'!CA48+'Jul-Dez 2026'!CA48+'Jan-Jun 2027'!CA48","v":0}]
[null,"UFCD","Módulo",{"$nulls":6},"Cód.","H","Formador",null,null,"Ini.","Fim",null,"Componente",null,null,"Módulo",{"$nulls":6},"H","Formador",null,null,"Ini.","Fim",null,"M","CNC",0,0,0,50,0,0,0,0,0,0,0,{"$f":"'Jan-Jun 2024'!AV49","v":0},{"$f":"'Jan-Jun 2024'!AU49+'Jul-Dez 2024'!AU49+'Jan-Jun 2025'!AU49+'Jul-Dez 2025'!AU49+'Jan-Jun 2026'!AU49+'Jul-Dez 2026'!AU49+'Jan-Jun 2027'!AU49","v":0},{"$nulls":3},0,0,0,null,0,0,0,0,0,0,0,{"$f":"'Jan-Jun 2024'!BL49","v":0},{"$f":"'Jan-Jun 2024'!BK49+'Jul-Dez 2024'!BK49+'Jan-Jun 2025'!BK49+'Jul-Dez 2025'!BK49+'Jan-Jun 2026'!BK49+'Jul-Dez 2026'!BK49+'Jan-Jun 2027'!BK49","v":0},{"$nulls":3},0,0,0,null,0,0,0,0,0,0,0,{"$f":"'Jan-Jun 2024'!CB49","v":0},{"$f":"'Jan-Jun 2024'!CA49+'Jul-Dez 2024'!CA49+'Jan-Jun 2025'!CA49+'Jul-Dez 2025'!CA49+'Jan-Jun 2026'!CA49+'Jul-Dez 2026'!CA49+'Jan-Jun 2027'!CA49","v":0}]
["Formação Geral e Científica\n",5146,"IGO","Introdução à Gestão das Organizações",{"$nulls":5},"B153",25,"Filipa Norte",{"$nulls":5},"Formação Tecnologica",6407,"PFL","Processos de Fundição / Ligação",{"$nulls":5},"D333",25,"Pedro Santos",{"$nulls":5},"M","CAM",0,0,0,50,0,0,0,0,0,0,0,{"$f":"'Jan-Jun 2024'!AV50","v":0},{"$f":"'Jan-Jun 2024'!AU50+'Jul-Dez 2024'!AU50+'Jan-Jun 2025'!AU50+'Jul-Dez 2025'!AU50+'Jan-Jun 2026'!AU50+'Jul-Dez 2026'!AU50+'Jan-Jun 2027'!AU50","v":0},{"$nulls":3},0,0,0,null,0,0,0,0,0,0,0,{"$f":"'Jan-Jun 2024'!BL50","v":0},{"$f":"'Jan-Jun 2024'!BK50+'Jul-Dez 2024'!BK50+'Jan-Jun 2025'!BK50+'Jul-Dez 2025'!BK50+'Jan-Jun 2026'!BK50+'Jul-Dez 2026'!BK50+'Jan-Jun 2027'!BK50","v":0},{"$nulls":3},0,0,0,null,0,0,0,0,0,0,0,{"$f":"'Jan-Jun 2024'!CB50","v":0},{"$f":"'Jan-Jun 2024'!CA50+'Jul-Dez 2024'!CA50+'Jan-Jun 2025'!CA50+'Jul-Dez 2025'!CA50+'Jan-Jun 2026'!CA50+'Jul-Dez 2026'!CA50+'Jan-Jun 2027'!CA50","v":0}]
[null,5152,"GMQ","Gestão e Motivação para a Qualidade",{"$nulls":5},"B155",25,"Luís Ferreira",{"$nulls":6},6408,"PCC","Processos de Conformação / Corte",{"$nulls":5},"D334",25,"Pedro Santos",{"$nulls":5},"M","PAC",0,0,0,50,0,0,0,0,0,0,0,{"$f":"'Jan-Jun 2024'!AV51","v":0},{"$f":"'Jan-Jun 2024'!AU51+'Jul-Dez 2024'!AU51+'Jan-Jun 2025'!AU51+'Jul-Dez 2025'!AU51+'Jan-Jun 2026'!AU51+'Jul-Dez 2026'!AU51+'Jan-Jun 2027'!AU51","v":0},{"$nulls":3},0,0,0,null,0,0,0,0,0,0,0,{"$f":"'Jan-Jun 2024'!BL51","v":0},{"$f":"'Jan-Jun 2024'!BK51+'Jul-Dez 2024'!BK51+'Jan-Jun 2025'!BK51+'Jul-Dez 2025'!BK51+'Jan-Jun 2026'!BK51+'Jul-Dez 2026'!BK51+'Jan-Jun 2027'!BK51","v":0},{"$nulls":3},0,0,0,null,0,0,0,0,0,0,0,{"$f":"'Jan-Jun 2024'!CB51","v":0},{"$f":"'Jan-Jun 2024'!CA51+'Jul-Dez 2024'!CA51+'Jan-Jun 2025'!CA51+'Jul-Dez 2025'!CA51+'Jan-Jun 2026'!CA51+'Jul-Dez 2026'!CA51+'Jan-Jun 2027'!CA51","v":0}]
[null,5149,"SGQ","Sistama de Gestão da Qualidade ISO 9001",{"$nulls":5},"F369",25,"Luís Ferreira",{"$nulls":6},6409,"PAA","Processos por Arranque de Apara",{"$nulls":5},"C588",25,"Miguel Franco",{"$nulls":7},0,0,0,null,0,0,0,0,0,0,0,{"$f":"'Jan-Jun 2024'!AV52","v":0},{"$f":"'Jan-Jun 2024'!AU52+'Jul-Dez 2024'!AU52+'Jan-Jun 2025'!AU52+'Jul-Dez 2025'!AU52+'Jan-Jun 2026'!AU52+'Jul-Dez 2026'!AU52+'Jan-Jun 2027'!AU52","v":0},{"$nulls":3},0,0,0,null,0,0,0,0,0,0,0,{"$f":"'Jan-Jun 2024'!BL52","v":0},{"$f":"'Jan-Jun 2024'!BK52+'Jul-Dez 2024'!BK52+'Jan-Jun 2025'!BK52+'Jul-Dez 2025'!BK52+'Jan-Jun 2026'!BK52+'Jul-Dez 2026'!BK52+'Jan-Jun 2027'!BK52","v":0},{"$nulls":3},0,0,0,null,0,0,0,0,0,0,0,{"$f":"'Jan-Jun 2024'!CB52","v":0},{"$f":"'Jan-Jun 2024'!CA52+'Jul-Dez 2024'!CA52+'Jan-Jun 2025'!CA52+'Jul-Dez 2025'!CA52+'Jan-Jun 2026'!CA52+'Jul-Dez 2026'!CA52+'Jan-Jun 2027'!CA52","v":0}]
[null,349,"ASHST","Ambiente, Segurança, Higiene e Saúde no Trabalho",{"$nulls":5},"F423",25,"António Maltez",{"$nulls":6},6410,"IME","Instalação de Máquinas Elétricas",{"$nulls":5},"K252",50,"Emanuel Serrano",{"$nulls":7},0,0,0,null,0,0,0,0,0,0,0,{"$f":"'Jan-Jun 2024'!AV53","v":0},{"$f":"'Jan-Jun 2024'!AU53+'Jul-Dez 2024'!AU53+'Jan-Jun 2025'!AU53+'Jul-Dez 2025'!AU53+'Jan-Jun 2026'!AU53+'Jul-Dez 2026'!AU53+'Jan-Jun 2027'!AU53","v":0},{"$nulls":3},0,0,0,null,0,0,0,0,0,0,0,{"$f":"'Jan-Jun 2024'!BL53","v":0},{"$f":"'Jan-Jun 2024'!BK53+'Jul-Dez 2024'!BK53+'Jan-Jun 2025'!BK53+'Jul-Dez 2025'!BK53+'Jan-Jun 2026'!BK53+'Jul-Dez 2026'!BK53+'Jan-Jun 2027'!BK53","v":0},{"$nulls":3},0,0,0,null,0,0,0,0,0,0,0,{"$f":"'Jan-Jun 2024'!CB53","v":0},{"$f":"'Jan-Jun 2024'!CA53+'Jul-Dez 2024'!CA53+'Jan-Jun 2025'!CA53+'Jul-Dez 2025'!CA53+'Jan-Jun 2026'!CA53+'Jul-Dez 2026'!CA53+'Jan-Jun 2027'!CA53","v":0}]
[null,5653,"DT","Direito do Trabalho",{"$nulls":5},"B154",25,"Natasha Esteves",{"$nulls":6},6411,"ELE","Eletrónica",{"$nulls":5},"K253",50,"Marco Martinho",{"$nulls":7},0,0,0,null,0,0,0,0,0,0,0,{"$f":"'Jan-Jun 2024'!AV54","v":0},{"$f":"'Jan-Jun 2024'!AU54+'Jul-Dez 2024'!AU54+'Jan-Jun 2025'!AU54+'Jul-Dez 2025'!AU54+'Jan-Jun 2026'!AU54+'Jul-Dez 2026'!AU54+'Jan-Jun 2027'!AU54","v":0},{"$nulls":3},0,0,0,null,0,0,0,0,0,0,0,{"$f":"'Jan-Jun 2024'!BL54","v":0},{"$f":"'Jan-Jun 2024'!BK54+'Jul-Dez 2024'!BK54+'Jan-Jun 2025'!BK54+'Jul-Dez 2025'!BK54+'Jan-Jun 2026'!BK54+'Jul-Dez 2026'!BK54+'Jan-Jun 2027'!BK54","v":0},{"$nulls":3},0,0,0,null,0,0,0,0,0,0,0,{"$f":"'Jan-Jun 2024'!CB54","v":0},{"$f":"'Jan-Jun 2024'!CA54+'Jul-Dez 2024'!CA54+'Jan-Jun 2025'!CA54+'Jul-Dez 2025'!CA54+'Jan-Jun 2026'!CA54+'Jul-Dez 2026'!CA54+'Jan-Jun 2027'!CA54","v":0}]
[null,5768,"ICS","Inglês em Contexto Socioprofissional",{"$nulls":5},"L046",25,"Helena Abelho",{"$nulls":6},6412,"CP","Circuitos Pneumáticos",{"$nulls":5},"E329",25,"Vítor Caetano",{"$nulls":7},0,0,0,null,0,0,0,0,0,0,0,{"$f":"'Jan-Jun 2024'!AV55","v":0},{"$f":"'Jan-Jun 2024'!AU55+'Jul-Dez 2024'!AU55+'Jan-Jun 2025'!AU55+'Jul-Dez 2025'!AU55+'Jan-Jun 2026'!AU55+'Jul-Dez 2026'!AU55+'Jan-Jun 2027'!AU55","v":0},{"$nulls":3},0,0,0,null,0,0,0,0,0,0,0,{"$f":"'Jan-Jun 2024'!BL55","v":0},{"$f":"'Jan-Jun 2024'!BK55+'Jul-Dez 2024'!BK55+'Jan-Jun 2025'!BK55+'Jul-Dez 2025'!BK55+'Jan-Jun 2026'!BK55+'Jul-Dez 2026'!BK55+'Jan-Jun 2027'!BK55","v":0},{"$nulls":3},0,0,0,null,0,0,0,0,0,0,0,{"$f":"'Jan-Jun 2024'!CB55","v":0},{"$f":"'Jan-Jun 2024'!CA55+'Jul-Dez 2024'!CA55+'Jan-Jun 2025'!CA55+'Jul-Dez 2025'!CA55+'Jan-Jun 2026'!CA55+'Jul-Dez 2026'!CA55+'Jan-Jun 2027'!CA55","v":0}]
[{"$nulls":18},6413,"CH","Circuitos Óleo-Hidráulicos",{"$nulls":5},"E330",25,"Vítor Caetano",{"$nulls":7},0,0,0,null,0,0,0,0,0,0,0,{"$f":"'Jan-Jun 2024'!AV56","v":0},{"$f":"'Jan-Jun 2024'!AU56+'Jul-Dez 2024'!AU56+'Jan-Jun 2025'!AU56+'Jul-Dez 2025'!AU56+'Jan-Jun 2026'!AU56+'Jul-Dez 2026'!AU56+'Jan-Jun 2027'!AU56","v":0},{"$nulls":3},0,0,0,null,0,0,0,0,0,0,0,{"$f":"'Jan-Jun 2024'!BL56","v":0},{"$f":"'Jan-Jun 2024'!BK56+'Jul-Dez 2024'!BK56+'Jan-Jun 2025'!BK56+'Jul-Dez 2025'!BK56+'Jan-Jun 2026'!BK56+'Jul-Dez 2026'!BK56+'Jan-Jun 2027'!BK56","v":0},{"$nulls":3},0,0,0,null,0,0,0,0,0,0,0,{"$f":"'Jan-Jun 2024'!CB56","v":0},{"$f":"'Jan-Jun 2024'!CA56+'Jul-Dez 2024'!CA56+'Jan-Jun 2025'!CA56+'Jul-Dez 2025'!CA56+'Jan-Jun 2026'!CA56+'Jul-Dez 2026'!CA56+'Jan-Jun 2027'!CA56","v":0}]
[{"$nulls":18},6414,"CLP","Controladores Lógicos Programáveis",{"$nulls":5},"C589",50,"Rafael Matos",{"$nulls":7},0,0,0,null,0,0,0,0,0,0,0,{"$f":"'Jan-Jun 2024'!AV57","v":0},{"$f":"'Jan-Jun 2024'!AU57+'Jul-Dez 2024'!AU57+'Jan-Jun 2025'!AU57+'Jul-Dez 2025'!AU57+'Jan-Jun 2026'!AU57+'Jul-Dez 2026'!AU57+'Jan-Jun 2027'!AU57","v":0},{"$nulls":3},0,0,0,null,0,0,0,0,0,0,0,{"$f":"'Jan-Jun 2024'!BL57","v":0},{"$f":"'Jan-Jun 2024'!BK57+'Jul-Dez 2024'!BK57+'Jan-Jun 2025'!BK57+'Jul-Dez 2025'!BK57+'Jan-Jun 2026'!BK57+'Jul-Dez 2026'!BK57+'Jan-Jun 2027'!BK57","v":0},{"$nulls":3},0,0,0,null,0,0,0,0,0,0,0,{"$f":"'Jan-Jun 2024'!CB57","v":0},{"$f":"'Jan-Jun 2024'!CA57+'Jul-Dez 2024'!CA57+'Jan-Jun 2025'!CA57+'Jul-Dez 2025'!CA57+'Jan-Jun 2026'!CA57+'Jul-Dez 2026'!CA57+'Jan-Jun 2027'!CA57","v":0}]
[{"$nulls":18},6415,"DCM","Desenho de Construções Mecânicas",{"$nulls":5},"A438",50,"Luís Carvalho",{"$nulls":7},0,0,0,null,0,0,0,0,0,0,0,{"$f":"'Jan-Jun 2024'!AV58","v":0},{"$f":"'Jan-Jun 2024'!AU58+'Jul-Dez 2024'!AU58+'Jan-Jun 2025'!AU58+'Jul-Dez 2025'!AU58+'Jan-Jun 2026'!AU58+'Jul-Dez 2026'!AU58+'Jan-Jun 2027'!AU58","v":0},{"$nulls":3},0,0,0,null,0,0,0,0,0,0,0,{"$f":"'Jan-Jun 2024'!BL58","v":0},{"$f":"'Jan-Jun 2024'!BK58+'Jul-Dez 2024'!BK58+'Jan-Jun 2025'!BK58+'Jul-Dez 2025'!BK58+'Jan-Jun 2026'!BK58+'Jul-Dez 2026'!BK58+'Jan-Jun 2027'!BK58","v":0},{"$nulls":3},0,0,0,null,0,0,0,0,0,0,0,{"$f":"'Jan-Jun 2024'!CB58","v":0},{"$f":"'Jan-Jun 2024'!CA58+'Jul-Dez 2024'!CA58+'Jan-Jun 2025'!CA58+'Jul-Dez 2025'!CA58+'Jan-Jun 2026'!CA58+'Jul-Dez 2026'!CA58+'Jan-Jun 2027'!CA58","v":0}]
[{"$nulls":18},6416,"CM","Ciência dos Materiais",{"$nulls":5},"C590",50,"Luís Carvalho",{"$nulls":5},"M","APF",0,0,0,25,0,0,0,0,0,0,0,{"$f":"'Jan-Jun 2024'!AV59","v":0},{"$f":"'Jan-Jun 2024'!AU59+'Jul-Dez 2024'!AU59+'Jan-Jun 2025'!AU59+'Jul-Dez 2025'!AU59+'Jan-Jun 2026'!AU59+'Jul-Dez 2026'!AU59+'Jan-Jun 2027'!AU59","v":0},{"$nulls":3},0,0,0,null,0,0,0,0,0,0,0,{"$f":"'Jan-Jun 2024'!BL59","v":0},{"$f":"'Jan-Jun 2024'!BK59+'Jul-Dez 2024'!BK59+'Jan-Jun 2025'!BK59+'Jul-Dez 2025'!BK59+'Jan-Jun 2026'!BK59+'Jul-Dez 2026'!BK59+'Jan-Jun 2027'!BK59","v":0},{"$nulls":3},0,0,0,null,0,0,0,0,0,0,0,{"$f":"'Jan-Jun 2024'!CB59","v":0},{"$f":"'Jan-Jun 2024'!CA59+'Jul-Dez 2024'!CA59+'Jan-Jun 2025'!CA59+'Jul-Dez 2025'!CA59+'Jan-Jun 2026'!CA59+'Jul-Dez 2026'!CA59+'Jan-Jun 2027'!CA59","v":0}]
[{"$nulls":18},6417,"SD","Sistemas Digitais",{"$nulls":5},"I159",50,"Rafael Matos",{"$nulls":7},0,0,0,null,0,0,0,0,0,0,0,{"$f":"'Jan-Jun 2024'!AV60","v":0},{"$f":"'Jan-Jun 2024'!AU60+'Jul-Dez 2024'!AU60+'Jan-Jun 2025'!AU60+'Jul-Dez 2025'!AU60+'Jan-Jun 2026'!AU60+'Jul-Dez 2026'!AU60+'Jan-Jun 2027'!AU60","v":0},{"$nulls":3},0,0,0,null,0,0,0,0,0,0,0,{"$f":"'Jan-Jun 2024'!BL60","v":0},{"$f":"'Jan-Jun 2024'!BK60+'Jul-Dez 2024'!BK60+'Jan-Jun 2025'!BK60+'Jul-Dez 2025'!BK60+'Jan-Jun 2026'!BK60+'Jul-Dez 2026'!BK60+'Jan-Jun 2027'!BK60","v":0},{"$nulls":3},0,0,0,null,0,0,0,0,0,0,0,{"$f":"'Jan-Jun 2024'!CB60","v":0},{"$f":"'Jan-Jun 2024'!CA60+'Jul-Dez 2024'!CA60+'Jan-Jun 2025'!CA60+'Jul-Dez 2025'!CA60+'Jan-Jun 2026'!CA60+'Jul-Dez 2026'!CA60+'Jan-Jun 2027'!CA60","v":0}]
[{"$nulls":18},6418,"OEM","Órgãos e Elementos de Máquinas",{"$nulls":5},"C591",50,"Luís Carvalho",{"$nulls":7},0,0,0,null,0,0,0,0,0,0,0,{"$f":"'Jan-Jun 2024'!AV61","v":0},{"$f":"'Jan-Jun 2024'!AU61+'Jul-Dez 2024'!AU61+'Jan-Jun 2025'!AU61+'Jul-Dez 2025'!AU61+'Jan-Jun 2026'!AU61+'Jul-Dez 2026'!AU61+'Jan-Jun 2027'!AU61","v":0},{"$nulls":3},0,0,0,null,0,0,0,0,0,0,0,{"$f":"'Jan-Jun 2024'!BL61","v":0},{"$f":"'Jan-Jun 2024'!BK61+'Jul-Dez 2024'!BK61+'Jan-Jun 2025'!BK61+'Jul-Dez 2025'!BK61+'Jan-Jun 2026'!BK61+'Jul-Dez 2026'!BK61+'Jan-Jun 2027'!BK61","v":0},{"$nulls":3},0,0,0,null,0,0,0,0,0,0,0,{"$f":"'Jan-Jun 2024'!CB61","v":0},{"$f":"'Jan-Jun 2024'!CA61+'Jul-Dez 2024'!CA61+'Jan-Jun 2025'!CA61+'Jul-Dez 2025'!CA61+'Jan-Jun 2026'!CA61+'Jul-Dez 2026'!CA61+'Jan-Jun 2027'!CA61","v":0}]
[null,null,"EG","Eletricidade Geral",{"$nulls":5},"K264",50,"Rafael Matos",{"$nulls":6},6419,"IP","Introdução à Programação",{"$nulls":5},"I160",50,"Vítor Caetano",{"$nulls":7},0,0,0,null,0,0,0,0,0,0,0,{"$f":"'Jan-Jun 2024'!AV62","v":0},{"$f":"'Jan-Jun 2024'!AU62+'Jul-Dez 2024'!AU62+'Jan-Jun 2025'!AU62+'Jul-Dez 2025'!AU62+'Jan-Jun 2026'!AU62+'Jul-Dez 2026'!AU62+'Jan-Jun 2027'!AU62","v":0},{"$nulls":3},0,0,0,null,0,0,0,0,0,0,0,{"$f":"'Jan-Jun 2024'!BL62","v":0},{"$f":"'Jan-Jun 2024'!BK62+'Jul-Dez 2024'!BK62+'Jan-Jun 2025'!BK62+'Jul-Dez 2025'!BK62+'Jan-Jun 2026'!BK62+'Jul-Dez 2026'!BK62+'Jan-Jun 2027'!BK62","v":0},{"$nulls":3},0,0,0,null,0,0,0,0,0,0,0,{"$f":"'Jan-Jun 2024'!CB62","v":0},{"$f":"'Jan-Jun 2024'!CA62+'Jul-Dez 2024'!CA62+'Jan-Jun 2025'!CA62+'Jul-Dez 2025'!CA62+'Jan-Jun 2026'!CA62+'Jul-Dez 2026'!CA62+'Jan-Jun 2027'!CA62","v":0}]
[{"$nulls":18},6420,"ELP","Eletrónica de Potência - Fundamentos",{"$nulls":5},"K254",50,"Marco Martinho",{"$nulls":7},0,0,0,null,0,0,0,0,0,0,0,{"$f":"'Jan-Jun 2024'!AV63","v":0},{"$f":"'Jan-Jun 2024'!AU63+'Jul-Dez 2024'!AU63+'Jan-Jun 2025'!AU63+'Jul-Dez 2025'!AU63+'Jan-Jun 2026'!AU63+'Jul-Dez 2026'!AU63+'Jan-Jun 2027'!AU63","v":0},{"$nulls":3},0,0,0,null,0,0,0,0,0,0,0,{"$f":"'Jan-Jun 2024'!BL63","v":0},{"$f":"'Jan-Jun 2024'!BK63+'Jul-Dez 2024'!BK63+'Jan-Jun 2025'!BK63+'Jul-Dez 2025'!BK63+'Jan-Jun 2026'!BK63+'Jul-Dez 2026'!BK63+'Jan-Jun 2027'!BK63","v":0},{"$nulls":3},0,0,0,null,0,0,0,0,0,0,0,{"$f":"'Jan-Jun 2024'!CB63","v":0},{"$f":"'Jan-Jun 2024'!CA63+'Jul-Dez 2024'!CA63+'Jan-Jun 2025'!CA63+'Jul-Dez 2025'!CA63+'Jan-Jun 2026'!CA63+'Jul-Dez 2026'!CA63+'Jan-Jun 2027'!CA63","v":0}]
[null,null,"IGE","Inteligência Emocional e Gestão Emocional",{"$nulls":6},60,"Marta Leal",{"$nulls":6},6421,"MM","Microprocessadores / Microcontroladores",{"$nulls":5},"I161",50,"Marco Martinho",{"$nulls":7},0,0,0,null,0,0,0,0,0,0,0,{"$f":"'Jan-Jun 2024'!AV64","v":0},{"$f":"'Jan-Jun 2024'!AU64+'Jul-Dez 2024'!AU64+'Jan-Jun 2025'!AU64+'Jul-Dez 2025'!AU64+'Jan-Jun 2026'!AU64+'Jul-Dez 2026'!AU64+'Jan-Jun 2027'!AU64","v":0},{"$nulls":3},0,0,0,null,0,0,0,0,0,0,0,{"$f":"'Jan-Jun 2024'!BL64","v":0},{"$f":"'Jan-Jun 2024'!BK64+'Jul-Dez 2024'!BK64+'Jan-Jun 2025'!BK64+'Jul-Dez 2025'!BK64+'Jan-Jun 2026'!BK64+'Jul-Dez 2026'!BK64+'Jan-Jun 2027'!BK64","v":0},{"$nulls":3},0,0,0,null,0,0,0,0,0,0,0,{"$f":"'Jan-Jun 2024'!CB64","v":0},{"$f":"'Jan-Jun 2024'!CA64+'Jul-Dez 2024'!CA64+'Jan-Jun 2025'!CA64+'Jul-Dez 2025'!CA64+'Jan-Jun 2026'!CA64+'Jul-Dez 2026'!CA64+'Jan-Jun 2027'!CA64","v":0}]
[{"$nulls":18},5134,"ROB","Robótica - Fundamentos",{"$nulls":5},"E331",50,"Marco Martinho",{"$nulls":7},0,0,0,null,0,0,0,0,0,0,0,{"$f":"'Jan-Jun 2024'!AV65","v":0},{"$f":"'Jan-Jun 2024'!AU65+'Jul-Dez 2024'!AU65+'Jan-Jun 2025'!AU65+'Jul-Dez 2025'!AU65+'Jan-Jun 2026'!AU65+'Jul-Dez 2026'!AU65+'Jan-Jun 2027'!AU65","v":0},{"$nulls":3},0,0,0,null,0,0,0,0,0,0,0,{"$f":"'Jan-Jun 2024'!BL65","v":0},{"$f":"'Jan-Jun 2024'!BK65+'Jul-Dez 2024'!BK65+'Jan-Jun 2025'!BK65+'Jul-Dez 2025'!BK65+'Jan-Jun 2026'!BK65+'Jul-Dez 2026'!BK65+'Jan-Jun 2027'!BK65","v":0},{"$nulls":3},0,0,0,null,0,0,0,0,0,0,0,{"$f":"'Jan-Jun 2024'!CB65","v":0},{"$f":"'Jan-Jun 2024'!CA65+'Jul-Dez 2024'!CA65+'Jan-Jun 2025'!CA65+'Jul-Dez 2025'!CA65+'Jan-Jun 2026'!CA65+'Jul-Dez 2026'!CA65+'Jan-Jun 2027'!CA65","v":0}]
[{"$nulls":18},6422,"MET","Metrologia por Coordenadas",{"$nulls":5},"C592",50,"Miguel Franco",{"$nulls":7},0,0,0,null,0,0,0,0,0,0,0,{"$f":"'Jan-Jun 2024'!AV66","v":0},{"$f":"'Jan-Jun 2024'!AU66+'Jul-Dez 2024'!AU66+'Jan-Jun 2025'!AU66+'Jul-Dez 2025'!AU66+'Jan-Jun 2026'!AU66+'Jul-Dez 2026'!AU66+'Jan-Jun 2027'!AU66","v":0},{"$nulls":3},0,0,0,null,0,0,0,0,0,0,0,{"$f":"'Jan-Jun 2024'!BL66","v":0},{"$f":"'Jan-Jun 2024'!BK66+'Jul-Dez 2024'!BK66+'Jan-Jun 2025'!BK66+'Jul-Dez 2025'!BK66+'Jan-Jun 2026'!BK66+'Jul-Dez 2026'!BK66+'Jan-Jun 2027'!BK66","v":0},{"$nulls":3},0,0,0,null,0,0,0,0,0,0,0,{"$f":"'Jan-Jun 2024'!CB66","v":0},{"$f":"'Jan-Jun 2024'!CA66+'Jul-Dez 2024'!CA66+'Jan-Jun 2025'!CA66+'Jul-Dez 2025'!CA66+'Jan-Jun 2026'!CA66+'Jul-Dez 2026'!CA66+'Jan-Jun 2027'!CA66","v":0}]
[{"$nulls":18},6423,"CNC","CNC - Comando Numérico por Computador",{"$nulls":5},"C593",50,"Miguel Paulo",{"$nulls":7},0,0,0,null,0,0,0,0,0,0,0,{"$f":"'Jan-Jun 2024'!AV67","v":0},{"$f":"'Jan-Jun 2024'!AU67+'Jul-Dez 2024'!AU67+'Jan-Jun 2025'!AU67+'Jul-Dez 2025'!AU67+'Jan-Jun 2026'!AU67+'Jul-Dez 2026'!AU67+'Jan-Jun 2027'!AU67","v":0},{"$nulls":3},0,0,0,null,0,0,0,0,0,0,0,{"$f":"'Jan-Jun 2024'!BL67","v":0},{"$f":"'Jan-Jun 2024'!BK67+'Jul-Dez 2024'!BK67+'Jan-Jun 2025'!BK67+'Jul-Dez 2025'!BK67+'Jan-Jun 2026'!BK67+'Jul-Dez 2026'!BK67+'Jan-Jun 2027'!BK67","v":0},{"$nulls":3},0,0,0,null,0,0,0,0,0,0,0,{"$f":"'Jan-Jun 2024'!CB67","v":0},{"$f":"'Jan-Jun 2024'!CA67+'Jul-Dez 2024'!CA67+'Jan-Jun 2025'!CA67+'Jul-Dez 2025'!CA67+'Jan-Jun 2026'!CA67+'Jul-Dez 2026'!CA67+'Jan-Jun 2027'!CA67","v":0}]
[null,null,"Salas:",null,"SEG","TER","QUA","QUI","SEX",{"$nulls":9},6424,"CAM","CAM - Fabricação Assistida por Computador",{"$nulls":5},"C594",50,"João Franco",{"$nulls":7},0,0,0,null,0,0,0,0,0,0,0,{"$f":"'Jan-Jun 2024'!AV68","v":0},{"$f":"'Jan-Jun 2024'!AU68+'Jul-Dez 2024'!AU68+'Jan-Jun 2025'!AU68+'Jul-Dez 2025'!AU68+'Jan-Jun 2026'!AU68+'Jul-Dez 2026'!AU68+'Jan-Jun 2027'!AU68","v":0},{"$nulls":3},0,0,0,null,0,0,0,0,0,0,0,{"$f":"'Jan-Jun 2024'!BL68","v":0},{"$f":"'Jan-Jun 2024'!BK68+'Jul-Dez 2024'!BK68+'Jan-Jun 2025'!BK68+'Jul-Dez 2025'!BK68+'Jan-Jun 2026'!BK68+'Jul-Dez 2026'!BK68+'Jan-Jun 2027'!BK68","v":0},{"$nulls":3},0,0,0,null,0,0,0,0,0,0,0,{"$f":"'Jan-Jun 2024'!CB68","v":0},{"$f":"'Jan-Jun 2024'!CA68+'Jul-Dez 2024'!CA68+'Jan-Jun 2025'!CA68+'Jul-Dez 2025'!CA68+'Jan-Jun 2026'!CA68+'Jul-Dez 2026'!CA68+'Jan-Jun 2027'!CA68","v":0}]
[{"$nulls":18},6425,"PAC","Projecto Assistido por Computador",{"$nulls":5},"A434",50,"João Catarino",{"$nulls":7},0,0,0,null,0,0,0,0,0,0,0,{"$f":"'Jan-Jun 2024'!AV69","v":0},{"$f":"'Jan-Jun 2024'!AU69+'Jul-Dez 2024'!AU69+'Jan-Jun 2025'!AU69+'Jul-Dez 2025'!AU69+'Jan-Jun 2026'!AU69+'Jul-Dez 2026'!AU69+'Jan-Jun 2027'!AU69","v":0},{"$nulls":3},0,0,0,null,0,0,0,0,0,0,0,{"$f":"'Jan-Jun 2024'!BL69","v":0},{"$f":"'Jan-Jun 2024'!BK69+'Jul-Dez 2024'!BK69+'Jan-Jun 2025'!BK69+'Jul-Dez 2025'!BK69+'Jan-Jun 2026'!BK69+'Jul-Dez 2026'!BK69+'Jan-Jun 2027'!BK69","v":0},{"$nulls":3},0,0,0,null,0,0,0,0,0,0,0,{"$f":"'Jan-Jun 2024'!CB69","v":0},{"$f":"'Jan-Jun 2024'!CA69+'Jul-Dez 2024'!CA69+'Jan-Jun 2025'!CA69+'Jul-Dez 2025'!CA69+'Jan-Jun 2026'!CA69+'Jul-Dez 2026'!CA69+'Jan-Jun 2027'!CA69","v":0}]
[{"$nulls":17},"Estágio",null,"PCT","Prática em Contexto Trabalho",{"$nulls":5},"K259",560,"Tutores",{"$nulls":7},0,0,0,null,0,0,0,0,0,0,0,{"$f":"'Jan-Jun 2024'!AV70","v":0},{"$f":"'Jan-Jun 2024'!AU70+'Jul-Dez 2024'!AU70+'Jan-Jun 2025'!AU70+'Jul-Dez 2025'!AU70+'Jan-Jun 2026'!AU70+'Jul-Dez 2026'!AU70+'Jan-Jun 2027'!AU70","v":0},{"$nulls":3},0,0,0,null,0,0,0,0,0,0,0,{"$f":"'Jan-Jun 2024'!BL70","v":0},{"$f":"'Jan-Jun 2024'!BK70+'Jul-Dez 2024'!BK70+'Jan-Jun 2025'!BK70+'Jul-Dez 2025'!BK70+'Jan-Jun 2026'!BK70+'Jul-Dez 2026'!BK70+'Jan-Jun 2027'!BK70","v":0},{"$nulls":3},0,0,0,null,0,0,0,0,0,0,0,{"$f":"'Jan-Jun 2024'!CB70","v":0},{"$f":"'Jan-Jun 2024'!CA70+'Jul-Dez 2024'!CA70+'Jan-Jun 2025'!CA70+'Jul-Dez 2025'!CA70+'Jan-Jun 2026'!CA70+'Jul-Dez 2026'!CA70+'Jan-Jun 2027'!CA70","v":0}]
[null,null,"R. Quantitativas:",{"$nulls":14},"Projecto Final",null,"APF","Acompanhamento ao Projeto Final",{"$nulls":6},16,"Orientadores",{"$nulls":7},0,0,0,null,0,0,0,0,0,0,0,{"$f":"'Jan-Jun 2024'!AV71","v":0},{"$f":"'Jan-Jun 2024'!AU71+'Jul-Dez 2024'!AU71+'Jan-Jun 2025'!AU71+'Jul-Dez 2025'!AU71+'Jan-Jun 2026'!AU71+'Jul-Dez 2026'!AU71+'Jan-Jun 2027'!AU71","v":0},{"$nulls":3},0,0,0,null,0,0,0,0,0,0,0,{"$f":"'Jan-Jun 2024'!BL71","v":0},{"$f":"'Jan-Jun 2024'!BK71+'Jul-Dez 2024'!BK71+'Jan-Jun 2025'!BK71+'Jul-Dez 2025'!BK71+'Jan-Jun 2026'!BK71+'Jul-Dez 2026'!BK71+'Jan-Jun 2027'!BK71","v":0},{"$nulls":3},0,0,0,null,0,0,0,0,0,0,0,{"$f":"'Jan-Jun 2024'!CB71","v":0},{"$f":"'Jan-Jun 2024'!CA71+'Jul-Dez 2024'!CA71+'Jan-Jun 2025'!CA71+'Jul-Dez 2025'!CA71+'Jan-Jun 2026'!CA71+'Jul-Dez 2026'!CA71+'Jan-Jun 2027'!CA71","v":0}]
[{"$nulls":19},"PFI","Projecto Final Integrado - Apresentação e Discussão",{"$nulls":7},"Júri",{"$nulls":7},0,{"$f":"IF($AK$4=$DH$8,AU72,IF($AK$4=$DH$9,AV72,IF($AK$4=$DH$10,AW72,IF($AK$4=$DH$11,AO72,IF($AK$4=$DH$12,AP72,IF($AK$4=$DH$13,AQ72,IF($AK$4=$DH$14,AR72,IF($AK$4=$DH$15,AS72,IF($AK$4=$DH$16,AT72,\"\")))))))))","v":0},0,null,0,0,0,0,0,0,0,{"$f":"'Jan-Jun 2024'!AV72","v":0},{"$f":"'Jan-Jun 2024'!AU72+'Jul-Dez 2024'!AU72+'Jan-Jun 2025'!AU72+'Jul-Dez 2025'!AU72+'Jan-Jun 2026'!AU72+'Jul-Dez 2026'!AU72+'Jan-Jun 2027'!AU72","v":0},{"$nulls":3},0,{"$f":"IF($AK$4=$DH$8,BK72,IF($AK$4=$DH$9,BL72,IF($AK$4=$DH$10,BM72,IF($AK$4=$DH$11,BE72,IF($AK$4=$DH$12,BF72,IF($AK$4=$DH$13,BG72,IF($AK$4=$DH$14,BH72,IF($AK$4=$DH$15,BI72,IF($AK$4=$DH$16,BJ72,\"\")))))))))","v":0},0,null,0,0,0,0,0,0,0,{"$f":"'Jan-Jun 2024'!BL72","v":0},{"$f":"'Jan-Jun 2024'!BK72+'Jul-Dez 2024'!BK72+'Jan-Jun 2025'!BK72+'Jul-Dez 2025'!BK72+'Jan-Jun 2026'!BK72+'Jul-Dez 2026'!BK72+'Jan-Jun 2027'!BK72","v":0},{"$nulls":3},0,{"$f":"IF($AK$4=$DH$8,CA72,IF($AK$4=$DH$9,CB72,IF($AK$4=$DH$10,CC72,IF($AK$4=$DH$11,BU72,IF($AK$4=$DH$12,BV72,IF($AK$4=$DH$13,BW72,IF($AK$4=$DH$14,BX72,IF($AK$4=$DH$15,BY72,IF($AK$4=$DH$16,BZ72,\"\")))))))))","v":0},0,null,0,0,0,0,0,0,0,{"$f":"'Jan-Jun 2024'!CB72","v":0},{"$f":"'Jan-Jun 2024'!CA72+'Jul-Dez 2024'!CA72+'Jan-Jun 2025'!CA72+'Jul-Dez 2025'!CA72+'Jan-Jun 2026'!CA72+'Jul-Dez 2026'!CA72+'Jan-Jun 2027'!CA72","v":0}]
[{"$nulls":36},{"$f":"IF(AI73=$DI$8,AM73,IF(AI73=$DI$9,AM73,IF(AI73=$DI$10,AL73,)))","v":0},0,{"$f":"IF(AI73=$DI$8,AL73,IF(AI73=$DI$9,AM74+AL73,IF(AI73=$DI$10,IF(AI74=$DI$10,AM74+AL73,AL73),)))","v":0},null,{"$f":"COUNTIF($C$10:$AG$13,$AJ73)","v":0},{"$f":"COUNTIF($C$17:$AG$20,$AJ73)","v":0},{"$f":"COUNTIF($C$24:$AG$27,$AJ73)","v":0},{"$f":"COUNTIF($C$31:$AG$34,$AJ73)","v":0},{"$f":"COUNTIF($C$38:$AG$41,$AJ73)","v":0},{"$f":"COUNTIF($C$45:$AG$48,$AJ73)","v":0},{"$f":"SUM(AO73:AT73)","v":0},{"$f":"'Jan-Jun 2024'!AV73","v":0},{"$f":"'Jan-Jun 2024'!AU73+'Jul-Dez 2024'!AU73+'Jan-Jun 2025'!AU73+'Jul-Dez 2025'!AU73+'Jan-Jun 2026'!AU73+'Jul-Dez 2026'!AU73+'Jan-Jun 2027'!AU73","v":0},{"$nulls":3},{"$f":"IF(AY73=$DI$8,BC73,IF(AY73=$DI$9,BC73,IF(AY73=$DI$10,BB73,)))","v":0},0,{"$f":"IF(AY73=$DI$8,BB73,IF(AY73=$DI$9,BC74+BB73,IF(AY73=$DI$10,IF(AY74=$DI$10,BC74+BB73,BB73),)))","v":0},null,{"$f":"COUNTIF($C$10:$AG$13,$AZ73)","v":0},{"$f":"COUNTIF($C$17:$AG$20,$AZ73)","v":0},{"$f":"COUNTIF($C$24:$AG$27,$AZ73)","v":0},{"$f":"COUNTIF($C$31:$AG$34,$AZ73)","v":0},{"$f":"COUNTIF($C$38:$AG$41,$AZ73)","v":0},{"$f":"COUNTIF($C$45:$AG$48,$AZ73)","v":0},{"$f":"SUM(BE73:BJ73)","v":0},{"$f":"'Jan-Jun 2024'!BL73","v":0},{"$f":"'Jan-Jun 2024'!BK73+'Jul-Dez 2024'!BK73+'Jan-Jun 2025'!BK73+'Jul-Dez 2025'!BK73+'Jan-Jun 2026'!BK73+'Jul-Dez 2026'!BK73+'Jan-Jun 2027'!BK73","v":0},{"$nulls":3},{"$f":"IF(BO73=$DI$8,BS73,IF(BO73=$DI$9,BS73,IF(BO73=$DI$10,BR73,)))","v":0},0,{"$f":"IF(BO73=$DI$8,BR73,IF(BO73=$DI$9,BS74+BR73,IF(BO73=$DI$10,IF(BO74=$DI$10,BS74+BR73,BR73),)))","v":0},null,{"$f":"COUNTIF($C$10:$AG$13,$BP73)","v":0},{"$f":"COUNTIF($C$17:$AG$20,$BP73)","v":0},{"$f":"COUNTIF($C$24:$AG$27,$BP73)","v":0},{"$f":"COUNTIF($C$31:$AG$34,$BP73)","v":0},{"$f":"COUNTIF($C$38:$AG$41,$BP73)","v":0},{"$f":"COUNTIF($C$45:$AG$48,$BP73)","v":0},{"$f":"SUM(BU73:BZ73)","v":0},{"$f":"'Jan-Jun 2024'!CB73","v":0},{"$f":"'Jan-Jun 2024'!CA73+'Jul-Dez 2024'!CA73+'Jan-Jun 2025'!CA73+'Jul-Dez 2025'!CA73+'Jan-Jun 2026'!CA73+'Jul-Dez 2026'!CA73+'Jan-Jun 2027'!CA73","v":0}]
[]
[{"$nulls":36},{"$f":"SUMIF(AI8:AI73,\"=M\",AK8:AK73)+SUMIF(AI8:AI73,\"=T\",AK8:AK73)","v":0},null,null,{"$f":"SUMIF(AI8:AI73,\"=M\",AN8:AN73)+SUMIF(AI8:AI73,\"=T\",AN8:AN73)","v":900},{"$nulls":12},{"$f":"SUMIF(AY8:AY73,\"=M\",BA8:BA73)+SUMIF(AY8:AY73,\"=T\",BA8:BA73)","v":0},null,null,{"$f":"SUMIF(AY8:AY73,\"=M\",BD8:BD73)+SUMIF(AY8:AY73,\"=T\",BD8:BD73)","v":260},{"$nulls":12},{"$f":"SUMIF(BO8:BO73,\"=M\",BQ8:BQ73)+SUMIF(BO8:BO73,\"=T\",BQ8:BQ73)","v":0},null,null,{"$f":"SUMIF(BO8:BO73,\"=M\",BT8:BT73)+SUMIF(BO8:BO73,\"=T\",BT8:BT73)","v":0}]
[{"$nulls":34},"Totais",null,{"$f":"AK75+BA75+BQ75","v":0},null,null,{"$f":"AN75+BD75+BT75","v":1160}]

{"sheet":"Jul-Dez 2027","index":8,"n_rows":76,"n_cols":113,"rows_kept":76,"merged":[[0,25,0,32],[0,34,2,39],[0,40,6,40],[0,41,6,41],[0,42,6,42],[0,43,6,43],[0,44,6,44],[0,45,6,45],[0,46,6,46],[0,47,6,47],[0,48,6,48],[0,50,2,55],[0,56,6,56],[0,57,6,57],[0,58,6,58],[0,59,6,59],[0,60,6,60],[0,61,6,61],[0,62,6,62],[0,63,6,63],[0,64,6,64],[0,66,2,71],[0,72,6,72],[0,73,6,73],[0,74,6,74],[0,75,6,75],[0,76,6,76],[0,77,6,77],[0,78,6,78],[0,79,6,79],[0,80,6,80],[0,111,6,111],[0,112,6,112],[1,25,1,32],[2,25,2,32],[3,25,3,32],[3,34,6,34],[3,35,6,35],[3,36,6,36],[3,37,6,37],[3,38,6,38],[3,39,6,39],[3,50,6,50],[3,51,6,51],[3,52,6,52],[3,53,6,53],[3,54,6,54],[3,55,6,55],[3,66,6,66],[3,67,6,67],[3,68,6,68],[3,69,6,69],[3,70,6,70],[3,71,6,71],[4,0,4,2],[4,3,4,9],[4,10,4,13],[4,14,4,21],[4,22,4,26],[4,27,4,29],[4,30,4,32],[5,0,5,2],[5,3,5,9],[5,10,5,13],[5,14,5,21],[5,22,5,26],[5,27,5,29],[5,30,5,32],[6,0,6,2],[6,3,6,9],[6,10,6,13],[6,14,6,21],[6,22,6,26],[6,27,6,29],[6,30,6,32],[7,0,8,1],[9,0,9,1],[10,0,10,1],[11,0,11,1],[12,0,12,1],[14,0,15,1],[16,0,16,1],[17,0,17,1],[18,0,18,1],[19,0,19,1],[21,0,22,1],[23,0,23,1],[24,0,24,1],[25,0,25,1],[26,0,26,1],[28,0,29,1],[30,0,30,1],[31,0,31,1],[32,0,32,1],[33,0,33,1],[35,0,36,1],[37,0,37,1],[38,0,38,1],[39,0,39,1],[40,0,40,1],[42,0,43,1],[44,0,44,1],[45,0,45,1],[46,0,46,1],[47,0,47,1],[48,2,48,8],[48,11,48,13],[48,17,48,19],[48,20,48,25],[48,28,48,30],[49,0,54,0],[49,3,49,8],[49,11,49,13],[49,17,68,17],[49,20,49,25],[49,28,49,30],[50,3,50,8],[50,11,50,13],[50,20,50,25],[50,28,50,30],[51,3,51,8],[51,11,51,13],[51,20,51,25],[51,28,51,30],[52,3,52,8],[52,11,52,13],[52,20,52,25],[52,28,52,30],[53,3,53,8],[53,11,53,13],[53,20,53,25],[53,28,53,30],[54,3,54,8],[54,11,54,13],[54,20,54,25],[54,28,54,30],[55,20,55,25],[55,28,55,30],[56,3,56,9],[56,20,56,25],[56,28,56,30],[57,4,57,9],[57,20,57,25],[57,28,57,30],[58,4,58,9],[58,20,58,25],[58,28,58,30],[59,4,59,9],[59,20,59,25],[59,28,59,30],[60,20,60,25],[60,28,60,30],[61,3,61,8],[61,20,61,25],[61,28,61,30],[62,20,62,25],[62,28,62,30],[63,3,63,8],[63,20,63,25],[63,28,63,30],[64,20,64,25],[64,28,64,30],[65,20,65,25],[65,28,65,30],[66,20,66,25],[66,28,66,30],[67,2,68,3],[67,20,67,25],[67,28,67,30],[68,20,68,25],[68,28,68,30],[69,20,69,25],[69,28,69,30],[70,4,70,5],[70,6,70,7],[70,8,70,9],[70,17,71,17],[70,20,70,25],[70,28,70,30],[71,20,71,25],[71,28,71,30],[75,34,75,35]]}
[{"$nulls":40},{"$f":"TEXT(#REF!,\"mmm\")","v":{"$error":"#REF!"}},{"$f":"TEXT($A$11,\"mmm\")","v":"20h10 - 21h00"},{"$f":"TEXT($A$18,\"mmm\")","v":"20h10 - 21h00"},{"$f":"TEXT($A$25,\"mmm\")","v":"20h10 - 21h00"},{"$f":"TEXT($A$32,\"mmm\")","v":"20h10 - 21h00"},{"$f":"TEXT($A$39,\"mmm\")","v":"20h10 - 21h00"},"Total  Folha","Total Global","Total  Acum.",{"$nulls":7},{"$f":"TEXT(#REF!,\"mmm\")","v":{"$error":"#REF!"}},{"$f":"TEXT($A$11,\"mmm\")","v":"20h10 - 21h00"},{"$f":"TEXT($A$18,\"mmm\")","v":"20h10 - 21h00"},{"$f":"TEXT($A$25,\"mmm\")","v":"20h10 - 21h00"},{"$f":"TEXT($A$32,\"mmm\")","v":"20h10 - 21h00"},{"$f":"TEXT($A$39,\"mmm\")","v":"20h10 - 21h00"},"Total  Folha","Total Global","Total  Acum.",{"$nulls":7},{"$f":"TEXT(#REF!,\"mmm\")","v":{"$error":"#REF!"}},{"$f":"TEXT($A$11,\"mmm\")","v":"20h10 - 21h00"},{"$f":"TEXT($A$18,\"mmm\")","v":"20h10 - 21h00"},{"$f":"TEXT($A$25,\"mmm\")","v":"20h10 - 21h00"},{"$f":"TEXT($A$32,\"mmm\")","v":"20h10 - 21h00"},{"$f":"TEXT($A$39,\"mmm\")","v":"20h10 - 21h00"},"Total  Folha","Total Global","Total  Acum.",{"$nulls":30},"tipo_soma","tipo_contador"]
[{"$nulls":25},"Director(a):"]
[{"$nulls":25},"(Cristina Botas)"]
[{"$nulls":34},"Tipo","Módulo","ST","Origem","Cálculo","Objetivo",{"$nulls":10},"Tipo","Módulo",{"$f":"AK4","v":"ST"},"Origem","Cálculo","Objetivo",{"$nulls":10},"Tipo","Módulo",{"$f":"AK4","v":"ST"},"Origem","Cálculo","Objetivo"]
["MODALIDADE:",null,null,"CET - Tecnologia Mecatrónica",{"$nulls":6},"CODÍGO DA AÇÃO:",{"$nulls":3},66406,{"$nulls":12},"       U.O.:",null,null,"Torres Vedras"]
["PLANEAMENTO:",null,null,"Vítor Caetano",{"$nulls":6},"SAÍDA PROFISSIONAL: Técnico/a Especialista em Mecatrónica",{"$nulls":3},"Técnico/a Especialista em Mecatrónica",{"$nulls":12},"DATA INÍCIO:",null,null,"2022-11-15"]
["COORDENADOR:",{"$nulls":9},"DURAÇÃO:",{"$nulls":3},"1560 H",{"$nulls":12},"DATA FIM  (previsto):"]
["2027-07-01",null,{"$f":"IF(C9<>\"\",CHOOSE(WEEKDAY(C9,1),\"Dom.\",\"Seg.\",\"Ter.\",\"Qua.\",\"Qui.\",\"Sex.\",\"Sáb.\"),\"\")","v":"Qui."},{"$f":"IF(D9<>\"\",CHOOSE(WEEKDAY(D9,1),\"Dom.\",\"Seg.\",\"Ter.\",\"Qua.\",\"Qui.\",\"Sex.\",\"Sáb.\"),\"\")","v":"Sex."},"Sáb.","Dom.","Seg.","Ter.","Qua.","Qui.","Sex.","Sáb.","Dom.","Seg.","Ter.","Qua.","Qui.","Sex.","Sáb.","Dom.","Seg.","Ter.","Qua.","Qui.","Sex.","Sáb.","Dom.","Seg.","Ter.","Qua.","Qui.","Sex.","Sáb.",null,"T","PFL",{"$f":"IF(AI8=$DI$8,AM8,IF(AI8=$DI$9,AM8,IF(AI8=$DI$10,AL8,)))","v":0},{"$f":"IF($AK$4=$DH$8,AU8,IF($AK$4=$DH$9,AV8,IF($AK$4=$DH$10,AW8,IF($AK$4=$DH$11,AO8,IF($AK$4=$DH$12,AP8,IF($AK$4=$DH$13,AQ8,IF($AK$4=$DH$14,AR8,IF($AK$4=$DH$15,AS8,IF($AK$4=$DH$16,AT8,\"\")))))))))","v":0},{"$f":"IF(AI8=$DI$8,AL8,IF(AI8=$DI$9,AM9+AL8,IF(AI8=$DI$10,IF(AI9=$DI$10,AM9+AL8,AL8),)))","v":0},25,{"$f":"COUNTIF($C$10:$AG$13,$AJ8)","v":0},{"$f":"COUNTIF($C$17:$AG$20,$AJ8)","v":0},{"$f":"COUNTIF($C$24:$AG$27,$AJ8)","v":0},{"$f":"COUNTIF($C$31:$AG$34,$AJ8)","v":0},{"$f":"COUNTIF($C$38:$AG$41,$AJ8)","v":0},{"$f":"COUNTIF($C$45:$AG$48,$AJ8)","v":0},{"$f":"SUM(AO8:AT8)","v":0},{"$f":"'Jan-Jun 2024'!AV8","v":0},{"$f":"'Jan-Jun 2024'!AU8+'Jul-Dez 2024'!AU8+'Jan-Jun 2025'!AU8+'Jul-Dez 2025'!AU8+'Jan-Jun 2026'!AU8+'Jul-Dez 2026'!AU8+'Jan-Jun 2027'!AU8+'Jul-Dez 2027'!AU8","v":0},null,"M","IGO",{"$f":"IF(AY8=$DI$8,BC8,IF(AY8=$DI$9,BC8,IF(AY8=$DI$10,BB8,)))","v":0},{"$f":"IF($AK$4=$DH$8,BK8,IF($AK$4=$DH$9,BL8,IF($AK$4=$DH$10,BM8,IF($AK$4=$DH$11,BE8,IF($AK$4=$DH$12,BF8,IF($AK$4=$DH$13,BG8,IF($AK$4=$DH$14,BH8,IF($AK$4=$DH$15,BI8,IF($AK$4=$DH$16,BJ8,\"\")))))))))","v":0},{"$f":"IF(AY8=$DI$8,BB8,IF(AY8=$DI$9,BC9+BB8,IF(AY8=$DI$10,IF(AY9=$DI$10,BC9+BB8,BB8),)))","v":0},25,{"$f":"COUNTIF($C$10:$AG$13,$AZ8)","v":0},{"$f":"COUNTIF($C$17:$AG$20,$AZ8)","v":0},{"$f":"COUNTIF($C$24:$AG$27,$AZ8)","v":0},{"$f":"COUNTIF($C$31:$AG$34,$AZ8)","v":0},{"$f":"COUNTIF($C$38:$AG$41,$AZ8)","v":0},{"$f":"COUNTIF($C$45:$AG$48,$AZ8)","v":0},{"$f":"SUM(BE8:BJ8)","v":0},{"$f":"'Jan-Jun 2024'!BL8","v":0},{"$f":"'Jan-Jun 2024'!BK8+'Jul-Dez 2024'!BK8+'Jan-Jun 2025'!BK8+'Jul-Dez 2025'!BK8+'Jan-Jun 2026'!BK8+'Jul-Dez 2026'!BK8+'Jan-Jun 2027'!BK8+'Jul-Dez 2027'!BK8","v":0},{"$nulls":3},{"$f":"IF(BO8=$DI$8,BS8,IF(BO8=$DI$9,BS8,IF(BO8=$DI$10,BR8,)))","v":0},{"$f":"IF($AK$4=$DH$8,CA8,IF($AK$4=$DH$9,CB8,IF($AK$4=$DH$10,CC8,IF($AK$4=$DH$11,BU8,IF($AK$4=$DH$12,BV8,IF($AK$4=$DH$13,BW8,IF($AK$4=$DH$14,BX8,IF($AK$4=$DH$15,BY8,IF($AK$4=$DH$16,BZ8,\"\")))))))))","v":0},{"$f":"IF(BO8=$DI$8,BR8,IF(BO8=$DI$9,BS9+BR8,IF(BO8=$DI$10,IF(BO9=$DI$10,BS9+BR8,BR8),)))","v":0},null,{"$f":"COUNTIF($C$10:$AG$13,$BP8)","v":0},{"$f":"COUNTIF($C$17:$AG$20,$BP8)","v":0},{"$f":"COUNTIF($C$24:$AG$27,$BP8)","v":0},{"$f":"COUNTIF($C$31:$AG$34,$BP8)","v":0},{"$f":"COUNTIF($C$38:$AG$41,$BP8)","v":0},{"$f":"COUNTIF($C$45:$AG$48,$BP8)","v":0},{"$f":"SUM(BU8:BZ8)","v":0},{"$f":"'Jan-Jun 2024'!CB8","v":0},{"$f":"'Jan-Jun 2024'!CA8+'Jul-Dez 2024'!CA8+'Jan-Jun 2025'!CA8+'Jul-Dez 2025'!CA8+'Jan-Jun 2026'!CA8+'Jul-Dez 2026'!CA8+'Jan-Jun 2027'!CA8+'Jul-Dez 2027'!CA8","v":0},{"$nulls":30},"SF","M"]
[null,null,{"$f":"A8","v":"2027-07-01"},{"$f":"IF(C9=\"\",\"\",IF(DAY(C9)<DAY(EOMONTH(C9,0)),C9+1,\"\"))","v":"2027-07-02"},{"$f":"IF(D9=\"\",\"\",IF(DAY(D9)<DAY(EOMONTH(D9,0)),D9+1,\"\"))","v":"2027-07-03"},"2027-07-04","2027-07-05","2027-07-06","2027-07-07","2027-07-08",{"$f":"IF(J9=\"\",\"\",IF(DAY(J9)<DAY(EOMONTH(J9,0)),J9+1,\"\"))","v":"2027-07-09"},{"$f":"IF(K9=\"\",\"\",IF(DAY(K9)<DAY(EOMONTH(K9,0)),K9+1,\"\"))","v":"2027-07-10"},"2027-07-11","2027-07-12","2027-07-13","2027-07-14","2027-07-15",{"$f":"IF(Q9=\"\",\"\",IF(DAY(Q9)<DAY(EOMONTH(Q9,0)),Q9+1,\"\"))","v":"2027-07-16"},{"$f":"IF(R9=\"\",\"\",IF(DAY(R9)<DAY(EOMONTH(R9,0)),R9+1,\"\"))","v":"2027-07-17"},"2027-07-18","2027-07-19","2027-07-20","2027-07-21","2027-07-22",{"$f":"IF(X9=\"\",\"\",IF(DAY(X9)<DAY(EOMONTH(X9,0)),X9+1,\"\"))","v":"2027-07-23"},{"$f":"IF(Y9=\"\",\"\",IF(DAY(Y9)<DAY(EOMONTH(Y9,0)),Y9+1,\"\"))","v":"2027-07-24"},"2027-07-25","2027-07-26","2027-07-27","2027-07-28","2027-07-29",{"$f":"IF(AE9=\"\",\"\",IF(DAY(AE9)<DAY(EOMONTH(AE9,0)),AE9+1,\"\"))","v":"2027-07-30"},{"$f":"IF(AF9=\"\",\"\",IF(DAY(AF9)<DAY(EOMONTH(AF9,0)),AF9+1,\"\"))","v":"2027-07-31"},null,"P","PFL1",{"$f":"IF(AI9=$DI$8,AM9,IF(AI9=$DI$9,AM9,IF(AI9=$DI$10,AL9,)))","v":0},0,{"$f":"IF(AI9=$DI$8,AL9,IF(AI9=$DI$9,AM10+AL9,IF(AI9=$DI$10,IF(AI10=$DI$10,AM10+AL9,AL9),)))","v":0},7,{"$f":"COUNTIF($C$10:$AG$13,$AJ9)","v":0},{"$f":"COUNTIF($C$17:$AG$20,$AJ9)","v":0},{"$f":"COUNTIF($C$24:$AG$27,$AJ9)","v":0},{"$f":"COUNTIF($C$31:$AG$34,$AJ9)","v":0},{"$f":"COUNTIF($C$38:$AG$41,$AJ9)","v":0},{"$f":"COUNTIF($C$45:$AG$48,$AJ9)","v":0},{"$f":"SUM(AO9:AT9)","v":0},{"$f":"'Jan-Jun 2024'!AV9","v":0},{"$f":"'Jan-Jun 2024'!AU9+'Jul-Dez 2024'!AU9+'Jan-Jun 2025'!AU9+'Jul-Dez 2025'!AU9+'Jan-Jun 2026'!AU9+'Jul-Dez 2026'!AU9+'Jan-Jun 2027'!AU9+'Jul-Dez 2027'!AU9","v":0},{"$nulls":3},{"$f":"IF(AY9=$DI$8,BC9,IF(AY9=$DI$9,BC9,IF(AY9=$DI$10,BB9,)))","v":0},0,{"$f":"IF(AY9=$DI$8,BB9,IF(AY9=$DI$9,BC10+BB9,IF(AY9=$DI$10,IF(AY10=$DI$10,BC10+BB9,BB9),)))","v":0},null,{"$f":"COUNTIF($C$10:$AG$13,$AZ9)","v":0},{"$f":"COUNTIF($C$17:$AG$20,$AZ9)","v":0},{"$f":"COUNTIF($C$24:$AG$27,$AZ9)","v":0},{"$f":"COUNTIF($C$31:$AG$34,$AZ9)","v":0},{"$f":"COUNTIF($C$38:$AG$41,$AZ9)","v":0},{"$f":"COUNTIF($C$45:$AG$48,$AZ9)","v":0},{"$f":"SUM(BE9:BJ9)","v":0},{"$f":"'Jan-Jun 2024'!BL9","v":0},{"$f":"'Jan-Jun 2024'!BK9+'Jul-Dez 2024'!BK9+'Jan-Jun 2025'!BK9+'Jul-Dez 2025'!BK9+'Jan-Jun 2026'!BK9+'Jul-Dez 2026'!BK9+'Jan-Jun 2027'!BK9+'Jul-Dez 2027'!BK9","v":0},{"$nulls":3},{"$f":"IF(BO9=$DI$8,BS9,IF(BO9=$DI$9,BS9,IF(BO9=$DI$10,BR9,)))","v":0},0,{"$f":"IF(BO9=$DI$8,BR9,IF(BO9=$DI$9,BS10+BR9,IF(BO9=$DI$10,IF(BO10=$DI$10,BS10+BR9,BR9),)))","v":0},null,{"$f":"COUNTIF($C$10:$AG$13,$BP9)","v":0},{"$f":"COUNTIF($C$17:$AG$20,$BP9)","v":0},{"$f":"COUNTIF($C$24:$AG$27,$BP9)","v":0},{"$f":"COUNTIF($C$31:$AG$34,$BP9)","v":0},{"$f":"COUNTIF($C$38:$AG$41,$BP9)","v":0},{"$f":"COUNTIF($C$45:$AG$48,$BP9)","v":0},{"$f":"SUM(BU9:BZ9)","v":0},{"$f":"'Jan-Jun 2024'!CB9","v":0},{"$f":"'Jan-Jun 2024'!CA9+'Jul-Dez 2024'!CA9+'Jan-Jun 2025'!CA9+'Jul-Dez 2025'!CA9+'Jan-Jun 2026'!CA9+'Jul-Dez 2026'!CA9+'Jan-Jun 2027'!CA9+'Jul-Dez 2027'!CA9","v":0},{"$nulls":30},"ST","T"]
["19h20 - 20h10",{"$nulls":33},"P","PFL2",0,0,0,18,0,0,0,0,0,0,0,{"$f":"'Jan-Jun 2024'!AV10","v":0},{"$f":"'Jan-Jun 2024'!AU10+'Jul-Dez 2024'!AU10+'Jan-Jun 2025'!AU10+'Jul-Dez 2025'!AU10+'Jan-Jun 2026'!AU10+'Jul-Dez 2026'!AU10+'Jan-Jun 2027'!AU10+'Jul-Dez 2027'!AU10","v":0},{"$nulls":3},0,0,0,null,0,0,0,0,0,0,0,{"$f":"'Jan-Jun 2024'!BL10","v":0},{"$f":"'Jan-Jun 2024'!BK10+'Jul-Dez 2024'!BK10+'Jan-Jun 2025'!BK10+'Jul-Dez 2025'!BK10+'Jan-Jun 2026'!BK10+'Jul-Dez 2026'!BK10+'Jan-Jun 2027'!BK10+'Jul-Dez 2027'!BK10","v":0},{"$nulls":3},0,0,0,null,0,0,0,0,0,0,0,{"$f":"'Jan-Jun 2024'!CB10","v":0},{"$f":"'Jan-Jun 2024'!CA10+'Jul-Dez 2024'!CA10+'Jan-Jun 2025'!CA10+'Jul-Dez 2025'!CA10+'Jan-Jun 2026'!CA10+'Jul-Dez 2026'!CA10+'Jan-Jun 2027'!CA10+'Jul-Dez 2027'!CA10","v":0},{"$nulls":30},"SA","P"]
["20h10 - 21h00",{"$nulls":35},0,0,0,null,0,0,0,0,0,0,0,{"$f":"'Jan-Jun 2024'!AV11","v":0},{"$f":"'Jan-Jun 2024'!AU11+'Jul-Dez 2024'!AU11+'Jan-Jun 2025'!AU11+'Jul-Dez 2025'!AU11+'Jan-Jun 2026'!AU11+'Jul-Dez 2026'!AU11+'Jan-Jun 2027'!AU11+'Jul-Dez 2027'!AU11","v":0},null,"M","GMQ",0,0,0,25,0,0,0,0,0,0,0,{"$f":"'Jan-Jun 2024'!BL11","v":0},{"$f":"'Jan-Jun 2024'!BK11+'Jul-Dez 2024'!BK11+'Jan-Jun 2025'!BK11+'Jul-Dez 2025'!BK11+'Jan-Jun 2026'!BK11+'Jul-Dez 2026'!BK11+'Jan-Jun 2027'!BK11+'Jul-Dez 2027'!BK11","v":0},{"$nulls":3},0,0,0,null,0,0,0,0,0,0,0,{"$f":"'Jan-Jun 2024'!CB11","v":0},{"$f":"'Jan-Jun 2024'!CA11+'Jul-Dez 2024'!CA11+'Jan-Jun 2025'!CA11+'Jul-Dez 2025'!CA11+'Jan-Jun 2026'!CA11+'Jul-Dez 2026'!CA11+'Jan-Jun 2027'!CA11+'Jul-Dez 2027'!CA11","v":0},{"$nulls":30},{"$f":"TEXT(A8,\"mmm\")","v":"jul"}]
["21h20 - 22h10",{"$nulls":33},"T","PCC",0,0,0,25,0,0,0,0,0,0,0,{"$f":"'Jan-Jun 2024'!AV12","v":0},{"$f":"'Jan-Jun 2024'!AU12+'Jul-Dez 2024'!AU12+'Jan-Jun 2025'!AU12+'Jul-Dez 2025'!AU12+'Jan-Jun 2026'!AU12+'Jul-Dez 2026'!AU12+'Jan-Jun 2027'!AU12+'Jul-Dez 2027'!AU12","v":0},{"$nulls":3},0,0,0,null,0,0,0,0,0,0,0,{"$f":"'Jan-Jun 2024'!BL12","v":0},{"$f":"'Jan-Jun 2024'!BK12+'Jul-Dez 2024'!BK12+'Jan-Jun 2025'!BK12+'Jul-Dez 2025'!BK12+'Jan-Jun 2026'!BK12+'Jul-Dez 2026'!BK12+'Jan-Jun 2027'!BK12+'Jul-Dez 2027'!BK12","v":0},{"$nulls":3},0,0,0,null,0,0,0,0,0,0,0,{"$f":"'Jan-Jun 2024'!CB12","v":0},{"$f":"'Jan-Jun 2024'!CA12+'Jul-Dez 2024'!CA12+'Jan-Jun 2025'!CA12+'Jul-Dez 2025'!CA12+'Jan-Jun 2026'!CA12+'Jul-Dez 2026'!CA12+'Jan-Jun 2027'!CA12+'Jul-Dez 2027'!CA12","v":0},{"$nulls":30},{"$f":"TEXT(A15,\"mmm\")","v":"ago"}]
["22h10 - 23h00",{"$nulls":33},"P","PCC1",0,0,0,7,0,0,0,0,0,0,0,{"$f":"'Jan-Jun 2024'!AV13","v":0},{"$f":"'Jan-Jun 2024'!AU13+'Jul-Dez 2024'!AU13+'Jan-Jun 2025'!AU13+'Jul-Dez 2025'!AU13+'Jan-Jun 2026'!AU13+'Jul-Dez 2026'!AU13+'Jan-Jun 2027'!AU13+'Jul-Dez 2027'!AU13","v":0},{"$nulls":3},0,0,0,null,0,0,0,0,0,0,0,{"$f":"'Jan-Jun 2024'!BL13","v":0},{"$f":"'Jan-Jun 2024'!BK13+'Jul-Dez 2024'!BK13+'Jan-Jun 2025'!BK13+'Jul-Dez 2025'!BK13+'Jan-Jun 2026'!BK13+'Jul-Dez 2026'!BK13+'Jan-Jun 2027'!BK13+'Jul-Dez 2027'!BK13","v":0},{"$nulls":3},0,0,0,null,0,0,0,0,0,0,0,{"$f":"'Jan-Jun 2024'!CB13","v":0},{"$f":"'Jan-Jun 2024'!CA13+'Jul-Dez 2024'!CA13+'Jan-Jun 2025'!CA13+'Jul-Dez 2025'!CA13+'Jan-Jun 2026'!CA13+'Jul-Dez 2026'!CA13+'Jan-Jun 2027'!CA13+'Jul-Dez 2027'!CA13","v":0},{"$nulls":30},{"$f":"TEXT(A22,\"mmm\")","v":"set"}]
[{"$nulls":34},"P","PCC2",0,0,0,18,0,0,0,0,0,0,0,{"$f":"'Jan-Jun 2024'!AV14","v":0},{"$f":"'Jan-Jun 2024'!AU14+'Jul-Dez 2024'!AU14+'Jan-Jun 2025'!AU14+'Jul-Dez 2025'!AU14+'Jan-Jun 2026'!AU14+'Jul-Dez 2026'!AU14+'Jan-Jun 2027'!AU14+'Jul-Dez 2027'!AU14","v":0},null,"M","SGQ",0,0,0,25,0,0,0,0,0,0,0,{"$f":"'Jan-Jun 2024'!BL14","v":0},{"$f":"'Jan-Jun 2024'!BK14+'Jul-Dez 2024'!BK14+'Jan-Jun 2025'!BK14+'Jul-Dez 2025'!BK14+'Jan-Jun 2026'!BK14+'Jul-Dez 2026'!BK14+'Jan-Jun 2027'!BK14+'Jul-Dez 2027'!BK14","v":0},{"$nulls":3},0,0,0,null,0,0,0,0,0,0,0,{"$f":"'Jan-Jun 2024'!CB14","v":0},{"$f":"'Jan-Jun 2024'!CA14+'Jul-Dez 2024'!CA14+'Jan-Jun 2025'!CA14+'Jul-Dez 2025'!CA14+'Jan-Jun 2026'!CA14+'Jul-Dez 2026'!CA14+'Jan-Jun 2027'!CA14+'Jul-Dez 2027'!CA14","v":0},{"$nulls":30},{"$f":"TEXT(A29,\"mmm\")","v":"out"}]
[{"$f":"A8+DAY(EOMONTH(A8,0))","v":"2027-08-01"},null,{"$f":"IF(C16<>\"\",CHOOSE(WEEKDAY(C16,1),\"Dom.\",\"Seg.\",\"Ter.\",\"Qua.\",\"Qui.\",\"Sex.\",\"Sáb.\"),\"\")","v":"Dom."},{"$f":"IF(D16<>\"\",CHOOSE(WEEKDAY(D16,1),\"Dom.\",\"Seg.\",\"Ter.\",\"Qua.\",\"Qui.\",\"Sex.\",\"Sáb.\"),\"\")","v":"Seg."},"Ter.","Qua.","Qui.","Sex.","Sáb.","Dom.","Seg.","Ter.","Qua.","Qui.","Sex.","Sáb.","Dom.","Seg.","Ter.","Qua.","Qui.","Sex.","Sáb.","Dom.","Seg.","Ter.","Qua.","Qui.","Sex.","Sáb.","Dom.","Seg.","Ter.",{"$nulls":3},0,0,0,null,0,0,0,0,0,0,0,{"$f":"'Jan-Jun 2024'!AV15","v":0},{"$f":"'Jan-Jun 2024'!AU15+'Jul-Dez 2024'!AU15+'Jan-Jun 2025'!AU15+'Jul-Dez 2025'!AU15+'Jan-Jun 2026'!AU15+'Jul-Dez 2026'!AU15+'Jan-Jun 2027'!AU15+'Jul-Dez 2027'!AU15","v":0},{"$nulls":3},0,0,0,null,0,0,0,0,0,0,0,{"$f":"'Jan-Jun 2024'!BL15","v":0},{"$f":"'Jan-Jun 2024'!BK15+'Jul-Dez 2024'!BK15+'Jan-Jun 2025'!BK15+'Jul-Dez 2025'!BK15+'Jan-Jun 2026'!BK15+'Jul-Dez 2026'!BK15+'Jan-Jun 2027'!BK15+'Jul-Dez 2027'!BK15","v":0},{"$nulls":3},0,0,0,null,0,0,0,0,0,0,0,{"$f":"'Jan-Jun 2024'!CB15","v":0},{"$f":"'Jan-Jun 2024'!CA15+'Jul-Dez 2024'!CA15+'Jan-Jun 2025'!CA15+'Jul-Dez 2025'!CA15+'Jan-Jun 2026'!CA15+'Jul-Dez 2026'!CA15+'Jan-Jun 2027'!CA15+'Jul-Dez 2027'!CA15","v":0},{"$nulls":30},{"$f":"TEXT(A36,\"mmm\")","v":"nov"}]
[null,null,{"$f":"A15","v":"2027-08-01"},{"$f":"IF(C16=\"\",\"\",IF(DAY(C16)<DAY(EOMONTH(C16,0)),C16+1,\"\"))","v":"2027-08-02"},"2027-08-03","2027-08-04","2027-08-05","2027-08-06","2027-08-07","2027-08-08","2027-08-09","2027-08-10","2027-08-11","2027-08-12","2027-08-13","2027-08-14","2027-08-15","2027-08-16","2027-08-17","2027-08-18","2027-08-19","2027-08-20","2027-08-21","2027-08-22","2027-08-23","2027-08-24","2027-08-25","2027-08-26","2027-08-27","2027-08-28","2027-08-29","2027-08-30","2027-08-31",null,"M","PAA",0,0,0,25,0,0,0,0,0,0,0,{"$f":"'Jan-Jun 2024'!AV16","v":0},{"$f":"'Jan-Jun 2024'!AU16+'Jul-Dez 2024'!AU16+'Jan-Jun 2025'!AU16+'Jul-Dez 2025'!AU16+'Jan-Jun 2026'!AU16+'Jul-Dez 2026'!AU16+'Jan-Jun 2027'!AU16+'Jul-Dez 2027'!AU16","v":0},{"$nulls":3},0,0,0,null,0,0,0,0,0,0,0,{"$f":"'Jan-Jun 2024'!BL16","v":0},{"$f":"'Jan-Jun 2024'!BK16+'Jul-Dez 2024'!BK16+'Jan-Jun 2025'!BK16+'Jul-Dez 2025'!BK16+'Jan-Jun 2026'!BK16+'Jul-Dez 2026'!BK16+'Jan-Jun 2027'!BK16+'Jul-Dez 2027'!BK16","v":0},{"$nulls":3},0,0,0,null,0,0,0,0,0,0,0,{"$f":"'Jan-Jun 2024'!CB16","v":0},{"$f":"'Jan-Jun 2024'!CA16+'Jul-Dez 2024'!CA16+'Jan-Jun 2025'!CA16+'Jul-Dez 2025'!CA16+'Jan-Jun 2026'!CA16+'Jul-Dez 2026'!CA16+'Jan-Jun 2027'!CA16+'Jul-Dez 2027'!CA16","v":0},{"$nulls":30},{"$f":"TEXT(A43,\"mmm\")","v":"dez"}]
["19h20 - 20h10",{"$nulls":15},"Assunção",{"$nulls":17},"M","IME",0,0,0,50,0,0,0,0,0,0,0,{"$f":"'Jan-Jun 2024'!AV17","v":0},{"$f":"'Jan-Jun 2024'!AU17+'Jul-Dez 2024'!AU17+'Jan-Jun 2025'!AU17+'Jul-Dez 2025'!AU17+'Jan-Jun 2026'!AU17+'Jul-Dez 2026'!AU17+'Jan-Jun 2027'!AU17+'Jul-Dez 2027'!AU17","v":0},null,"M","ASHST",0,0,0,25,0,0,0,0,0,0,0,{"$f":"'Jan-Jun 2024'!BL17","v":0},{"$f":"'Jan-Jun 2024'!BK17+'Jul-Dez 2024'!BK17+'Jan-Jun 2025'!BK17+'Jul-Dez 2025'!BK17+'Jan-Jun 2026'!BK17+'Jul-Dez 2026'!BK17+'Jan-Jun 2027'!BK17+'Jul-Dez 2027'!BK17","v":0},{"$nulls":3},0,0,0,null,0,0,0,0,0,0,0,{"$f":"'Jan-Jun 2024'!CB17","v":0},{"$f":"'Jan-Jun 2024'!CA17+'Jul-Dez 2024'!CA17+'Jan-Jun 2025'!CA17+'Jul-Dez 2025'!CA17+'Jan-Jun 2026'!CA17+'Jul-Dez 2026'!CA17+'Jan-Jun 2027'!CA17+'Jul-Dez 2027'!CA17","v":0}]
["20h10 - 21h00",{"$nulls":15},"Nossa",{"$nulls":17},"M","ELE",0,0,0,50,0,0,0,0,0,0,0,{"$f":"'Jan-Jun 2024'!AV18","v":0},{"$f":"'Jan-Jun 2024'!AU18+'Jul-Dez 2024'!AU18+'Jan-Jun 2025'!AU18+'Jul-Dez 2025'!AU18+'Jan-Jun 2026'!AU18+'Jul-Dez 2026'!AU18+'Jan-Jun 2027'!AU18+'Jul-Dez 2027'!AU18","v":0},null,"T","DT",0,0,0,25,0,0,0,0,0,0,0,{"$f":"'Jan-Jun 2024'!BL18","v":0},{"$f":"'Jan-Jun 2024'!BK18+'Jul-Dez 2024'!BK18+'Jan-Jun 2025'!BK18+'Jul-Dez 2025'!BK18+'Jan-Jun 2026'!BK18+'Jul-Dez 2026'!BK18+'Jan-Jun 2027'!BK18+'Jul-Dez 2027'!BK18","v":0},{"$nulls":3},0,0,0,null,0,0,0,0,0,0,0,{"$f":"'Jan-Jun 2024'!CB18","v":0},{"$f":"'Jan-Jun 2024'!CA18+'Jul-Dez 2024'!CA18+'Jan-Jun 2025'!CA18+'Jul-Dez 2025'!CA18+'Jan-Jun 2026'!CA18+'Jul-Dez 2026'!CA18+'Jan-Jun 2027'!CA18+'Jul-Dez 2027'!CA18","v":0}]
["21h20 - 22h10",{"$nulls":15},"Senhora",{"$nulls":17},"M","CP",0,0,0,25,0,0,0,0,0,0,0,{"$f":"'Jan-Jun 2024'!AV19","v":0},{"$f":"'Jan-Jun 2024'!AU19+'Jul-Dez 2024'!AU19+'Jan-Jun 2025'!AU19+'Jul-Dez 2025'!AU19+'Jan-Jun 2026'!AU19+'Jul-Dez 2026'!AU19+'Jan-Jun 2027'!AU19+'Jul-Dez 2027'!AU19","v":0},{"$nulls":3},0,0,0,null,0,0,0,0,0,0,0,{"$f":"'Jan-Jun 2024'!BL19","v":0},{"$f":"'Jan-Jun 2024'!BK19+'Jul-Dez 2024'!BK19+'Jan-Jun 2025'!BK19+'Jul-Dez 2025'!BK19+'Jan-Jun 2026'!BK19+'Jul-Dez 2026'!BK19+'Jan-Jun 2027'!BK19+'Jul-Dez 2027'!BK19","v":0},{"$nulls":3},0,0,0,null,0,0,0,0,0,0,0,{"$f":"'Jan-Jun 2024'!CB19","v":0},{"$f":"'Jan-Jun 2024'!CA19+'Jul-Dez 2024'!CA19+'Jan-Jun 2025'!CA19+'Jul-Dez 2025'!CA19+'Jan-Jun 2026'!CA19+'Jul-Dez 2026'!CA19+'Jan-Jun 2027'!CA19+'Jul-Dez 2027'!CA19","v":0}]
["22h10 - 23h00",{"$nulls":35},0,0,0,null,0,0,0,0,0,0,0,{"$f":"'Jan-Jun 2024'!AV20","v":0},{"$f":"'Jan-Jun 2024'!AU20+'Jul-Dez 2024'!AU20+'Jan-Jun 2025'!AU20+'Jul-Dez 2025'!AU20+'Jan-Jun 2026'!AU20+'Jul-Dez 2026'!AU20+'Jan-Jun 2027'!AU20+'Jul-Dez 2027'!AU20","v":0},{"$nulls":3},0,0,0,null,0,0,0,0,0,0,0,{"$f":"'Jan-Jun 2024'!BL20","v":0},{"$f":"'Jan-Jun 2024'!BK20+'Jul-Dez 2024'!BK20+'Jan-Jun 2025'!BK20+'Jul-Dez 2025'!BK20+'Jan-Jun 2026'!BK20+'Jul-Dez 2026'!BK20+'Jan-Jun 2027'!BK20+'Jul-Dez 2027'!BK20","v":0},{"$nulls":3},0,0,0,null,0,0,0,0,0,0,0,{"$f":"'Jan-Jun 2024'!CB20","v":0},{"$f":"'Jan-Jun 2024'!CA20+'Jul-Dez 2024'!CA20+'Jan-Jun 2025'!CA20+'Jul-Dez 2025'!CA20+'Jan-Jun 2026'!CA20+'Jul-Dez 2026'!CA20+'Jan-Jun 2027'!CA20+'Jul-Dez 2027'!CA20","v":0}]
[{"$nulls":36},0,0,0,null,0,0,0,0,0,0,0,{"$f":"'Jan-Jun 2024'!AV21","v":0},{"$f":"'Jan-Jun 2024'!AU21+'Jul-Dez 2024'!AU21+'Jan-Jun 2025'!AU21+'Jul-Dez 2025'!AU21+'Jan-Jun 2026'!AU21+'Jul-Dez 2026'!AU21+'Jan-Jun 2027'!AU21+'Jul-Dez 2027'!AU21","v":0},{"$nulls":3},0,0,0,null,0,0,0,0,0,0,0,{"$f":"'Jan-Jun 2024'!BL21","v":0},{"$f":"'Jan-Jun 2024'!BK21+'Jul-Dez 2024'!BK21+'Jan-Jun 2025'!BK21+'Jul-Dez 2025'!BK21+'Jan-Jun 2026'!BK21+'Jul-Dez 2026'!BK21+'Jan-Jun 2027'!BK21+'Jul-Dez 2027'!BK21","v":0},{"$nulls":3},0,0,0,null,0,0,0,0,0,0,0,{"$f":"'Jan-Jun 2024'!CB21","v":0},{"$f":"'Jan-Jun 2024'!CA21+'Jul-Dez 2024'!CA21+'Jan-Jun 2025'!CA21+'Jul-Dez 2025'!CA21+'Jan-Jun 2026'!CA21+'Jul-Dez 2026'!CA21+'Jan-Jun 2027'!CA21+'Jul-Dez 2027'!CA21","v":0}]
[{"$f":"A15+DAY(EOMONTH(A15,0))","v":"2027-09-01"},null,{"$f":"IF(C23<>\"\",CHOOSE(WEEKDAY(C23,1),\"Dom.\",\"Seg.\",\"Ter.\",\"Qua.\",\"Qui.\",\"Sex.\",\"Sáb.\"),\"\")","v":"Qua."},{"$f":"IF(D23<>\"\",CHOOSE(WEEKDAY(D23,1),\"Dom.\",\"Seg.\",\"Ter.\",\"Qua.\",\"Qui.\",\"Sex.\",\"Sáb.\"),\"\")","v":"Qui."},"Sex.","Sáb.","Dom.","Seg.","Ter.","Qua.","Qui.","Sex.","Sáb.","Dom.","Seg.","Ter.","Qua.","Qui.","Sex.","Sáb.","Dom.","Seg.","Ter.","Qua.","Qui.","Sex.","Sáb.","Dom.","Seg.","Ter.","Qua.","Qui.","",{"$nulls":3},0,0,0,null,0,0,0,0,0,0,0,{"$f":"'Jan-Jun 2024'!AV22","v":0},{"$f":"'Jan-Jun 2024'!AU22+'Jul-Dez 2024'!AU22+'Jan-Jun 2025'!AU22+'Jul-Dez 2025'!AU22+'Jan-Jun 2026'!AU22+'Jul-Dez 2026'!AU22+'Jan-Jun 2027'!AU22+'Jul-Dez 2027'!AU22","v":0},null,"M","ICS",0,0,0,25,0,0,0,0,0,0,0,{"$f":"'Jan-Jun 2024'!BL22","v":0},{"$f":"'Jan-Jun 2024'!BK22+'Jul-Dez 2024'!BK22+'Jan-Jun 2025'!BK22+'Jul-Dez 2025'!BK22+'Jan-Jun 2026'!BK22+'Jul-Dez 2026'!BK22+'Jan-Jun 2027'!BK22+'Jul-Dez 2027'!BK22","v":0},{"$nulls":3},0,0,0,null,0,0,0,0,0,0,0,{"$f":"'Jan-Jun 2024'!CB22","v":0},{"$f":"'Jan-Jun 2024'!CA22+'Jul-Dez 2024'!CA22+'Jan-Jun 2025'!CA22+'Jul-Dez 2025'!CA22+'Jan-Jun 2026'!CA22+'Jul-Dez 2026'!CA22+'Jan-Jun 2027'!CA22+'Jul-Dez 2027'!CA22","v":0}]
[null,null,{"$f":"A22","v":"2027-09-01"},{"$f":"IF(C23=\"\",\"\",IF(DAY(C23)<DAY(EOMONTH(C23,0)),C23+1,\"\"))","v":"2027-09-02"},"2027-09-03","2027-09-04","2027-09-05","2027-09-06","2027-09-07","2027-09-08","2027-09-09","2027-09-10","2027-09-11","2027-09-12","2027-09-13","2027-09-14","2027-09-15","2027-09-16","2027-09-17","2027-09-18","2027-09-19","2027-09-20","2027-09-21","2027-09-22","2027-09-23","2027-09-24","2027-09-25","2027-09-26","2027-09-27","2027-09-28","2027-09-29","2027-09-30","",null,"M","CH",0,0,0,25,0,0,0,0,0,0,0,{"$f":"'Jan-Jun 2024'!AV23","v":0},{"$f":"'Jan-Jun 2024'!AU23+'Jul-Dez 2024'!AU23+'Jan-Jun 2025'!AU23+'Jul-Dez 2025'!AU23+'Jan-Jun 2026'!AU23+'Jul-Dez 2026'!AU23+'Jan-Jun 2027'!AU23+'Jul-Dez 2027'!AU23","v":0},{"$nulls":3},0,0,0,null,0,0,0,0,0,0,0,{"$f":"'Jan-Jun 2024'!BL23","v":0},{"$f":"'Jan-Jun 2024'!BK23+'Jul-Dez 2024'!BK23+'Jan-Jun 2025'!BK23+'Jul-Dez 2025'!BK23+'Jan-Jun 2026'!BK23+'Jul-Dez 2026'!BK23+'Jan-Jun 2027'!BK23+'Jul-Dez 2027'!BK23","v":0},{"$nulls":3},0,0,0,null,0,0,0,0,0,0,0,{"$f":"'Jan-Jun 2024'!CB23","v":0},{"$f":"'Jan-Jun 2024'!CA23+'Jul-Dez 2024'!CA23+'Jan-Jun 2025'!CA23+'Jul-Dez 2025'!CA23+'Jan-Jun 2026'!CA23+'Jul-Dez 2026'!CA23+'Jan-Jun 2027'!CA23+'Jul-Dez 2027'!CA23","v":0}]
["19h20 - 20h10",{"$nulls":33},"M","CLP",0,0,0,50,0,0,0,0,0,0,0,{"$f":"'Jan-Jun 2024'!AV24","v":0},{"$f":"'Jan-Jun 2024'!AU24+'Jul-Dez 2024'!AU24+'Jan-Jun 2025'!AU24+'Jul-Dez 2025'!AU24+'Jan-Jun 2026'!AU24+'Jul-Dez 2026'!AU24+'Jan-Jun 2027'!AU24+'Jul-Dez 2027'!AU24","v":0},{"$nulls":3},0,0,0,null,0,0,0,0,0,0,0,{"$f":"'Jan-Jun 2024'!BL24","v":0},{"$f":"'Jan-Jun 2024'!BK24+'Jul-Dez 2024'!BK24+'Jan-Jun 2025'!BK24+'Jul-Dez 2025'!BK24+'Jan-Jun 2026'!BK24+'Jul-Dez 2026'!BK24+'Jan-Jun 2027'!BK24+'Jul-Dez 2027'!BK24","v":0},{"$nulls":3},0,0,0,null,0,0,0,0,0,0,0,{"$f":"'Jan-Jun 2024'!CB24","v":0},{"$f":"'Jan-Jun 2024'!CA24+'Jul-Dez 2024'!CA24+'Jan-Jun 2025'!CA24+'Jul-Dez 2025'!CA24+'Jan-Jun 2026'!CA24+'Jul-Dez 2026'!CA24+'Jan-Jun 2027'!CA24+'Jul-Dez 2027'!CA24","v":0}]
["20h10 - 21h00",{"$nulls":35},0,0,0,null,0,0,0,0,0,0,0,{"$f":"'Jan-Jun 2024'!AV25","v":0},{"$f":"'Jan-Jun 2024'!AU25+'Jul-Dez 2024'!AU25+'Jan-Jun 2025'!AU25+'Jul-Dez 2025'!AU25+'Jan-Jun 2026'!AU25+'Jul-Dez 2026'!AU25+'Jan-Jun 2027'!AU25+'Jul-Dez 2027'!AU25","v":0},{"$nulls":3},0,0,0,null,0,0,0,0,0,0,0,{"$f":"'Jan-Jun 2024'!BL25","v":0},{"$f":"'Jan-Jun 2024'!BK25+'Jul-Dez 2024'!BK25+'Jan-Jun 2025'!BK25+'Jul-Dez 2025'!BK25+'Jan-Jun 2026'!BK25+'Jul-Dez 2026'!BK25+'Jan-Jun 2027'!BK25+'Jul-Dez 2027'!BK25","v":0},{"$nulls":3},0,0,0,null,0,0,0,0,0,0,0,{"$f":"'Jan-Jun 2024'!CB25","v":0},{"$f":"'Jan-Jun 2024'!CA25+'Jul-Dez 2024'!CA25+'Jan-Jun 2025'!CA25+'Jul-Dez 2025'!CA25+'Jan-Jun 2026'!CA25+'Jul-Dez 2026'!CA25+'Jan-Jun 2027'!CA25+'Jul-Dez 2027'!CA25","v":0}]
["21h20 - 22h10",{"$nulls":35},0,0,0,null,0,0,0,0,0,0,0,{"$f":"'Jan-Jun 2024'!AV26","v":0},{"$f":"'Jan-Jun 2024'!AU26+'Jul-Dez 2024'!AU26+'Jan-Jun 2025'!AU26+'Jul-Dez 2025'!AU26+'Jan-Jun 2026'!AU26+'Jul-Dez 2026'!AU26+'Jan-Jun 2027'!AU26+'Jul-Dez 2027'!AU26","v":0},{"$nulls":3},0,0,0,null,0,0,0,0,0,0,0,{"$f":"'Jan-Jun 2024'!BL26","v":0},{"$f":"'Jan-Jun 2024'!BK26+'Jul-Dez 2024'!BK26+'Jan-Jun 2025'!BK26+'Jul-Dez 2025'!BK26+'Jan-Jun 2026'!BK26+'Jul-Dez 2026'!BK26+'Jan-Jun 2027'!BK26+'Jul-Dez 2027'!BK26","v":0},{"$nulls":3},0,0,0,null,0,0,0,0,0,0,0,{"$f":"'Jan-Jun 2024'!CB26","v":0},{"$f":"'Jan-Jun 2024'!CA26+'Jul-Dez 2024'!CA26+'Jan-Jun 2025'!CA26+'Jul-Dez 2025'!CA26+'Jan-Jun 2026'!CA26+'Jul-Dez 2026'!CA26+'Jan-Jun 2027'!CA26+'Jul-Dez 2027'!CA26","v":0}]
["22h10 - 23h00",{"$nulls":35},0,0,0,null,0,0,0,0,0,0,0,{"$f":"'Jan-Jun 2024'!AV27","v":0},{"$f":"'Jan-Jun 2024'!AU27+'Jul-Dez 2024'!AU27+'Jan-Jun 2025'!AU27+'Jul-Dez 2025'!AU27+'Jan-Jun 2026'!AU27+'Jul-Dez 2026'!AU27+'Jan-Jun 2027'!AU27+'Jul-Dez 2027'!AU27","v":0},{"$nulls":3},0,0,0,null,0,0,0,0,0,0,0,{"$f":"'Jan-Jun 2024'!BL27","v":0},{"$f":"'Jan-Jun 2024'!BK27+'Jul-Dez 2024'!BK27+'Jan-Jun 2025'!BK27+'Jul-Dez 2025'!BK27+'Jan-Jun 2026'!BK27+'Jul-Dez 2026'!BK27+'Jan-Jun 2027'!BK27+'Jul-Dez 2027'!BK27","v":0},{"$nulls":3},0,0,0,null,0,0,0,0,0,0,0,{"$f":"'Jan-Jun 2024'!CB27","v":0},{"$f":"'Jan-Jun 2024'!CA27+'Jul-Dez 2024'!CA27+'Jan-Jun 2025'!CA27+'Jul-Dez 2025'!CA27+'Jan-Jun 2026'!CA27+'Jul-Dez 2026'!CA27+'Jan-Jun 2027'!CA27+'Jul-Dez 2027'!CA27","v":0}]
[{"$nulls":34},"M","DCM",0,0,0,50,0,0,0,0,0,0,0,{"$f":"'Jan-Jun 2024'!AV28","v":0},{"$f":"'Jan-Jun 2024'!AU28+'Jul-Dez 2024'!AU28+'Jan-Jun 2025'!AU28+'Jul-Dez 2025'!AU28+'Jan-Jun 2026'!AU28+'Jul-Dez 2026'!AU28+'Jan-Jun 2027'!AU28+'Jul-Dez 2027'!AU28","v":0},{"$nulls":3},0,0,0,null,0,0,0,0,0,0,0,{"$f":"'Jan-Jun 2024'!BL28","v":0},{"$f":"'Jan-Jun 2024'!BK28+'Jul-Dez 2024'!BK28+'Jan-Jun 2025'!BK28+'Jul-Dez 2025'!BK28+'Jan-Jun 2026'!BK28+'Jul-Dez 2026'!BK28+'Jan-Jun 2027'!BK28+'Jul-Dez 2027'!BK28","v":0},{"$nulls":3},0,0,0,null,0,0,0,0,0,0,0,{"$f":"'Jan-Jun 2024'!CB28","v":0},{"$f":"'Jan-Jun 2024'!CA28+'Jul-Dez 2024'!CA28+'Jan-Jun 2025'!CA28+'Jul-Dez 2025'!CA28+'Jan-Jun 2026'!CA28+'Jul-Dez 2026'!CA28+'Jan-Jun 2027'!CA28+'Jul-Dez 2027'!CA28","v":0}]
[{"$f":"A22+DAY(EOMONTH(A22,0))","v":"2027-10-01"},null,{"$f":"IF(C30<>\"\",CHOOSE(WEEKDAY(C30,1),\"Dom.\",\"Seg.\",\"Ter.\",\"Qua.\",\"Qui.\",\"Sex.\",\"Sáb.\"),\"\")","v":"Sex."},{"$f":"IF(D30<>\"\",CHOOSE(WEEKDAY(D30,1),\"Dom.\",\"Seg.\",\"Ter.\",\"Qua.\",\"Qui.\",\"Sex.\",\"Sáb.\"),\"\")","v":"Sáb."},"Dom.","Seg.","Ter.","Qua.","Qui.","Sex.","Sáb.","Dom.","Seg.","Ter.","Qua.","Qui.","Sex.","Sáb.","Dom.","Seg.","Ter.","Qua.","Qui.","Sex.","Sáb.","Dom.","Seg.","Ter.","Qua.","Qui.","Sex.","Sáb.","Dom.",null,"M","CM",0,0,0,50,0,0,0,0,0,0,0,{"$f":"'Jan-Jun 2024'!AV29","v":0},{"$f":"'Jan-Jun 2024'!AU29+'Jul-Dez 2024'!AU29+'Jan-Jun 2025'!AU29+'Jul-Dez 2025'!AU29+'Jan-Jun 2026'!AU29+'Jul-Dez 2026'!AU29+'Jan-Jun 2027'!AU29+'Jul-Dez 2027'!AU29","v":0},{"$nulls":3},0,0,0,null,0,0,0,0,0,0,0,{"$f":"'Jan-Jun 2024'!BL29","v":0},{"$f":"'Jan-Jun 2024'!BK29+'Jul-Dez 2024'!BK29+'Jan-Jun 2025'!BK29+'Jul-Dez 2025'!BK29+'Jan-Jun 2026'!BK29+'Jul-Dez 2026'!BK29+'Jan-Jun 2027'!BK29+'Jul-Dez 2027'!BK29","v":0},{"$nulls":3},0,0,0,null,0,0,0,0,0,0,0,{"$f":"'Jan-Jun 2024'!CB29","v":0},{"$f":"'Jan-Jun 2024'!CA29+'Jul-Dez 2024'!CA29+'Jan-Jun 2025'!CA29+'Jul-Dez 2025'!CA29+'Jan-Jun 2026'!CA29+'Jul-Dez 2026'!CA29+'Jan-Jun 2027'!CA29+'Jul-Dez 2027'!CA29","v":0}]
[null,null,{"$f":"A29","v":"2027-10-01"},{"$f":"IF(C30=\"\",\"\",IF(DAY(C30)<DAY(EOMONTH(C30,0)),C30+1,\"\"))","v":"2027-10-02"},"2027-10-03","2027-10-04","2027-10-05","2027-10-06","2027-10-07","2027-10-08","2027-10-09","2027-10-10","2027-10-11","2027-10-12","2027-10-13","2027-10-14","2027-10-15","2027-10-16","2027-10-17","2027-10-18","2027-10-19","2027-10-20","2027-10-21","2027-10-22","2027-10-23","2027-10-24","2027-10-25","2027-10-26","2027-10-27","2027-10-28","2027-10-29","2027-10-30","2027-10-31",null,"M","SD",0,0,0,50,0,0,0,0,0,0,0,{"$f":"'Jan-Jun 2024'!AV30","v":0},{"$f":"'Jan-Jun 2024'!AU30+'Jul-Dez 2024'!AU30+'Jan-Jun 2025'!AU30+'Jul-Dez 2025'!AU30+'Jan-Jun 2026'!AU30+'Jul-Dez 2026'!AU30+'Jan-Jun 2027'!AU30+'Jul-Dez 2027'!AU30","v":0},{"$nulls":3},0,0,0,null,0,0,0,0,0,0,0,{"$f":"'Jan-Jun 2024'!BL30","v":0},{"$f":"'Jan-Jun 2024'!BK30+'Jul-Dez 2024'!BK30+'Jan-Jun 2025'!BK30+'Jul-Dez 2025'!BK30+'Jan-Jun 2026'!BK30+'Jul-Dez 2026'!BK30+'Jan-Jun 2027'!BK30+'Jul-Dez 2027'!BK30","v":0},{"$nulls":3},0,0,0,null,0,0,0,0,0,0,0,{"$f":"'Jan-Jun 2024'!CB30","v":0},{"$f":"'Jan-Jun 2024'!CA30+'Jul-Dez 2024'!CA30+'Jan-Jun 2025'!CA30+'Jul-Dez 2025'!CA30+'Jan-Jun 2026'!CA30+'Jul-Dez 2026'!CA30+'Jan-Jun 2027'!CA30+'Jul-Dez 2027'!CA30","v":0}]
["19h20 - 20h10",{"$nulls":33},"M","OEM",0,0,0,50,0,0,0,0,0,0,0,{"$f":"'Jan-Jun 2024'!AV31","v":0},{"$f":"'Jan-Jun 2024'!AU31+'Jul-Dez 2024'!AU31+'Jan-Jun 2025'!AU31+'Jul-Dez 2025'!AU31+'Jan-Jun 2026'!AU31+'Jul-Dez 2026'!AU31+'Jan-Jun 2027'!AU31+'Jul-Dez 2027'!AU31","v":0},{"$nulls":3},0,0,0,null,0,0,0,0,0,0,0,{"$f":"'Jan-Jun 2024'!BL31","v":0},{"$f":"'Jan-Jun 2024'!BK31+'Jul-Dez 2024'!BK31+'Jan-Jun 2025'!BK31+'Jul-Dez 2025'!BK31+'Jan-Jun 2026'!BK31+'Jul-Dez 2026'!BK31+'Jan-Jun 2027'!BK31+'Jul-Dez 2027'!BK31","v":0},{"$nulls":3},0,0,0,null,0,0,0,0,0,0,0,{"$f":"'Jan-Jun 2024'!CB31","v":0},{"$f":"'Jan-Jun 2024'!CA31+'Jul-Dez 2024'!CA31+'Jan-Jun 2025'!CA31+'Jul-Dez 2025'!CA31+'Jan-Jun 2026'!CA31+'Jul-Dez 2026'!CA31+'Jan-Jun 2027'!CA31+'Jul-Dez 2027'!CA31","v":0}]
["20h10 - 21h00",{"$nulls":5},"Repúb.",{"$nulls":27},"M","IP",0,0,0,50,0,0,0,0,0,0,0,{"$f":"'Jan-Jun 2024'!AV32","v":0},{"$f":"'Jan-Jun 2024'!AU32+'Jul-Dez 2024'!AU32+'Jan-Jun 2025'!AU32+'Jul-Dez 2025'!AU32+'Jan-Jun 2026'!AU32+'Jul-Dez 2026'!AU32+'Jan-Jun 2027'!AU32+'Jul-Dez 2027'!AU32","v":0},null,"M","EG",0,0,0,50,0,0,0,0,0,0,0,{"$f":"'Jan-Jun 2024'!BL32","v":0},{"$f":"'Jan-Jun 2024'!BK32+'Jul-Dez 2024'!BK32+'Jan-Jun 2025'!BK32+'Jul-Dez 2025'!BK32+'Jan-Jun 2026'!BK32+'Jul-Dez 2026'!BK32+'Jan-Jun 2027'!BK32+'Jul-Dez 2027'!BK32","v":0},{"$nulls":3},0,0,0,null,0,0,0,0,0,0,0,{"$f":"'Jan-Jun 2024'!CB32","v":0},{"$f":"'Jan-Jun 2024'!CA32+'Jul-Dez 2024'!CA32+'Jan-Jun 2025'!CA32+'Jul-Dez 2025'!CA32+'Jan-Jun 2026'!CA32+'Jul-Dez 2026'!CA32+'Jan-Jun 2027'!CA32+'Jul-Dez 2027'!CA32","v":0}]
["21h20 - 22h10",{"$nulls":35},0,0,0,null,0,0,0,0,0,0,0,{"$f":"'Jan-Jun 2024'!AV33","v":0},{"$f":"'Jan-Jun 2024'!AU33+'Jul-Dez 2024'!AU33+'Jan-Jun 2025'!AU33+'Jul-Dez 2025'!AU33+'Jan-Jun 2026'!AU33+'Jul-Dez 2026'!AU33+'Jan-Jun 2027'!AU33+'Jul-Dez 2027'!AU33","v":0},{"$nulls":3},0,0,0,null,0,0,0,0,0,0,0,{"$f":"'Jan-Jun 2024'!BL33","v":0},{"$f":"'Jan-Jun 2024'!BK33+'Jul-Dez 2024'!BK33+'Jan-Jun 2025'!BK33+'Jul-Dez 2025'!BK33+'Jan-Jun 2026'!BK33+'Jul-Dez 2026'!BK33+'Jan-Jun 2027'!BK33+'Jul-Dez 2027'!BK33","v":0},{"$nulls":3},0,0,0,null,0,0,0,0,0,0,0,{"$f":"'Jan-Jun 2024'!CB33","v":0},{"$f":"'Jan-Jun 2024'!CA33+'Jul-Dez 2024'!CA33+'Jan-Jun 2025'!CA33+'Jul-Dez 2025'!CA33+'Jan-Jun 2026'!CA33+'Jul-Dez 2026'!CA33+'Jan-Jun 2027'!CA33+'Jul-Dez 2027'!CA33","v":0}]
["22h10 - 23h00",{"$nulls":33},"M","ELP",0,0,0,50,0,0,0,0,0,0,0,{"$f":"'Jan-Jun 2024'!AV34","v":0},{"$f":"'Jan-Jun 2024'!AU34+'Jul-Dez 2024'!AU34+'Jan-Jun 2025'!AU34+'Jul-Dez 2025'!AU34+'Jan-Jun 2026'!AU34+'Jul-Dez 2026'!AU34+'Jan-Jun 2027'!AU34+'Jul-Dez 2027'!AU34","v":0},null,"M","IGE",0,0,0,60,0,0,0,0,0,0,0,{"$f":"'Jan-Jun 2024'!BL34","v":0},{"$f":"'Jan-Jun 2024'!BK34+'Jul-Dez 2024'!BK34+'Jan-Jun 2025'!BK34+'Jul-Dez 2025'!BK34+'Jan-Jun 2026'!BK34+'Jul-Dez 2026'!BK34+'Jan-Jun 2027'!BK34+'Jul-Dez 2027'!BK34","v":0},{"$nulls":3},0,0,0,null,0,0,0,0,0,0,0,{"$f":"'Jan-Jun 2024'!CB34","v":0},{"$f":"'Jan-Jun 2024'!CA34+'Jul-Dez 2024'!CA34+'Jan-Jun 2025'!CA34+'Jul-Dez 2025'!CA34+'Jan-Jun 2026'!CA34+'Jul-Dez 2026'!CA34+'Jan-Jun 2027'!CA34+'Jul-Dez 2027'!CA34","v":0}]
[{"$nulls":36},0,0,0,null,0,0,0,0,0,0,0,{"$f":"'Jan-Jun 2024'!AV35","v":0},{"$f":"'Jan-Jun 2024'!AU35+'Jul-Dez 2024'!AU35+'Jan-Jun 2025'!AU35+'Jul-Dez 2025'!AU35+'Jan-Jun 2026'!AU35+'Jul-Dez 2026'!AU35+'Jan-Jun 2027'!AU35+'Jul-Dez 2027'!AU35","v":0},{"$nulls":3},0,0,0,null,0,0,0,0,0,0,0,{"$f":"'Jan-Jun 2024'!BL35","v":0},{"$f":"'Jan-Jun 2024'!BK35+'Jul-Dez 2024'!BK35+'Jan-Jun 2025'!BK35+'Jul-Dez 2025'!BK35+'Jan-Jun 2026'!BK35+'Jul-Dez 2026'!BK35+'Jan-Jun 2027'!BK35+'Jul-Dez 2027'!BK35","v":0},{"$nulls":3},0,0,0,null,0,0,0,0,0,0,0,{"$f":"'Jan-Jun 2024'!CB35","v":0},{"$f":"'Jan-Jun 2024'!CA35+'Jul-Dez 2024'!CA35+'Jan-Jun 2025'!CA35+'Jul-Dez 2025'!CA35+'Jan-Jun 2026'!CA35+'Jul-Dez 2026'!CA35+'Jan-Jun 2027'!CA35+'Jul-Dez 2027'!CA35","v":0}]
[{"$f":"A29+DAY(EOMONTH(A29,0))","v":"2027-11-01"},null,{"$f":"IF(C37<>\"\",CHOOSE(WEEKDAY(C37,1),\"Dom.\",\"Seg.\",\"Ter.\",\"Qua.\",\"Qui.\",\"Sex.\",\"Sáb.\"),\"\")","v":"Seg."},{"$f":"IF(D37<>\"\",CHOOSE(WEEKDAY(D37,1),\"Dom.\",\"Seg.\",\"Ter.\",\"Qua.\",\"Qui.\",\"Sex.\",\"Sáb.\"),\"\")","v":"Ter."},"Qua.","Qui.","Sex.","Sáb.","Dom.","Seg.","Ter.","Qua.","Qui.","Sex.","Sáb.","Dom.","Seg.","Ter.","Qua.","Qui.","Sex.","Sáb.","Dom.","Seg.","Ter.","Qua.","Qui.","Sex.","Sáb.","Dom.","Seg.","Ter.","",{"$nulls":3},0,0,0,null,0,0,0,0,0,0,0,{"$f":"'Jan-Jun 2024'!AV36","v":0},{"$f":"'Jan-Jun 2024'!AU36+'Jul-Dez 2024'!AU36+'Jan-Jun 2025'!AU36+'Jul-Dez 2025'!AU36+'Jan-Jun 2026'!AU36+'Jul-Dez 2026'!AU36+'Jan-Jun 2027'!AU36+'Jul-Dez 2027'!AU36","v":0},{"$nulls":3},0,0,0,null,0,0,0,0,0,0,0,{"$f":"'Jan-Jun 2024'!BL36","v":0},{"$f":"'Jan-Jun 2024'!BK36+'Jul-Dez 2024'!BK36+'Jan-Jun 2025'!BK36+'Jul-Dez 2025'!BK36+'Jan-Jun 2026'!BK36+'Jul-Dez 2026'!BK36+'Jan-Jun 2027'!BK36+'Jul-Dez 2027'!BK36","v":0},{"$nulls":3},0,0,0,null,0,0,0,0,0,0,0,{"$f":"'Jan-Jun 2024'!CB36","v":0},{"$f":"'Jan-Jun 2024'!CA36+'Jul-Dez 2024'!CA36+'Jan-Jun 2025'!CA36+'Jul-Dez 2025'!CA36+'Jan-Jun 2026'!CA36+'Jul-Dez 2026'!CA36+'Jan-Jun 2027'!CA36+'Jul-Dez 2027'!CA36","v":0}]
[null,null,{"$f":"A36","v":"2027-11-01"},{"$f":"IF(C37=\"\",\"\",IF(DAY(C37)<DAY(EOMONTH(C37,0)),C37+1,\"\"))","v":"2027-11-02"},"2027-11-03","2027-11-04","2027-11-05","2027-11-06","2027-11-07","2027-11-08","2027-11-09","2027-11-10","2027-11-11","2027-11-12","2027-11-13","2027-11-14","2027-11-15","2027-11-16","2027-11-17","2027-11-18","2027-11-19","2027-11-20","2027-11-21","2027-11-22","2027-11-23","2027-11-24","2027-11-25","2027-11-26","2027-11-27","2027-11-28","2027-11-29","2027-11-30","",{"$nulls":3},0,0,0,null,0,0,0,0,0,0,0,{"$f":"'Jan-Jun 2024'!AV37","v":0},{"$f":"'Jan-Jun 2024'!AU37+'Jul-Dez 2024'!AU37+'Jan-Jun 2025'!AU37+'Jul-Dez 2025'!AU37+'Jan-Jun 2026'!AU37+'Jul-Dez 2026'!AU37+'Jan-Jun 2027'!AU37+'Jul-Dez 2027'!AU37","v":0},{"$nulls":3},0,0,0,null,0,0,0,0,0,0,0,{"$f":"'Jan-Jun 2024'!BL37","v":0},{"$f":"'Jan-Jun 2024'!BK37+'Jul-Dez 2024'!BK37+'Jan-Jun 2025'!BK37+'Jul-Dez 2025'!BK37+'Jan-Jun 2026'!BK37+'Jul-Dez 2026'!BK37+'Jan-Jun 2027'!BK37+'Jul-Dez 2027'!BK37","v":0},{"$nulls":3},0,0,0,null,0,0,0,0,0,0,0,{"$f":"'Jan-Jun 2024'!CB37","v":0},{"$f":"'Jan-Jun 2024'!CA37+'Jul-Dez 2024'!CA37+'Jan-Jun 2025'!CA37+'Jul-Dez 2025'!CA37+'Jan-Jun 2026'!CA37+'Jul-Dez 2026'!CA37+'Jan-Jun 2027'!CA37+'Jul-Dez 2027'!CA37","v":0}]
["19h20 - 20h10",{"$nulls":33},"M","MM",0,0,0,50,0,0,0,0,0,0,0,{"$f":"'Jan-Jun 2024'!AV38","v":0},{"$f":"'Jan-Jun 2024'!AU38+'Jul-Dez 2024'!AU38+'Jan-Jun 2025'!AU38+'Jul-Dez 2025'!AU38+'Jan-Jun 2026'!AU38+'Jul-Dez 2026'!AU38+'Jan-Jun 2027'!AU38+'Jul-Dez 2027'!AU38","v":0},{"$nulls":3},0,0,0,null,0,0,0,0,0,0,0,{"$f":"'Jan-Jun 2024'!BL38","v":0},{"$f":"'Jan-Jun 2024'!BK38+'Jul-Dez 2024'!BK38+'Jan-Jun 2025'!BK38+'Jul-Dez 2025'!BK38+'Jan-Jun 2026'!BK38+'Jul-Dez 2026'!BK38+'Jan-Jun 2027'!BK38+'Jul-Dez 2027'!BK38","v":0},{"$nulls":3},0,0,0,null,0,0,0,0,0,0,0,{"$f":"'Jan-Jun 2024'!CB38","v":0},{"$f":"'Jan-Jun 2024'!CA38+'Jul-Dez 2024'!CA38+'Jan-Jun 2025'!CA38+'Jul-Dez 2025'!CA38+'Jan-Jun 2026'!CA38+'Jul-Dez 2026'!CA38+'Jan-Jun 2027'!CA38+'Jul-Dez 2027'!CA38","v":0}]
["20h10 - 21h00",null,"Todos",{"$nulls":9},"São",{"$nulls":21},"M","ROB",0,0,0,50,0,0,0,0,0,0,0,{"$f":"'Jan-Jun 2024'!AV39","v":0},{"$f":"'Jan-Jun 2024'!AU39+'Jul-Dez 2024'!AU39+'Jan-Jun 2025'!AU39+'Jul-Dez 2025'!AU39+'Jan-Jun 2026'!AU39+'Jul-Dez 2026'!AU39+'Jan-Jun 2027'!AU39+'Jul-Dez 2027'!AU39","v":0},{"$nulls":3},0,0,0,null,0,0,0,0,0,0,0,{"$f":"'Jan-Jun 2024'!BL39","v":0},{"$f":"'Jan-Jun 2024'!BK39+'Jul-Dez 2024'!BK39+'Jan-Jun 2025'!BK39+'Jul-Dez 2025'!BK39+'Jan-Jun 2026'!BK39+'Jul-Dez 2026'!BK39+'Jan-Jun 2027'!BK39+'Jul-Dez 2027'!BK39","v":0},{"$nulls":3},0,0,0,null,0,0,0,0,0,0,0,{"$f":"'Jan-Jun 2024'!CB39","v":0},{"$f":"'Jan-Jun 2024'!CA39+'Jul-Dez 2024'!CA39+'Jan-Jun 2025'!CA39+'Jul-Dez 2025'!CA39+'Jan-Jun 2026'!CA39+'Jul-Dez 2026'!CA39+'Jan-Jun 2027'!CA39+'Jul-Dez 2027'!CA39","v":0}]
["21h20 - 22h10",null,"Santos",{"$nulls":9},"Marti.",{"$nulls":23},0,0,0,null,0,0,0,0,0,0,0,{"$f":"'Jan-Jun 2024'!AV40","v":0},{"$f":"'Jan-Jun 2024'!AU40+'Jul-Dez 2024'!AU40+'Jan-Jun 2025'!AU40+'Jul-Dez 2025'!AU40+'Jan-Jun 2026'!AU40+'Jul-Dez 2026'!AU40+'Jan-Jun 2027'!AU40+'Jul-Dez 2027'!AU40","v":0},{"$nulls":3},0,0,0,null,0,0,0,0,0,0,0,{"$f":"'Jan-Jun 2024'!BL40","v":0},{"$f":"'Jan-Jun 2024'!BK40+'Jul-Dez 2024'!BK40+'Jan-Jun 2025'!BK40+'Jul-Dez 2025'!BK40+'Jan-Jun 2026'!BK40+'Jul-Dez 2026'!BK40+'Jan-Jun 2027'!BK40+'Jul-Dez 2027'!BK40","v":0},{"$nulls":3},0,0,0,null,0,0,0,0,0,0,0,{"$f":"'Jan-Jun 2024'!CB40","v":0},{"$f":"'Jan-Jun 2024'!CA40+'Jul-Dez 2024'!CA40+'Jan-Jun 2025'!CA40+'Jul-Dez 2025'!CA40+'Jan-Jun 2026'!CA40+'Jul-Dez 2026'!CA40+'Jan-Jun 2027'!CA40+'Jul-Dez 2027'!CA40","v":0}]
["22h10 - 23h00",{"$nulls":35},0,0,0,null,0,0,0,0,0,0,0,{"$f":"'Jan-Jun 2024'!AV41","v":0},{"$f":"'Jan-Jun 2024'!AU41+'Jul-Dez 2024'!AU41+'Jan-Jun 2025'!AU41+'Jul-Dez 2025'!AU41+'Jan-Jun 2026'!AU41+'Jul-Dez 2026'!AU41+'Jan-Jun 2027'!AU41+'Jul-Dez 2027'!AU41","v":0},{"$nulls":3},0,0,0,null,0,0,0,0,0,0,0,{"$f":"'Jan-Jun 2024'!BL41","v":0},{"$f":"'Jan-Jun 2024'!BK41+'Jul-Dez 2024'!BK41+'Jan-Jun 2025'!BK41+'Jul-Dez 2025'!BK41+'Jan-Jun 2026'!BK41+'Jul-Dez 2026'!BK41+'Jan-Jun 2027'!BK41+'Jul-Dez 2027'!BK41","v":0},{"$nulls":3},0,0,0,null,0,0,0,0,0,0,0,{"$f":"'Jan-Jun 2024'!CB41","v":0},{"$f":"'Jan-Jun 2024'!CA41+'Jul-Dez 2024'!CA41+'Jan-Jun 2025'!CA41+'Jul-Dez 2025'!CA41+'Jan-Jun 2026'!CA41+'Jul-Dez 2026'!CA41+'Jan-Jun 2027'!CA41+'Jul-Dez 2027'!CA41","v":0}]
[{"$nulls":36},0,0,0,null,0,0,0,0,0,0,0,{"$f":"'Jan-Jun 2024'!AV42","v":0},{"$f":"'Jan-Jun 2024'!AU42+'Jul-Dez 2024'!AU42+'Jan-Jun 2025'!AU42+'Jul-Dez 2025'!AU42+'Jan-Jun 2026'!AU42+'Jul-Dez 2026'!AU42+'Jan-Jun 2027'!AU42+'Jul-Dez 2027'!AU42","v":0},{"$nulls":3},0,0,0,null,0,0,0,0,0,0,0,{"$f":"'Jan-Jun 2024'!BL42","v":0},{"$f":"'Jan-Jun 2024'!BK42+'Jul-Dez 2024'!BK42+'Jan-Jun 2025'!BK42+'Jul-Dez 2025'!BK42+'Jan-Jun 2026'!BK42+'Jul-Dez 2026'!BK42+'Jan-Jun 2027'!BK42+'Jul-Dez 2027'!BK42","v":0},{"$nulls":3},0,0,0,null,0,0,0,0,0,0,0,{"$f":"'Jan-Jun 2024'!CB42","v":0},{"$f":"'Jan-Jun 2024'!CA42+'Jul-Dez 2024'!CA42+'Jan-Jun 2025'!CA42+'Jul-Dez 2025'!CA42+'Jan-Jun 2026'!CA42+'Jul-Dez 2026'!CA42+'Jan-Jun 2027'!CA42+'Jul-Dez 2027'!CA42","v":0}]
[{"$f":"A36+DAY(EOMONTH(A36,0))","v":"2027-12-01"},null,{"$f":"IF(C44<>\"\",CHOOSE(WEEKDAY(C44,1),\"Dom.\",\"Seg.\",\"Ter.\",\"Qua.\",\"Qui.\",\"Sex.\",\"Sáb.\"),\"\")","v":"Qua."},{"$f":"IF(D44<>\"\",CHOOSE(WEEKDAY(D44,1),\"Dom.\",\"Seg.\",\"Ter.\",\"Qua.\",\"Qui.\",\"Sex.\",\"Sáb.\"),\"\")","v":"Qui."},"Sex.","Sáb.","Dom.","Seg.","Ter.","Qua.","Qui.","Sex.","Sáb.","Dom.","Seg.","Ter.","Qua.","Qui.","Sex.","Sáb.","Dom.","Seg.","Ter.","Qua.","Qui.","Sex.","Sáb.","Dom.","Seg.","Ter.","Qua.","Qui.","Sex.",null,"T","MET",0,0,0,50,0,0,0,0,0,0,0,{"$f":"'Jan-Jun 2024'!AV43","v":0},{"$f":"'Jan-Jun 2024'!AU43+'Jul-Dez 2024'!AU43+'Jan-Jun 2025'!AU43+'Jul-Dez 2025'!AU43+'Jan-Jun 2026'!AU43+'Jul-Dez 2026'!AU43+'Jan-Jun 2027'!AU43+'Jul-Dez 2027'!AU43","v":0},{"$nulls":3},0,0,0,null,0,0,0,0,0,0,0,{"$f":"'Jan-Jun 2024'!BL43","v":0},{"$f":"'Jan-Jun 2024'!BK43+'Jul-Dez 2024'!BK43+'Jan-Jun 2025'!BK43+'Jul-Dez 2025'!BK43+'Jan-Jun 2026'!BK43+'Jul-Dez 2026'!BK43+'Jan-Jun 2027'!BK43+'Jul-Dez 2027'!BK43","v":0},{"$nulls":3},0,0,0,null,0,0,0,0,0,0,0,{"$f":"'Jan-Jun 2024'!CB43","v":0},{"$f":"'Jan-Jun 2024'!CA43+'Jul-Dez 2024'!CA43+'Jan-Jun 2025'!CA43+'Jul-Dez 2025'!CA43+'Jan-Jun 2026'!CA43+'Jul-Dez 2026'!CA43+'Jan-Jun 2027'!CA43+'Jul-Dez 2027'!CA43","v":0}]
[null,null,{"$f":"A43","v":"2027-12-01"},{"$f":"IF(C44=\"\",\"\",IF(DAY(C44)<DAY(EOMONTH(C44,0)),C44+1,\"\"))","v":"2027-12-02"},"2027-12-03","2027-12-04","2027-12-05","2027-12-06","2027-12-07","2027-12-08","2027-12-09","2027-12-10","2027-12-11","2027-12-12","2027-12-13","2027-12-14","2027-12-15","2027-12-16","2027-12-17","2027-12-18","2027-12-19","2027-12-20","2027-12-21","2027-12-22","2027-12-23","2027-12-24","2027-12-25","2027-12-26","2027-12-27","2027-12-28","2027-12-29","2027-12-30","2027-12-31",null,"P","MET1",0,0,0,26,0,0,0,0,0,0,0,{"$f":"'Jan-Jun 2024'!AV44","v":0},{"$f":"'Jan-Jun 2024'!AU44+'Jul-Dez 2024'!AU44+'Jan-Jun 2025'!AU44+'Jul-Dez 2025'!AU44+'Jan-Jun 2026'!AU44+'Jul-Dez 2026'!AU44+'Jan-Jun 2027'!AU44+'Jul-Dez 2027'!AU44","v":0},{"$nulls":3},0,0,0,null,0,0,0,0,0,0,0,{"$f":"'Jan-Jun 2024'!BL44","v":0},{"$f":"'Jan-Jun 2024'!BK44+'Jul-Dez 2024'!BK44+'Jan-Jun 2025'!BK44+'Jul-Dez 2025'!BK44+'Jan-Jun 2026'!BK44+'Jul-Dez 2026'!BK44+'Jan-Jun 2027'!BK44+'Jul-Dez 2027'!BK44","v":0},{"$nulls":3},0,0,0,null,0,0,0,0,0,0,0,{"$f":"'Jan-Jun 2024'!CB44","v":0},{"$f":"'Jan-Jun 2024'!CA44+'Jul-Dez 2024'!CA44+'Jan-Jun 2025'!CA44+'Jul-Dez 2025'!CA44+'Jan-Jun 2026'!CA44+'Jul-Dez 2026'!CA44+'Jan-Jun 2027'!CA44+'Jul-Dez 2027'!CA44","v":0}]
["19h20 - 20h10",{"$nulls":33},"P","MET2",0,0,0,24,0,0,0,0,0,0,0,{"$f":"'Jan-Jun 2024'!AV45","v":0},{"$f":"'Jan-Jun 2024'!AU45+'Jul-Dez 2024'!AU45+'Jan-Jun 2025'!AU45+'Jul-Dez 2025'!AU45+'Jan-Jun 2026'!AU45+'Jul-Dez 2026'!AU45+'Jan-Jun 2027'!AU45+'Jul-Dez 2027'!AU45","v":0},{"$nulls":3},0,0,0,null,0,0,0,0,0,0,0,{"$f":"'Jan-Jun 2024'!BL45","v":0},{"$f":"'Jan-Jun 2024'!BK45+'Jul-Dez 2024'!BK45+'Jan-Jun 2025'!BK45+'Jul-Dez 2025'!BK45+'Jan-Jun 2026'!BK45+'Jul-Dez 2026'!BK45+'Jan-Jun 2027'!BK45+'Jul-Dez 2027'!BK45","v":0},{"$nulls":3},0,0,0,null,0,0,0,0,0,0,0,{"$f":"'Jan-Jun 2024'!CB45","v":0},{"$f":"'Jan-Jun 2024'!CA45+'Jul-Dez 2024'!CA45+'Jan-Jun 2025'!CA45+'Jul-Dez 2025'!CA45+'Jan-Jun 2026'!CA45+'Jul-Dez 2026'!CA45+'Jan-Jun 2027'!CA45+'Jul-Dez 2027'!CA45","v":0}]
["20h10 - 21h00",null,"Rest.",{"$nulls":6},"Imacu.",{"$nulls":16},"Natal",{"$nulls":7},"P","MET3",0,0,0,0,0,0,0,0,0,0,0,{"$f":"'Jan-Jun 2024'!AV46","v":0},{"$f":"'Jan-Jun 2024'!AU46+'Jul-Dez 2024'!AU46+'Jan-Jun 2025'!AU46+'Jul-Dez 2025'!AU46+'Jan-Jun 2026'!AU46+'Jul-Dez 2026'!AU46+'Jan-Jun 2027'!AU46+'Jul-Dez 2027'!AU46","v":0},{"$nulls":3},0,0,0,null,0,0,0,0,0,0,0,{"$f":"'Jan-Jun 2024'!BL46","v":0},{"$f":"'Jan-Jun 2024'!BK46+'Jul-Dez 2024'!BK46+'Jan-Jun 2025'!BK46+'Jul-Dez 2025'!BK46+'Jan-Jun 2026'!BK46+'Jul-Dez 2026'!BK46+'Jan-Jun 2027'!BK46+'Jul-Dez 2027'!BK46","v":0},{"$nulls":3},0,0,{"$f":"IF(BO46=$DI$8,BR46,IF(BO46=$DI$9,BS47+BR46,IF(BO46=$DI$10,IF(BO47=$DI$10,BS47+BR46,BR46),)))","v":0},null,0,0,0,0,0,0,0,{"$f":"'Jan-Jun 2024'!CB46","v":0},{"$f":"'Jan-Jun 2024'!CA46+'Jul-Dez 2024'!CA46+'Jan-Jun 2025'!CA46+'Jul-Dez 2025'!CA46+'Jan-Jun 2026'!CA46+'Jul-Dez 2026'!CA46+'Jan-Jun 2027'!CA46+'Jul-Dez 2027'!CA46","v":0}]
["21h20 - 22h10",null,"Indep.",{"$nulls":6},"Concei.",{"$nulls":26},0,0,0,null,0,0,0,0,0,0,0,{"$f":"'Jan-Jun 2024'!AV47","v":0},{"$f":"'Jan-Jun 2024'!AU47+'Jul-Dez 2024'!AU47+'Jan-Jun 2025'!AU47+'Jul-Dez 2025'!AU47+'Jan-Jun 2026'!AU47+'Jul-Dez 2026'!AU47+'Jan-Jun 2027'!AU47+'Jul-Dez 2027'!AU47","v":0},{"$nulls":3},0,0,0,null,0,0,0,0,0,0,0,{"$f":"'Jan-Jun 2024'!BL47","v":0},{"$f":"'Jan-Jun 2024'!BK47+'Jul-Dez 2024'!BK47+'Jan-Jun 2025'!BK47+'Jul-Dez 2025'!BK47+'Jan-Jun 2026'!BK47+'Jul-Dez 2026'!BK47+'Jan-Jun 2027'!BK47+'Jul-Dez 2027'!BK47","v":0},{"$nulls":3},0,0,0,null,0,0,0,0,0,0,0,{"$f":"'Jan-Jun 2024'!CB47","v":0},{"$f":"'Jan-Jun 2024'!CA47+'Jul-Dez 2024'!CA47+'Jan-Jun 2025'!CA47+'Jul-Dez 2025'!CA47+'Jan-Jun 2026'!CA47+'Jul-Dez 2026'!CA47+'Jan-Jun 2027'!CA47+'Jul-Dez 2027'!CA47","v":0}]
["22h10 - 23h00",{"$nulls":35},0,0,0,null,0,0,0,0,0,0,0,{"$f":"'Jan-Jun 2024'!AV48","v":0},{"$f":"'Jan-Jun 2024'!AU48+'Jul-Dez 2024'!AU48+'Jan-Jun 2025'!AU48+'Jul-Dez 2025'!AU48+'Jan-Jun 2026'!AU48+'Jul-Dez 2026'!AU48+'Jan-Jun 2027'!AU48+'Jul-Dez 2027'!AU48","v":0},{"$nulls":3},0,0,0,null,0,0,0,0,0,0,0,{"$f":"'Jan-Jun 2024'!BL48","v":0},{"$f":"'Jan-Jun 2024'!BK48+'Jul-Dez 2024'!BK48+'Jan-Jun 2025'!BK48+'Jul-Dez 2025'!BK48+'Jan-Jun 2026'!BK48+'Jul-Dez 2026'!BK48+'Jan-Jun 2027'!BK48+'Jul-Dez 2027'!BK48","v":0},{"$nulls":3},0,0,0,null,0,0,0,0,0,0,0,{"$f":"'Jan-Jun 2024'!CB48","v":0},{"$f":"'Jan-Jun 2024'!CA48+'Jul-Dez 2024'!CA48+'Jan-Jun 2025'!CA48+'Jul-Dez 2025'!CA48+'Jan-Jun 2026'!CA48+'Jul-Dez 2026'!CA48+'Jan-Jun 2027'!CA48+'Jul-Dez 2027'!CA48","v":0}]
[null,"UFCD","Módulo",{"$nulls":6},"Cód.","H","Formador",null,null,"Ini.","Fim",null,"Componente",null,null,"Módulo",{"$nulls":6},"H","Formador",null,null,"Ini.","Fim",null,"M","CNC",0,0,0,50,0,0,0,0,0,0,0,{"$f":"'Jan-Jun 2024'!AV49","v":0},{"$f":"'Jan-Jun 2024'!AU49+'Jul-Dez 2024'!AU49+'Jan-Jun 2025'!AU49+'Jul-Dez 2025'!AU49+'Jan-Jun 2026'!AU49+'Jul-Dez 2026'!AU49+'Jan-Jun 2027'!AU49+'Jul-Dez 2027'!AU49","v":0},{"$nulls":3},0,0,0,null,0,0,0,0,0,0,0,{"$f":"'Jan-Jun 2024'!BL49","v":0},{"$f":"'Jan-Jun 2024'!BK49+'Jul-Dez 2024'!BK49+'Jan-Jun 2025'!BK49+'Jul-Dez 2025'!BK49+'Jan-Jun 2026'!BK49+'Jul-Dez 2026'!BK49+'Jan-Jun 2027'!BK49+'Jul-Dez 2027'!BK49","v":0},{"$nulls":3},0,0,0,null,0,0,0,0,0,0,0,{"$f":"'Jan-Jun 2024'!CB49","v":0},{"$f":"'Jan-Jun 2024'!CA49+'Jul-Dez 2024'!CA49+'Jan-Jun 2025'!CA49+'Jul-Dez 2025'!CA49+'Jan-Jun 2026'!CA49+'Jul-Dez 2026'!CA49+'Jan-Jun 2027'!CA49+'Jul-Dez 2027'!CA49","v":0}]
["Formação Geral e Científica\n",5146,"IGO","Introdução à Gestão das Organizações",{"$nulls":5},"B153",25,"Filipa Norte",{"$nulls":5},"Formação Tecnologica",6407,"PFL","Processos de Fundição / Ligação",{"$nulls":5},"D333",25,"Pedro Santos",{"$nulls":5},"M","CAM",0,0,0,50,0,0,0,0,0,0,0,{"$f":"'Jan-Jun 2024'!AV50","v":0},{"$f":"'Jan-Jun 2024'!AU50+'Jul-Dez 2024'!AU50+'Jan-Jun 2025'!AU50+'Jul-Dez 2025'!AU50+'Jan-Jun 2026'!AU50+'Jul-Dez 2026'!AU50+'Jan-Jun 2027'!AU50+'Jul-Dez 2027'!AU50","v":0},{"$nulls":3},0,0,0,null,0,0,0,0,0,0,0,{"$f":"'Jan-Jun 2024'!BL50","v":0},{"$f":"'Jan-Jun 2024'!BK50+'Jul-Dez 2024'!BK50+'Jan-Jun 2025'!BK50+'Jul-Dez 2025'!BK50+'Jan-Jun 2026'!BK50+'Jul-Dez 2026'!BK50+'Jan-Jun 2027'!BK50+'Jul-Dez 2027'!BK50","v":0},{"$nulls":3},0,0,0,null,0,0,0,0,0,0,0,{"$f":"'Jan-Jun 2024'!CB50","v":0},{"$f":"'Jan-Jun 2024'!CA50+'Jul-Dez 2024'!CA50+'Jan-Jun 2025'!CA50+'Jul-Dez 2025'!CA50+'Jan-Jun 2026'!CA50+'Jul-Dez 2026'!CA50+'Jan-Jun 2027'!CA50+'Jul-Dez 2027'!CA50","v":0}]
[null,5152,"GMQ","Gestão e Motivação para a Qualidade",{"$nulls":5},"B155",25,"Luís Ferreira",{"$nulls":6},6408,"PCC","Processos de Conformação / Corte",{"$nulls":5},"D334",25,"Pedro Santos",{"$nulls":5},"M","PAC",0,0,0,50,0,0,0,0,0,0,0,{"$f":"'Jan-Jun 2024'!AV51","v":0},{"$f":"'Jan-Jun 2024'!AU51+'Jul-Dez 2024'!AU51+'Jan-Jun 2025'!AU51+'Jul-Dez 2025'!AU51+'Jan-Jun 2026'!AU51+'Jul-Dez 2026'!AU51+'Jan-Jun 2027'!AU51+'Jul-Dez 2027'!AU51","v":0},{"$nulls":3},0,0,0,null,0,0,0,0,0,0,0,{"$f":"'Jan-Jun 2024'!BL51","v":0},{"$f":"'Jan-Jun 2024'!BK51+'Jul-Dez 2024'!BK51+'Jan-Jun 2025'!BK51+'Jul-Dez 2025'!BK51+'Jan-Jun 2026'!BK51+'Jul-Dez 2026'!BK51+'Jan-Jun 2027'!BK51+'Jul-Dez 2027'!BK51","v":0},{"$nulls":3},0,0,0,null,0,0,0,0,0,0,0,{"$f":"'Jan-Jun 2024'!CB51","v":0},{"$f":"'Jan-Jun 2024'!CA51+'Jul-Dez 2024'!CA51+'Jan-Jun 2025'!CA51+'Jul-Dez 2025'!CA51+'Jan-Jun 2026'!CA51+'Jul-Dez 2026'!CA51+'Jan-Jun 2027'!CA51+'Jul-Dez 2027'!CA51","v":0}]
[null,5149,"SGQ","Sistama de Gestão da Qualidade ISO 9001",{"$nulls":5},"F369",25,"Luís Ferreira",{"$nulls":6},6409,"PAA","Processos por Arranque de Apara",{"$nulls":5},"C588",25,"Miguel Franco",{"$nulls":7},0,0,0,null,0,0,0,0,0,0,0,{"$f":"'Jan-Jun 2024'!AV52","v":0},{"$f":"'Jan-Jun 2024'!AU52+'Jul-Dez 2024'!AU52+'Jan-Jun 2025'!AU52+'Jul-Dez 2025'!AU52+'Jan-Jun 2026'!AU52+'Jul-Dez 2026'!AU52+'Jan-Jun 2027'!AU52+'Jul-Dez 2027'!AU52","v":0},{"$nulls":3},0,0,0,null,0,0,0,0,0,0,0,{"$f":"'Jan-Jun 2024'!BL52","v":0},{"$f":"'Jan-Jun 2024'!BK52+'Jul-Dez 2024'!BK52+'Jan-Jun 2025'!BK52+'Jul-Dez 2025'!BK52+'Jan-Jun 2026'!BK52+'Jul-Dez 2026'!BK52+'Jan-Jun 2027'!BK52+'Jul-Dez 2027'!BK52","v":0},{"$nulls":3},0,0,0,null,0,0,0,0,0,0,0,{"$f":"'Jan-Jun 2024'!CB52","v":0},{"$f":"'Jan-Jun 2024'!CA52+'Jul-Dez 2024'!CA52+'Jan-Jun 2025'!CA52+'Jul-Dez 2025'!CA52+'Jan-Jun 2026'!CA52+'Jul-Dez 2026'!CA52+'Jan-Jun 2027'!CA52+'Jul-Dez 2027'!CA52","v":0}]
[null,349,"ASHST","Ambiente, Segurança, Higiene e Saúde no Trabalho",{"$nulls":5},"F423",25,"António Maltez",{"$nulls":6},6410,"IME","Instalação de Máquinas Elétricas",{"$nulls":5},"K252",50,"Emanuel Serrano",{"$nulls":7},0,0,0,null,0,0,0,0,0,0,0,{"$f":"'Jan-Jun 2024'!AV53","v":0},{"$f":"'Jan-Jun 2024'!AU53+'Jul-Dez 2024'!AU53+'Jan-Jun 2025'!AU53+'Jul-Dez 2025'!AU53+'Jan-Jun 2026'!AU53+'Jul-Dez 2026'!AU53+'Jan-Jun 2027'!AU53+'Jul-Dez 2027'!AU53","v":0},{"$nulls":3},0,0,0,null,0,0,0,0,0,0,0,{"$f":"'Jan-Jun 2024'!BL53","v":0},{"$f":"'Jan-Jun 2024'!BK53+'Jul-Dez 2024'!BK53+'Jan-Jun 2025'!BK53+'Jul-Dez 2025'!BK53+'Jan-Jun 2026'!BK53+'Jul-Dez 2026'!BK53+'Jan-Jun 2027'!BK53+'Jul-Dez 2027'!BK53","v":0},{"$nulls":3},0,0,0,null,0,0,0,0,0,0,0,{"$f":"'Jan-Jun 2024'!CB53","v":0},{"$f":"'Jan-Jun 2024'!CA53+'Jul-Dez 2024'!CA53+'Jan-Jun 2025'!CA53+'Jul-Dez 2025'!CA53+'Jan-Jun 2026'!CA53+'Jul-Dez 2026'!CA53+'Jan-Jun 2027'!CA53+'Jul-Dez 2027'!CA53","v":0}]
[null,5653,"DT","Direito do Trabalho",{"$nulls":5},"B154",25,"Natasha Esteves",{"$nulls":6},6411,"ELE","Eletrónica",{"$nulls":5},"K253",50,"Marco Martinho",{"$nulls":7},0,0,0,null,0,0,0,0,0,0,0,{"$f":"'Jan-Jun 2024'!AV54","v":0},{"$f":"'Jan-Jun 2024'!AU54+'Jul-Dez 2024'!AU54+'Jan-Jun 2025'!AU54+'Jul-Dez 2025'!AU54+'Jan-Jun 2026'!AU54+'Jul-Dez 2026'!AU54+'Jan-Jun 2027'!AU54+'Jul-Dez 2027'!AU54","v":0},{"$nulls":3},0,0,0,null,0,0,0,0,0,0,0,{"$f":"'Jan-Jun 2024'!BL54","v":0},{"$f":"'Jan-Jun 2024'!BK54+'Jul-Dez 2024'!BK54+'Jan-Jun 2025'!BK54+'Jul-Dez 2025'!BK54+'Jan-Jun 2026'!BK54+'Jul-Dez 2026'!BK54+'Jan-Jun 2027'!BK54+'Jul-Dez 2027'!BK54","v":0},{"$nulls":3},0,0,0,null,0,0,0,0,0,0,0,{"$f":"'Jan-Jun 2024'!CB54","v":0},{"$f":"'Jan-Jun 2024'!CA54+'Jul-Dez 2024'!CA54+'Jan-Jun 2025'!CA54+'Jul-Dez 2025'!CA54+'Jan-Jun 2026'!CA54+'Jul-Dez 2026'!CA54+'Jan-Jun 2027'!CA54+'Jul-Dez 2027'!CA54","v":0}]
[null,5768,"ICS","Inglês em Contexto Socioprofissional",{"$nulls":5},"L046",25,"Helena Abelho",{"$nulls":6},6412,"CP","Circuitos Pneumáticos",{"$nulls":5},"E329",25,"Vítor Caetano",{"$nulls":7},0,0,0,null,0,0,0,0,0,0,0,{"$f":"'Jan-Jun 2024'!AV55","v":0},{"$f":"'Jan-Jun 2024'!AU55+'Jul-Dez 2024'!AU55+'Jan-Jun 2025'!AU55+'Jul-Dez 2025'!AU55+'Jan-Jun 2026'!AU55+'Jul-Dez 2026'!AU55+'Jan-Jun 2027'!AU55+'Jul-Dez 2027'!AU55","v":0},{"$nulls":3},0,0,0,null,0,0,0,0,0,0,0,{"$f":"'Jan-Jun 2024'!BL55","v":0},{"$f":"'Jan-Jun 2024'!BK55+'Jul-Dez 2024'!BK55+'Jan-Jun 2025'!BK55+'Jul-Dez 2025'!BK55+'Jan-Jun 2026'!BK55+'Jul-Dez 2026'!BK55+'Jan-Jun 2027'!BK55+'Jul-Dez 2027'!BK55","v":0},{"$nulls":3},0,0,0,null,0,0,0,0,0,0,0,{"$f":"'Jan-Jun 2024'!CB55","v":0},{"$f":"'Jan-Jun 2024'!CA55+'Jul-Dez 2024'!CA55+'Jan-Jun 2025'!CA55+'Jul-Dez 2025'!CA55+'Jan-Jun 2026'!CA55+'Jul-Dez 2026'!CA55+'Jan-Jun 2027'!CA55+'Jul-Dez 2027'!CA55","v":0}]
[{"$nulls":18},6413,"CH","Circuitos Óleo-Hidráulicos",{"$nulls":5},"E330",25,"Vítor Caetano",{"$nulls":7},0,0,0,null,0,0,0,0,0,0,0,{"$f":"'Jan-Jun 2024'!AV56","v":0},{"$f":"'Jan-Jun 2024'!AU56+'Jul-Dez 2024'!AU56+'Jan-Jun 2025'!AU56+'Jul-Dez 2025'!AU56+'Jan-Jun 2026'!AU56+'Jul-Dez 2026'!AU56+'Jan-Jun 2027'!AU56+'Jul-Dez 2027'!AU56","v":0},{"$nulls":3},0,0,0,null,0,0,0,0,0,0,0,{"$f":"'Jan-Jun 2024'!BL56","v":0},{"$f":"'Jan-Jun 2024'!BK56+'Jul-Dez 2024'!BK56+'Jan-Jun 2025'!BK56+'Jul-Dez 2025'!BK56+'Jan-Jun 2026'!BK56+'Jul-Dez 2026'!BK56+'Jan-Jun 2027'!BK56+'Jul-Dez 2027'!BK56","v":0},{"$nulls":3},0,0,0,null,0,0,0,0,0,0,0,{"$f":"'Jan-Jun 2024'!CB56","v":0},{"$f":"'Jan-Jun 2024'!CA56+'Jul-Dez 2024'!CA56+'Jan-Jun 2025'!CA56+'Jul-Dez 2025'!CA56+'Jan-Jun 2026'!CA56+'Jul-Dez 2026'!CA56+'Jan-Jun 2027'!CA56+'Jul-Dez 2027'!CA56","v":0}]
[{"$nulls":18},6414,"CLP","Controladores Lógicos Programáveis",{"$nulls":5},"C589",50,"Rafael Matos",{"$nulls":7},0,0,0,null,0,0,0,0,0,0,0,{"$f":"'Jan-Jun 2024'!AV57","v":0},{"$f":"'Jan-Jun 2024'!AU57+'Jul-Dez 2024'!AU57+'Jan-Jun 2025'!AU57+'Jul-Dez 2025'!AU57+'Jan-Jun 2026'!AU57+'Jul-Dez 2026'!AU57+'Jan-Jun 2027'!AU57+'Jul-Dez 2027'!AU57","v":0},{"$nulls":3},0,0,0,null,0,0,0,0,0,0,0,{"$f":"'Jan-Jun 2024'!BL57","v":0},{"$f":"'Jan-Jun 2024'!BK57+'Jul-Dez 2024'!BK57+'Jan-Jun 2025'!BK57+'Jul-Dez 2025'!BK57+'Jan-Jun 2026'!BK57+'Jul-Dez 2026'!BK57+'Jan-Jun 2027'!BK57+'Jul-Dez 2027'!BK57","v":0},{"$nulls":3},0,0,0,null,0,0,0,0,0,0,0,{"$f":"'Jan-Jun 2024'!CB57","v":0},{"$f":"'Jan-Jun 2024'!CA57+'Jul-Dez 2024'!CA57+'Jan-Jun 2025'!CA57+'Jul-Dez 2025'!CA57+'Jan-Jun 2026'!CA57+'Jul-Dez 2026'!CA57+'Jan-Jun 2027'!CA57+'Jul-Dez 2027'!CA57","v":0}]
[{"$nulls":18},6415,"DCM","Desenho de Construções Mecânicas",{"$nulls":5},"A438",50,"Luís Carvalho",{"$nulls":7},0,0,0,null,0,0,0,0,0,0,0,{"$f":"'Jan-Jun 2024'!AV58","v":0},{"$f":"'Jan-Jun 2024'!AU58+'Jul-Dez 2024'!AU58+'Jan-Jun 2025'!AU58+'Jul-Dez 2025'!AU58+'Jan-Jun 2026'!AU58+'Jul-Dez 2026'!AU58+'Jan-Jun 2027'!AU58+'Jul-Dez 2027'!AU58","v":0},{"$nulls":3},0,0,0,null,0,0,0,0,0,0,0,{"$f":"'Jan-Jun 2024'!BL58","v":0},{"$f":"'Jan-Jun 2024'!BK58+'Jul-Dez 2024'!BK58+'Jan-Jun 2025'!BK58+'Jul-Dez 2025'!BK58+'Jan-Jun 2026'!BK58+'Jul-Dez 2026'!BK58+'Jan-Jun 2027'!BK58+'Jul-Dez 2027'!BK58","v":0},{"$nulls":3},0,0,0,null,0,0,0,0,0,0,0,{"$f":"'Jan-Jun 2024'!CB58","v":0},{"$f":"'Jan-Jun 2024'!CA58+'Jul-Dez 2024'!CA58+'Jan-Jun 2025'!CA58+'Jul-Dez 2025'!CA58+'Jan-Jun 2026'!CA58+'Jul-Dez 2026'!CA58+'Jan-Jun 2027'!CA58+'Jul-Dez 2027'!CA58","v":0}]
[{"$nulls":18},6416,"CM","Ciência dos Materiais",{"$nulls":5},"C590",50,"Luís Carvalho",{"$nulls":5},"M","APF",0,0,0,25,0,0,0,0,0,0,0,{"$f":"'Jan-Jun 2024'!AV59","v":0},{"$f":"'Jan-Jun 2024'!AU59+'Jul-Dez 2024'!AU59+'Jan-Jun 2025'!AU59+'Jul-Dez 2025'!AU59+'Jan-Jun 2026'!AU59+'Jul-Dez 2026'!AU59+'Jan-Jun 2027'!AU59+'Jul-Dez 2027'!AU59","v":0},{"$nulls":3},0,0,0,null,0,0,0,0,0,0,0,{"$f":"'Jan-Jun 2024'!BL59","v":0},{"$f":"'Jan-Jun 2024'!BK59+'Jul-Dez 2024'!BK59+'Jan-Jun 2025'!BK59+'Jul-Dez 2025'!BK59+'Jan-Jun 2026'!BK59+'Jul-Dez 2026'!BK59+'Jan-Jun 2027'!BK59+'Jul-Dez 2027'!BK59","v":0},{"$nulls":3},0,0,0,null,0,0,0,0,0,0,0,{"$f":"'Jan-Jun 2024'!CB59","v":0},{"$f":"'Jan-Jun 2024'!CA59+'Jul-Dez 2024'!CA59+'Jan-Jun 2025'!CA59+'Jul-Dez 2025'!CA59+'Jan-Jun 2026'!CA59+'Jul-Dez 2026'!CA59+'Jan-Jun 2027'!CA59+'Jul-Dez 2027'!CA59","v":0}]
[{"$nulls":18},6417,"SD","Sistemas Digitais",{"$nulls":5},"I159",50,"Rafael Matos",{"$nulls":7},0,0,0,null,0,0,0,0,0,0,0,{"$f":"'Jan-Jun 2024'!AV60","v":0},{"$f":"'Jan-Jun 2024'!AU60+'Jul-Dez 2024'!AU60+'Jan-Jun 2025'!AU60+'Jul-Dez 2025'!AU60+'Jan-Jun 2026'!AU60+'Jul-Dez 2026'!AU60+'Jan-Jun 2027'!AU60+'Jul-Dez 2027'!AU60","v":0},{"$nulls":3},0,0,0,null,0,0,0,0,0,0,0,{"$f":"'Jan-Jun 2024'!BL60","v":0},{"$f":"'Jan-Jun 2024'!BK60+'Jul-Dez 2024'!BK60+'Jan-Jun 2025'!BK60+'Jul-Dez 2025'!BK60+'Jan-Jun 2026'!BK60+'Jul-Dez 2026'!BK60+'Jan-Jun 2027'!BK60+'Jul-Dez 2027'!BK60","v":0},{"$nulls":3},0,0,0,null,0,0,0,0,0,0,0,{"$f":"'Jan-Jun 2024'!CB60","v":0},{"$f":"'Jan-Jun 2024'!CA60+'Jul-Dez 2024'!CA60+'Jan-Jun 2025'!CA60+'Jul-Dez 2025'!CA60+'Jan-Jun 2026'!CA60+'Jul-Dez 2026'!CA60+'Jan-Jun 2027'!CA60+'Jul-Dez 2027'!CA60","v":0}]
[{"$nulls":18},6418,"OEM","Órgãos e Elementos de Máquinas",{"$nulls":5},"C591",50,"Luís Carvalho",{"$nulls":7},0,0,0,null,0,0,0,0,0,0,0,{"$f":"'Jan-Jun 2024'!AV61","v":0},{"$f":"'Jan-Jun 2024'!AU61+'Jul-Dez 2024'!AU61+'Jan-Jun 2025'!AU61+'Jul-Dez 2025'!AU61+'Jan-Jun 2026'!AU61+'Jul-Dez 2026'!AU61+'Jan-Jun 2027'!AU61+'Jul-Dez 2027'!AU61","v":0},{"$nulls":3},0,0,0,null,0,0,0,0,0,0,0,{"$f":"'Jan-Jun 2024'!BL61","v":0},{"$f":"'Jan-Jun 2024'!BK61+'Jul-Dez 2024'!BK61+'Jan-Jun 2025'!BK61+'Jul-Dez 2025'!BK61+'Jan-Jun 2026'!BK61+'Jul-Dez 2026'!BK61+'Jan-Jun 2027'!BK61+'Jul-Dez 2027'!BK61","v":0},{"$nulls":3},0,0,0,null,0,0,0,0,0,0,0,{"$f":"'Jan-Jun 2024'!CB61","v":0},{"$f":"'Jan-Jun 2024'!CA61+'Jul-Dez 2024'!CA61+'Jan-Jun 2025'!CA61+'Jul-Dez 2025'!CA61+'Jan-Jun 2026'!CA61+'Jul-Dez 2026'!CA61+'Jan-Jun 2027'!CA61+'Jul-Dez 2027'!CA61","v":0}]
[null,null,"EG","Eletricidade Geral",{"$nulls":5},"K264",50,"Rafael Matos",{"$nulls":6},6419,"IP","Introdução à Programação",{"$nulls":5},"I160",50,"Vítor Caetano",{"$nulls":7},0,0,0,null,0,0,0,0,0,0,0,{"$f":"'Jan-Jun 2024'!AV62","v":0},{"$f":"'Jan-Jun 2024'!AU62+'Jul-Dez 2024'!AU62+'Jan-Jun 2025'!AU62+'Jul-Dez 2025'!AU62+'Jan-Jun 2026'!AU62+'Jul-Dez 2026'!AU62+'Jan-Jun 2027'!AU62+'Jul-Dez 2027'!AU62","v":0},{"$nulls":3},0,0,0,null,0,0,0,0,0,0,0,{"$f":"'Jan-Jun 2024'!BL62","v":0},{"$f":"'Jan-Jun 2024'!BK62+'Jul-Dez 2024'!BK62+'Jan-Jun 2025'!BK62+'Jul-Dez 2025'!BK62+'Jan-Jun 2026'!BK62+'Jul-Dez 2026'!BK62+'Jan-Jun 2027'!BK62+'Jul-Dez 2027'!BK62","v":0},{"$nulls":3},0,0,0,null,0,0,0,0,0,0,0,{"$f":"'Jan-Jun 2024'!CB62","v":0},{"$f":"'Jan-Jun 2024'!CA62+'Jul-Dez 2024'!CA62+'Jan-Jun 2025'!CA62+'Jul-Dez 2025'!CA62+'Jan-Jun 2026'!CA62+'Jul-Dez 2026'!CA62+'Jan-Jun 2027'!CA62+'Jul-Dez 2027'!CA62","v":0}]
[{"$nulls":18},6420,"ELP","Eletrónica de Potência - Fundamentos",{"$nulls":5},"K254",50,"Marco Martinho",{"$nulls":7},0,0,0,null,0,0,0,0,0,0,0,{"$f":"'Jan-Jun 2024'!AV63","v":0},{"$f":"'Jan-Jun 2024'!AU63+'Jul-Dez 2024'!AU63+'Jan-Jun 2025'!AU63+'Jul-Dez 2025'!AU63+'Jan-Jun 2026'!AU63+'Jul-Dez 2026'!AU63+'Jan-Jun 2027'!AU63+'Jul-Dez 2027'!AU63","v":0},{"$nulls":3},0,0,0,null,0,0,0,0,0,0,0,{"$f":"'Jan-Jun 2024'!BL63","v":0},{"$f":"'Jan-Jun 2024'!BK63+'Jul-Dez 2024'!BK63+'Jan-Jun 2025'!BK63+'Jul-Dez 2025'!BK63+'Jan-Jun 2026'!BK63+'Jul-Dez 2026'!BK63+'Jan-Jun 2027'!BK63+'Jul-Dez 2027'!BK63","v":0},{"$nulls":3},0,0,0,null,0,0,0,0,0,0,0,{"$f":"'Jan-Jun 2024'!CB63","v":0},{"$f":"'Jan-Jun 2024'!CA63+'Jul-Dez 2024'!CA63+'Jan-Jun 2025'!CA63+'Jul-Dez 2025'!CA63+'Jan-Jun 2026'!CA63+'Jul-Dez 2026'!CA63+'Jan-Jun 2027'!CA63+'Jul-Dez 2027'!CA63","v":0}]
[null,null,"IGE","Inteligência Emocional e Gestão Emocional",{"$nulls":6},60,"Marta Leal",{"$nulls":6},6421,"MM","Microprocessadores / Microcontroladores",{"$nulls":5},"I161",50,"Marco Martinho",{"$nulls":7},0,0,0,null,0,0,0,0,0,0,0,{"$f":"'Jan-Jun 2024'!AV64","v":0},{"$f":"'Jan-Jun 2024'!AU64+'Jul-Dez 2024'!AU64+'Jan-Jun 2025'!AU64+'Jul-Dez 2025'!AU64+'Jan-Jun 2026'!AU64+'Jul-Dez 2026'!AU64+'Jan-Jun 2027'!AU64+'Jul-Dez 2027'!AU64","v":0},{"$nulls":3},0,0,0,null,0,0,0,0,0,0,0,{"$f":"'Jan-Jun 2024'!BL64","v":0},{"$f":"'Jan-Jun 2024'!BK64+'Jul-Dez 2024'!BK64+'Jan-Jun 2025'!BK64+'Jul-Dez 2025'!BK64+'Jan-Jun 2026'!BK64+'Jul-Dez 2026'!BK64+'Jan-Jun 2027'!BK64+'Jul-Dez 2027'!BK64","v":0},{"$nulls":3},0,0,0,null,0,0,0,0,0,0,0,{"$f":"'Jan-Jun 2024'!CB64","v":0},{"$f":"'Jan-Jun 2024'!CA64+'Jul-Dez 2024'!CA64+'Jan-Jun 2025'!CA64+'Jul-Dez 2025'!CA64+'Jan-Jun 2026'!CA64+'Jul-Dez 2026'!CA64+'Jan-Jun 2027'!CA64+'Jul-Dez 2027'!CA64","v":0}]
[{"$nulls":18},5134,"ROB","Robótica - Fundamentos",{"$nulls":5},"E331",50,"Marco Martinho",{"$nulls":7},0,0,0,null,0,0,0,0,0,0,0,{"$f":"'Jan-Jun 2024'!AV65","v":0},{"$f":"'Jan-Jun 2024'!AU65+'Jul-Dez 2024'!AU65+'Jan-Jun 2025'!AU65+'Jul-Dez 2025'!AU65+'Jan-Jun 2026'!AU65+'Jul-Dez 2026'!AU65+'Jan-Jun 2027'!AU65+'Jul-Dez 2027'!AU65","v":0},{"$nulls":3},0,0,0,null,0,0,0,0,0,0,0,{"$f":"'Jan-Jun 2024'!BL65","v":0},{"$f":"'Jan-Jun 2024'!BK65+'Jul-Dez 2024'!BK65+'Jan-Jun 2025'!BK65+'Jul-Dez 2025'!BK65+'Jan-Jun 2026'!BK65+'Jul-Dez 2026'!BK65+'Jan-Jun 2027'!BK65+'Jul-Dez 2027'!BK65","v":0},{"$nulls":3},0,0,0,null,0,0,0,0,0,0,0,{"$f":"'Jan-Jun 2024'!CB65","v":0},{"$f":"'Jan-Jun 2024'!CA65+'Jul-Dez 2024'!CA65+'Jan-Jun 2025'!CA65+'Jul-Dez 2025'!CA65+'Jan-Jun 2026'!CA65+'Jul-Dez 2026'!CA65+'Jan-Jun 2027'!CA65+'Jul-Dez 2027'!CA65","v":0}]
[{"$nulls":18},6422,"MET","Metrologia por Coordenadas",{"$nulls":5},"C592",50,"Miguel Franco",{"$nulls":7},0,0,0,null,0,0,0,0,0,0,0,{"$f":"'Jan-Jun 2024'!AV66","v":0},{"$f":"'Jan-Jun 2024'!AU66+'Jul-Dez 2024'!AU66+'Jan-Jun 2025'!AU66+'Jul-Dez 2025'!AU66+'Jan-Jun 2026'!AU66+'Jul-Dez 2026'!AU66+'Jan-Jun 2027'!AU66+'Jul-Dez 2027'!AU66","v":0},{"$nulls":3},0,0,0,null,0,0,0,0,0,0,0,{"$f":"'Jan-Jun 2024'!BL66","v":0},{"$f":"'Jan-Jun 2024'!BK66+'Jul-Dez 2024'!BK66+'Jan-Jun 2025'!BK66+'Jul-Dez 2025'!BK66+'Jan-Jun 2026'!BK66+'Jul-Dez 2026'!BK66+'Jan-Jun 2027'!BK66+'Jul-Dez 2027'!BK66","v":0},{"$nulls":3},0,0,0,null,0,0,0,0,0,0,0,{"$f":"'Jan-Jun 2024'!CB66","v":0},{"$f":"'Jan-Jun 2024'!CA66+'Jul-Dez 2024'!CA66+'Jan-Jun 2025'!CA66+'Jul-Dez 2025'!CA66+'Jan-Jun 2026'!CA66+'Jul-Dez 2026'!CA66+'Jan-Jun 2027'!CA66+'Jul-Dez 2027'!CA66","v":0}]
[{"$nulls":18},6423,"CNC","CNC - Comando Numérico por Computador",{"$nulls":5},"C593",50,"Miguel Paulo",{"$nulls":7},0,0,0,null,0,0,0,0,0,0,0,{"$f":"'Jan-Jun 2024'!AV67","v":0},{"$f":"'Jan-Jun 2024'!AU67+'Jul-Dez 2024'!AU67+'Jan-Jun 2025'!AU67+'Jul-Dez 2025'!AU67+'Jan-Jun 2026'!AU67+'Jul-Dez 2026'!AU67+'Jan-Jun 2027'!AU67+'Jul-Dez 2027'!AU67","v":0},{"$nulls":3},0,0,0,null,0,0,0,0,0,0,0,{"$f":"'Jan-Jun 2024'!BL67","v":0},{"$f":"'Jan-Jun 2024'!BK67+'Jul-Dez 2024'!BK67+'Jan-Jun 2025'!BK67+'Jul-Dez 2025'!BK67+'Jan-Jun 2026'!BK67+'Jul-Dez 2026'!BK67+'Jan-Jun 2027'!BK67+'Jul-Dez 2027'!BK67","v":0},{"$nulls":3},0,0,0,null,0,0,0,0,0,0,0,{"$f":"'Jan-Jun 2024'!CB67","v":0},{"$f":"'Jan-Jun 2024'!CA67+'Jul-Dez 2024'!CA67+'Jan-Jun 2025'!CA67+'Jul-Dez 2025'!CA67+'Jan-Jun 2026'!CA67+'Jul-Dez 2026'!CA67+'Jan-Jun 2027'!CA67+'Jul-Dez 2027'!CA67","v":0}]
[null,null,"Salas:",null,"SEG","TER","QUA","QUI","SEX",{"$nulls":9},6424,"CAM","CAM - Fabricação Assistida por Computador",{"$nulls":5},"C594",50,"João Franco",{"$nulls":7},0,0,0,null,0,0,0,0,0,0,0,{"$f":"'Jan-Jun 2024'!AV68","v":0},{"$f":"'Jan-Jun 2024'!AU68+'Jul-Dez 2024'!AU68+'Jan-Jun 2025'!AU68+'Jul-Dez 2025'!AU68+'Jan-Jun 2026'!AU68+'Jul-Dez 2026'!AU68+'Jan-Jun 2027'!AU68+'Jul-Dez 2027'!AU68","v":0},{"$nulls":3},0,0,0,null,0,0,0,0,0,0,0,{"$f":"'Jan-Jun 2024'!BL68","v":0},{"$f":"'Jan-Jun 2024'!BK68+'Jul-Dez 2024'!BK68+'Jan-Jun 2025'!BK68+'Jul-Dez 2025'!BK68+'Jan-Jun 2026'!BK68+'Jul-Dez 2026'!BK68+'Jan-Jun 2027'!BK68+'Jul-Dez 2027'!BK68","v":0},{"$nulls":3},0,0,0,null,0,0,0,0,0,0,0,{"$f":"'Jan-Jun 2024'!CB68","v":0},{"$f":"'Jan-Jun 2024'!CA68+'Jul-Dez 2024'!CA68+'Jan-Jun 2025'!CA68+'Jul-Dez 2025'!CA68+'Jan-Jun 2026'!CA68+'Jul-Dez 2026'!CA68+'Jan-Jun 2027'!CA68+'Jul-Dez 2027'!CA68","v":0}]
[{"$nulls":18},6425,"PAC","Projecto Assistido por Computador",{"$nulls":5},"A434",50,"João Catarino",{"$nulls":7},0,0,0,null,0,0,0,0,0,0,0,{"$f":"'Jan-Jun 2024'!AV69","v":0},{"$f":"'Jan-Jun 2024'!AU69+'Jul-Dez 2024'!AU69+'Jan-Jun 2025'!AU69+'Jul-Dez 2025'!AU69+'Jan-Jun 2026'!AU69+'Jul-Dez 2026'!AU69+'Jan-Jun 2027'!AU69+'Jul-Dez 2027'!AU69","v":0},{"$nulls":3},0,0,0,null,0,0,0,0,0,0,0,{"$f":"'Jan-Jun 2024'!BL69","v":0},{"$f":"'Jan-Jun 2024'!BK69+'Jul-Dez 2024'!BK69+'Jan-Jun 2025'!BK69+'Jul-Dez 2025'!BK69+'Jan-Jun 2026'!BK69+'Jul-Dez 2026'!BK69+'Jan-Jun 2027'!BK69+'Jul-Dez 2027'!BK69","v":0},{"$nulls":3},0,0,0,null,0,0,0,0,0,0,0,{"$f":"'Jan-Jun 2024'!CB69","v":0},{"$f":"'Jan-Jun 2024'!CA69+'Jul-Dez 2024'!CA69+'Jan-Jun 2025'!CA69+'Jul-Dez 2025'!CA69+'Jan-Jun 2026'!CA69+'Jul-Dez 2026'!CA69+'Jan-Jun 2027'!CA69+'Jul-Dez 2027'!CA69","v":0}]
[{"$nulls":17},"Estágio",null,"PCT","Prática em Contexto Trabalho",{"$nulls":5},"K259",560,"Tutores",{"$nulls":7},0,0,0,null,0,0,0,0,0,0,0,{"$f":"'Jan-Jun 2024'!AV70","v":0},{"$f":"'Jan-Jun 2024'!AU70+'Jul-Dez 2024'!AU70+'Jan-Jun 2025'!AU70+'Jul-Dez 2025'!AU70+'Jan-Jun 2026'!AU70+'Jul-Dez 2026'!AU70+'Jan-Jun 2027'!AU70+'Jul-Dez 2027'!AU70","v":0},{"$nulls":3},0,0,0,null,0,0,0,0,0,0,0,{"$f":"'Jan-Jun 2024'!BL70","v":0},{"$f":"'Jan-Jun 2024'!BK70+'Jul-Dez 2024'!BK70+'Jan-Jun 2025'!BK70+'Jul-Dez 2025'!BK70+'Jan-Jun 2026'!BK70+'Jul-Dez 2026'!BK70+'Jan-Jun 2027'!BK70+'Jul-Dez 2027'!BK70","v":0},{"$nulls":3},0,0,0,null,0,0,0,0,0,0,0,{"$f":"'Jan-Jun 2024'!CB70","v":0},{"$f":"'Jan-Jun 2024'!CA70+'Jul-Dez 2024'!CA70+'Jan-Jun 2025'!CA70+'Jul-Dez 2025'!CA70+'Jan-Jun 2026'!CA70+'Jul-Dez 2026'!CA70+'Jan-Jun 2027'!CA70+'Jul-Dez 2027'!CA70","v":0}]
[null,null,"R. Quantitativas:",{"$nulls":14},"Projecto Final",null,"APF","Acompanhamento ao Projeto Final",{"$nulls":6},16,"Orientadores",{"$nulls":7},0,0,0,null,0,0,0,0,0,0,0,{"$f":"'Jan-Jun 2024'!AV71","v":0},{"$f":"'Jan-Jun 2024'!AU71+'Jul-Dez 2024'!AU71+'Jan-Jun 2025'!AU71+'Jul-Dez 2025'!AU71+'Jan-Jun 2026'!AU71+'Jul-Dez 2026'!AU71+'Jan-Jun 2027'!AU71+'Jul-Dez 2027'!AU71","v":0},{"$nulls":3},0,0,0,null,0,0,0,0,0,0,0,{"$f":"'Jan-Jun 2024'!BL71","v":0},{"$f":"'Jan-Jun 2024'!BK71+'Jul-Dez 2024'!BK71+'Jan-Jun 2025'!BK71+'Jul-Dez 2025'!BK71+'Jan-Jun 2026'!BK71+'Jul-Dez 2026'!BK71+'Jan-Jun 2027'!BK71+'Jul-Dez 2027'!BK71","v":0},{"$nulls":3},0,0,0,null,0,0,0,0,0,0,0,{"$f":"'Jan-Jun 2024'!CB71","v":0},{"$f":"'Jan-Jun 2024'!CA71+'Jul-Dez 2024'!CA71+'Jan-Jun 2025'!CA71+'Jul-Dez 2025'!CA71+'Jan-Jun 2026'!CA71+'Jul-Dez 2026'!CA71+'Jan-Jun 2027'!CA71+'Jul-Dez 2027'!CA71","v":0}]
[{"$nulls":19},"PFI","Projecto Final Integrado - Apresentação e Discussão",{"$nulls":7},"Júri",{"$nulls":7},0,{"$f":"IF($AK$4=$DH$8,AU72,IF($AK$4=$DH$9,AV72,IF($AK$4=$DH$10,AW72,IF($AK$4=$DH$11,AO72,IF($AK$4=$DH$12,AP72,IF($AK$4=$DH$13,AQ72,IF($AK$4=$DH$14,AR72,IF($AK$4=$DH$15,AS72,IF($AK$4=$DH$16,AT72,\"\")))))))))","v":0},0,null,0,0,0,0,0,0,0,{"$f":"'Jan-Jun 2024'!AV72","v":0},{"$f":"'Jan-Jun 2024'!AU72+'Jul-Dez 2024'!AU72+'Jan-Jun 2025'!AU72+'Jul-Dez 2025'!AU72+'Jan-Jun 2026'!AU72+'Jul-Dez 2026'!AU72+'Jan-Jun 2027'!AU72+'Jul-Dez 2027'!AU72","v":0},{"$nulls":3},0,{"$f":"IF($AK$4=$DH$8,BK72,IF($AK$4=$DH$9,BL72,IF($AK$4=$DH$10,BM72,IF($AK$4=$DH$11,BE72,IF($AK$4=$DH$12,BF72,IF($AK$4=$DH$13,BG72,IF($AK$4=$DH$14,BH72,IF($AK$4=$DH$15,BI72,IF($AK$4=$DH$16,BJ72,\"\")))))))))","v":0},0,null,0,0,0,0,0,0,0,{"$f":"'Jan-Jun 2024'!BL72","v":0},{"$f":"'Jan-Jun 2024'!BK72+'Jul-Dez 2024'!BK72+'Jan-Jun 2025'!BK72+'Jul-Dez 2025'!BK72+'Jan-Jun 2026'!BK72+'Jul-Dez 2026'!BK72+'Jan-Jun 2027'!BK72+'Jul-Dez 2027'!BK72","v":0},{"$nulls":3},0,{"$f":"IF($AK$4=$DH$8,CA72,IF($AK$4=$DH$9,CB72,IF($AK$4=$DH$10,CC72,IF($AK$4=$DH$11,BU72,IF($AK$4=$DH$12,BV72,IF($AK$4=$DH$13,BW72,IF($AK$4=$DH$14,BX72,IF($AK$4=$DH$15,BY72,IF($AK$4=$DH$16,BZ72,\"\")))))))))","v":0},0,null,0,0,0,0,0,0,0,{"$f":"'Jan-Jun 2024'!CB72","v":0},{"$f":"'Jan-Jun 2024'!CA72+'Jul-Dez 2024'!CA72+'Jan-Jun 2025'!CA72+'Jul-Dez 2025'!CA72+'Jan-Jun 2026'!CA72+'Jul-Dez 2026'!CA72+'Jan-Jun 2027'!CA72+'Jul-Dez 2027'!CA72","v":0}]
[{"$nulls":36},{"$f":"IF(AI73=$DI$8,AM73,IF(AI73=$DI$9,AM73,IF(AI73=$DI$10,AL73,)))","v":0},0,{"$f":"IF(AI73=$DI$8,AL73,IF(AI73=$DI$9,AM74+AL73,IF(AI73=$DI$10,IF(AI74=$DI$10,AM74+AL73,AL73),)))","v":0},null,{"$f":"COUNTIF($C$10:$AG$13,$AJ73)","v":0},{"$f":"COUNTIF($C$17:$AG$20,$AJ73)","v":0},{"$f":"COUNTIF($C$24:$AG$27,$AJ73)","v":0},{"$f":"COUNTIF($C$31:$AG$34,$AJ73)","v":0},{"$f":"COUNTIF($C$38:$AG$41,$AJ73)","v":0},{"$f":"COUNTIF($C$45:$AG$48,$AJ73)","v":0},{"$f":"SUM(AO73:AT73)","v":0},{"$f":"'Jan-Jun 2024'!AV73","v":0},{"$f":"'Jan-Jun 2024'!AU73+'Jul-Dez 2024'!AU73+'Jan-Jun 2025'!AU73+'Jul-Dez 2025'!AU73+'Jan-Jun 2026'!AU73+'Jul-Dez 2026'!AU73+'Jan-Jun 2027'!AU73+'Jul-Dez 2027'!AU73","v":0},{"$nulls":3},{"$f":"IF(AY73=$DI$8,BC73,IF(AY73=$DI$9,BC73,IF(AY73=$DI$10,BB73,)))","v":0},0,{"$f":"IF(AY73=$DI$8,BB73,IF(AY73=$DI$9,BC74+BB73,IF(AY73=$DI$10,IF(AY74=$DI$10,BC74+BB73,BB73),)))","v":0},null,{"$f":"COUNTIF($C$10:$AG$13,$AZ73)","v":0},{"$f":"COUNTIF($C$17:$AG$20,$AZ73)","v":0},{"$f":"COUNTIF($C$24:$AG$27,$AZ73)","v":0},{"$f":"COUNTIF($C$31:$AG$34,$AZ73)","v":0},{"$f":"COUNTIF($C$38:$AG$41,$AZ73)","v":0},{"$f":"COUNTIF($C$45:$AG$48,$AZ73)","v":0},{"$f":"SUM(BE73:BJ73)","v":0},{"$f":"'Jan-Jun 2024'!BL73","v":0},{"$f":"'Jan-Jun 2024'!BK73+'Jul-Dez 2024'!BK73+'Jan-Jun 2025'!BK73+'Jul-Dez 2025'!BK73+'Jan-Jun 2026'!BK73+'Jul-Dez 2026'!BK73+'Jan-Jun 2027'!BK73+'Jul-Dez 2027'!BK73","v":0},{"$nulls":3},{"$f":"IF(BO73=$DI$8,BS73,IF(BO73=$DI$9,BS73,IF(BO73=$DI$10,BR73,)))","v":0},0,{"$f":"IF(BO73=$DI$8,BR73,IF(BO73=$DI$9,BS74+BR73,IF(BO73=$DI$10,IF(BO74=$DI$10,BS74+BR73,BR73),)))","v":0},null,{"$f":"COUNTIF($C$10:$AG$13,$BP73)","v":0},{"$f":"COUNTIF($C$17:$AG$20,$BP73)","v":0},{"$f":"COUNTIF($C$24:$AG$27,$BP73)","v":0},{"$f":"COUNTIF($C$31:$AG$34,$BP73)","v":0},{"$f":"COUNTIF($C$38:$AG$41,$BP73)","v":0},{"$f":"COUNTIF($C$45:$AG$48,$BP73)","v":0},{"$f":"SUM(BU73:BZ73)","v":0},{"$f":"'Jan-Jun 2024'!CB73","v":0},{"$f":"'Jan-Jun 2024'!CA73+'Jul-Dez 2024'!CA73+'Jan-Jun 2025'!CA73+'Jul-Dez 2025'!CA73+'Jan-Jun 2026'!CA73+'Jul-Dez 2026'!CA73+'Jan-Jun 2027'!CA73+'Jul-Dez 2027'!CA73","v":0}]
[]
[{"$nulls":36},{"$f":"SUMIF(AI8:AI73,\"=M\",AK8:AK73)+SUMIF(AI8:AI73,\"=T\",AK8:AK73)","v":0},null,null,{"$f":"SUMIF(AI8:AI73,\"=M\",AN8:AN73)+SUMIF(AI8:AI73,\"=T\",AN8:AN73)","v":900},{"$nulls":12},{"$f":"SUMIF(AY8:AY73,\"=M\",BA8:BA73)+SUMIF(AY8:AY73,\"=T\",BA8:BA73)","v":0},null,null,{"$f":"SUMIF(AY8:AY73,\"=M\",BD8:BD73)+SUMIF(AY8:AY73,\"=T\",BD8:BD73)","v":260},{"$nulls":12},{"$f":"SUMIF(BO8:BO73,\"=M\",BQ8:BQ73)+SUMIF(BO8:BO73,\"=T\",BQ8:BQ73)","v":0},null,null,{"$f":"SUMIF(BO8:BO73,\"=M\",BT8:BT73)+SUMIF(BO8:BO73,\"=T\",BT8:BT73)","v":0}]
[{"$nulls":34},"Totais",null,{"$f":"AK75+BA75+BQ75","v":0},null,null,{"$f":"AN75+BD75+BT75","v":1160}]